BEGIN:VCALENDAR
VERSION:2.0
PRODID:-//Springfield Parking Authority - ECPv6.15.20//NONSGML v1.0//EN
CALSCALE:GREGORIAN
METHOD:PUBLISH
X-ORIGINAL-URL:https://springfieldparkingauthority.com
X-WR-CALDESC:Events for Springfield Parking Authority
REFRESH-INTERVAL;VALUE=DURATION:PT1H
X-Robots-Tag:noindex
X-PUBLISHED-TTL:PT1H
BEGIN:VTIMEZONE
TZID:America/New_York
BEGIN:DAYLIGHT
TZOFFSETFROM:-0500
TZOFFSETTO:-0400
TZNAME:EDT
DTSTART:20160313T070000
END:DAYLIGHT
BEGIN:STANDARD
TZOFFSETFROM:-0400
TZOFFSETTO:-0500
TZNAME:EST
DTSTART:20161106T060000
END:STANDARD
BEGIN:DAYLIGHT
TZOFFSETFROM:-0500
TZOFFSETTO:-0400
TZNAME:EDT
DTSTART:20170312T070000
END:DAYLIGHT
BEGIN:STANDARD
TZOFFSETFROM:-0400
TZOFFSETTO:-0500
TZNAME:EST
DTSTART:20171105T060000
END:STANDARD
BEGIN:DAYLIGHT
TZOFFSETFROM:-0500
TZOFFSETTO:-0400
TZNAME:EDT
DTSTART:20180311T070000
END:DAYLIGHT
BEGIN:STANDARD
TZOFFSETFROM:-0400
TZOFFSETTO:-0500
TZNAME:EST
DTSTART:20181104T060000
END:STANDARD
END:VTIMEZONE
BEGIN:VEVENT
DTSTART;TZID=America/New_York:20170218T190000
DTEND;TZID=America/New_York:20170218T210000
DTSTAMP:20260419T234819
CREATED:20170126T154818Z
LAST-MODIFIED:20170126T154818Z
UID:10414-1487444400-1487451600@springfieldparkingauthority.com
SUMMARY:Thunderbirds VS Wilkes-Barre
DESCRIPTION:Parking is available at the Civic Center Garage – Free With Ticket \n 
URL:https://springfieldparkingauthority.com/event/thunderbirds-vs-wilkes-barre-8/
LOCATION:MassMutual Center\, 1277 Main Street\, Springfield\, MA\, 01103\, United States
END:VEVENT
BEGIN:VEVENT
DTSTART;TZID=America/New_York:20170218T190000
DTEND;TZID=America/New_York:20170218T210000
DTSTAMP:20260419T234819
CREATED:20170126T154818Z
LAST-MODIFIED:20170126T154818Z
UID:3121-1487444400-1487451600@springfieldparkingauthority.com
SUMMARY:Thunderbirds VS Wilkes-Barre
DESCRIPTION:Parking is available at the Civic Center Garage – Free With Ticket \n 
URL:https://springfieldparkingauthority.com/event/thunderbirds-vs-wilkes-barre/
LOCATION:MassMutual Center\, 1277 Main Street\, Springfield\, MA\, 01103\, United States
END:VEVENT
BEGIN:VEVENT
DTSTART;TZID=America/New_York:20170218T193000
DTEND;TZID=America/New_York:20170218T220000
DTSTAMP:20260419T234819
CREATED:20170126T154605Z
LAST-MODIFIED:20170126T154605Z
UID:3117-1487446200-1487455200@springfieldparkingauthority.com
SUMMARY:A Life In Opera- Celebrating Leontyne Price
DESCRIPTION:Parking is available at the I-91 North and South Garages – Free with Ticket
URL:https://springfieldparkingauthority.com/event/a-life-in-opera-celebrating-leontyne-price/
LOCATION:Symphony Hall\, 34 Court St.\, Springfield\, MA\, 01103\, United States
END:VEVENT
BEGIN:VEVENT
DTSTART;TZID=America/New_York:20170218T193000
DTEND;TZID=America/New_York:20170218T220000
DTSTAMP:20260419T234819
CREATED:20170126T154605Z
LAST-MODIFIED:20170126T154605Z
UID:10412-1487446200-1487455200@springfieldparkingauthority.com
SUMMARY:A Life In Opera- Celebrating Leontyne Price
DESCRIPTION:Parking is available at the I-91 North and South Garages – Free with Ticket
URL:https://springfieldparkingauthority.com/event/a-life-in-opera-celebrating-leontyne-price-2/
LOCATION:Symphony Hall\, 34 Court St.\, Springfield\, MA\, 01103\, United States
END:VEVENT
BEGIN:VEVENT
DTSTART;TZID=America/New_York:20170218T193000
DTEND;TZID=America/New_York:20170218T220000
DTSTAMP:20260419T234819
CREATED:20170126T154719Z
LAST-MODIFIED:20170126T154719Z
UID:10413-1487446200-1487455200@springfieldparkingauthority.com
SUMMARY:I See You Made an Effort
DESCRIPTION:Parking is available at the Columbus Center Garage – Free with Ticket \n 
URL:https://springfieldparkingauthority.com/event/i-see-you-made-an-effort-2-2/
LOCATION:Columbus Center\, 1 Columbus Center\, Springfield\, MA\, 01103\, United States
END:VEVENT
BEGIN:VEVENT
DTSTART;TZID=America/New_York:20170218T193000
DTEND;TZID=America/New_York:20170218T220000
DTSTAMP:20260419T234819
CREATED:20170126T154719Z
LAST-MODIFIED:20170126T154719Z
UID:3119-1487446200-1487455200@springfieldparkingauthority.com
SUMMARY:I See You Made an Effort
DESCRIPTION:Parking is available at the Columbus Center Garage – Free with Ticket \n 
URL:https://springfieldparkingauthority.com/event/i-see-you-made-an-effort-2/
LOCATION:Columbus Center\, 1 Columbus Center\, Springfield\, MA\, 01103\, United States
END:VEVENT
END:VCALENDAR