BEGIN:VCALENDAR
VERSION:2.0
PRODID:-//Springfield Parking Authority - ECPv6.15.20//NONSGML v1.0//EN
CALSCALE:GREGORIAN
METHOD:PUBLISH
X-WR-CALNAME:Springfield Parking Authority
X-ORIGINAL-URL:https://springfieldparkingauthority.com
X-WR-CALDESC:Events for Springfield Parking Authority
REFRESH-INTERVAL;VALUE=DURATION:PT1H
X-Robots-Tag:noindex
X-PUBLISHED-TTL:PT1H
BEGIN:VTIMEZONE
TZID:America/New_York
BEGIN:DAYLIGHT
TZOFFSETFROM:-0500
TZOFFSETTO:-0400
TZNAME:EDT
DTSTART:20160313T070000
END:DAYLIGHT
BEGIN:STANDARD
TZOFFSETFROM:-0400
TZOFFSETTO:-0500
TZNAME:EST
DTSTART:20161106T060000
END:STANDARD
BEGIN:DAYLIGHT
TZOFFSETFROM:-0500
TZOFFSETTO:-0400
TZNAME:EDT
DTSTART:20170312T070000
END:DAYLIGHT
BEGIN:STANDARD
TZOFFSETFROM:-0400
TZOFFSETTO:-0500
TZNAME:EST
DTSTART:20171105T060000
END:STANDARD
BEGIN:DAYLIGHT
TZOFFSETFROM:-0500
TZOFFSETTO:-0400
TZNAME:EDT
DTSTART:20180311T070000
END:DAYLIGHT
BEGIN:STANDARD
TZOFFSETFROM:-0400
TZOFFSETTO:-0500
TZNAME:EST
DTSTART:20181104T060000
END:STANDARD
END:VTIMEZONE
BEGIN:VEVENT
DTSTART;TZID=America/New_York:20170304T070000
DTEND;TZID=America/New_York:20170304T120000
DTSTAMP:20260419T122326
CREATED:20170301T153359Z
LAST-MODIFIED:20170301T153359Z
UID:3242-1488610800-1488628800@springfieldparkingauthority.com
SUMMARY:THE NORTHEAST FLORAL EXPO 2017
DESCRIPTION:Parking is available at the I-91 North and South Garages – On the Clock \n 
URL:https://springfieldparkingauthority.com/event/the-northeast-floral-expo-2017/
LOCATION:Sheraton Hotel\, One Monarch Place\, Springfield\, MA\, 01103\, United States
END:VEVENT
BEGIN:VEVENT
DTSTART;TZID=America/New_York:20170304T070000
DTEND;TZID=America/New_York:20170304T120000
DTSTAMP:20260419T122326
CREATED:20170301T153359Z
LAST-MODIFIED:20170301T153359Z
UID:10443-1488610800-1488628800@springfieldparkingauthority.com
SUMMARY:THE NORTHEAST FLORAL EXPO 2017
DESCRIPTION:Parking is available at the I-91 North and South Garages – On the Clock \n 
URL:https://springfieldparkingauthority.com/event/the-northeast-floral-expo-2017-3/
LOCATION:Sheraton Hotel\, One Monarch Place\, Springfield\, MA\, 01103\, United States
END:VEVENT
BEGIN:VEVENT
DTSTART;TZID=America/New_York:20170304T073000
DTEND;TZID=America/New_York:20170304T100000
DTSTAMP:20260419T122326
CREATED:20170301T153650Z
LAST-MODIFIED:20170301T153650Z
UID:10444-1488612600-1488621600@springfieldparkingauthority.com
SUMMARY:ON STAGE AMERICA
DESCRIPTION:Parking is available at the Civic Center Garage – $7 & $12 Prepay \n 
URL:https://springfieldparkingauthority.com/event/on-stage-america-3-2/
LOCATION:MassMutual Center\, 1277 Main Street\, Springfield\, MA\, 01103\, United States
END:VEVENT
BEGIN:VEVENT
DTSTART;TZID=America/New_York:20170304T073000
DTEND;TZID=America/New_York:20170304T100000
DTSTAMP:20260419T122326
CREATED:20170301T153650Z
LAST-MODIFIED:20170301T153650Z
UID:3244-1488612600-1488621600@springfieldparkingauthority.com
SUMMARY:ON STAGE AMERICA
DESCRIPTION:Parking is available at the Civic Center Garage – $7 & $12 Prepay \n 
URL:https://springfieldparkingauthority.com/event/on-stage-america-3/
LOCATION:MassMutual Center\, 1277 Main Street\, Springfield\, MA\, 01103\, United States
END:VEVENT
BEGIN:VEVENT
DTSTART;TZID=America/New_York:20170304T140000
DTEND;TZID=America/New_York:20170304T170000
DTSTAMP:20260419T122326
CREATED:20170301T153258Z
LAST-MODIFIED:20170301T153258Z
UID:10442-1488636000-1488646800@springfieldparkingauthority.com
SUMMARY:AN EVENING WITH THE IRISH TENORS REHEARSAL
DESCRIPTION:Parking is available at the I-91 North and South Garages – On the Clock \n 
URL:https://springfieldparkingauthority.com/event/an-evening-with-the-irish-tenors-rehearsal-2/
LOCATION:Symphony Hall\, 34 Court St.\, Springfield\, MA\, 01103\, United States
END:VEVENT
BEGIN:VEVENT
DTSTART;TZID=America/New_York:20170304T140000
DTEND;TZID=America/New_York:20170304T170000
DTSTAMP:20260419T122326
CREATED:20170301T153258Z
LAST-MODIFIED:20170301T153258Z
UID:3240-1488636000-1488646800@springfieldparkingauthority.com
SUMMARY:AN EVENING WITH THE IRISH TENORS REHEARSAL
DESCRIPTION:Parking is available at the I-91 North and South Garages – On the Clock \n 
URL:https://springfieldparkingauthority.com/event/an-evening-with-the-irish-tenors-rehearsal/
LOCATION:Symphony Hall\, 34 Court St.\, Springfield\, MA\, 01103\, United States
END:VEVENT
BEGIN:VEVENT
DTSTART;TZID=America/New_York:20170304T193000
DTEND;TZID=America/New_York:20170304T220000
DTSTAMP:20260419T122326
CREATED:20170301T153047Z
LAST-MODIFIED:20170301T153047Z
UID:10441-1488655800-1488664800@springfieldparkingauthority.com
SUMMARY:AN EVENING WITH IRISH TENORS
DESCRIPTION:Parking is available at the I-91 North and South Garages – Free with Ticket
URL:https://springfieldparkingauthority.com/event/an-evening-with-irish-tenors-2/
LOCATION:Symphony Hall\, 34 Court St.\, Springfield\, MA\, 01103\, United States
END:VEVENT
BEGIN:VEVENT
DTSTART;TZID=America/New_York:20170304T193000
DTEND;TZID=America/New_York:20170304T220000
DTSTAMP:20260419T122326
CREATED:20170301T153047Z
LAST-MODIFIED:20170301T153047Z
UID:3234-1488655800-1488664800@springfieldparkingauthority.com
SUMMARY:AN EVENING WITH IRISH TENORS
DESCRIPTION:Parking is available at the I-91 North and South Garages – Free with Ticket
URL:https://springfieldparkingauthority.com/event/an-evening-with-irish-tenors/
LOCATION:Symphony Hall\, 34 Court St.\, Springfield\, MA\, 01103\, United States
END:VEVENT
END:VCALENDAR