BEGIN:VCALENDAR
VERSION:2.0
PRODID:-//Springfield Parking Authority - ECPv6.15.20//NONSGML v1.0//EN
CALSCALE:GREGORIAN
METHOD:PUBLISH
X-WR-CALNAME:Springfield Parking Authority
X-ORIGINAL-URL:https://springfieldparkingauthority.com
X-WR-CALDESC:Events for Springfield Parking Authority
REFRESH-INTERVAL;VALUE=DURATION:PT1H
X-Robots-Tag:noindex
X-PUBLISHED-TTL:PT1H
BEGIN:VTIMEZONE
TZID:America/New_York
BEGIN:DAYLIGHT
TZOFFSETFROM:-0500
TZOFFSETTO:-0400
TZNAME:EDT
DTSTART:20160313T070000
END:DAYLIGHT
BEGIN:STANDARD
TZOFFSETFROM:-0400
TZOFFSETTO:-0500
TZNAME:EST
DTSTART:20161106T060000
END:STANDARD
BEGIN:DAYLIGHT
TZOFFSETFROM:-0500
TZOFFSETTO:-0400
TZNAME:EDT
DTSTART:20170312T070000
END:DAYLIGHT
BEGIN:STANDARD
TZOFFSETFROM:-0400
TZOFFSETTO:-0500
TZNAME:EST
DTSTART:20171105T060000
END:STANDARD
BEGIN:DAYLIGHT
TZOFFSETFROM:-0500
TZOFFSETTO:-0400
TZNAME:EDT
DTSTART:20180311T070000
END:DAYLIGHT
BEGIN:STANDARD
TZOFFSETFROM:-0400
TZOFFSETTO:-0500
TZNAME:EST
DTSTART:20181104T060000
END:STANDARD
END:VTIMEZONE
BEGIN:VEVENT
DTSTART;TZID=America/New_York:20170311T000000
DTEND;TZID=America/New_York:20170311T173000
DTSTAMP:20260421T014036
CREATED:20170301T155522Z
LAST-MODIFIED:20170301T155522Z
UID:10454-1489190400-1489253400@springfieldparkingauthority.com
SUMMARY:MERCY MEDICAL CENTER GALA
DESCRIPTION:Parking is available at the Civic Center Garage – $7 & $12 Prepay \n 
URL:https://springfieldparkingauthority.com/event/mercy-medical-center-gala-3/
LOCATION:MassMutual Center\, 1277 Main Street\, Springfield\, MA\, 01103\, United States
END:VEVENT
BEGIN:VEVENT
DTSTART;TZID=America/New_York:20170311T000000
DTEND;TZID=America/New_York:20170311T173000
DTSTAMP:20260421T014036
CREATED:20170301T155522Z
LAST-MODIFIED:20170301T155522Z
UID:3267-1489190400-1489253400@springfieldparkingauthority.com
SUMMARY:MERCY MEDICAL CENTER GALA
DESCRIPTION:Parking is available at the Civic Center Garage – $7 & $12 Prepay \n 
URL:https://springfieldparkingauthority.com/event/mercy-medical-center-gala/
LOCATION:MassMutual Center\, 1277 Main Street\, Springfield\, MA\, 01103\, United States
END:VEVENT
BEGIN:VEVENT
DTSTART;TZID=America/New_York:20170311T050000
DTEND;TZID=America/New_York:20170311T230000
DTSTAMP:20260421T014036
CREATED:20170301T155754Z
LAST-MODIFIED:20170301T155754Z
UID:10456-1489208400-1489273200@springfieldparkingauthority.com
SUMMARY:THAT'S ENTERTAINMENT PA
DESCRIPTION:Parking is available at the I-91 North and South Garages – On the Clock \n 
URL:https://springfieldparkingauthority.com/event/thats-entertainment-pa-2/
LOCATION:Sheraton Hotel\, One Monarch Place\, Springfield\, MA\, 01103\, United States
END:VEVENT
BEGIN:VEVENT
DTSTART;TZID=America/New_York:20170311T050000
DTEND;TZID=America/New_York:20170311T230000
DTSTAMP:20260421T014036
CREATED:20170301T155754Z
LAST-MODIFIED:20170301T155754Z
UID:3271-1489208400-1489273200@springfieldparkingauthority.com
SUMMARY:THAT'S ENTERTAINMENT PA
DESCRIPTION:Parking is available at the I-91 North and South Garages – On the Clock \n 
URL:https://springfieldparkingauthority.com/event/thats-entertainment-pa/
LOCATION:Sheraton Hotel\, One Monarch Place\, Springfield\, MA\, 01103\, United States
END:VEVENT
BEGIN:VEVENT
DTSTART;TZID=America/New_York:20170311T070000
DTEND;TZID=America/New_York:20170311T230000
DTSTAMP:20260421T014036
CREATED:20170301T155426Z
LAST-MODIFIED:20170301T155426Z
UID:10453-1489215600-1489273200@springfieldparkingauthority.com
SUMMARY:BEYOND THE STARS TALENT COMPETITION
DESCRIPTION:Parking is available at the Civic Center Garage – $7 & $12 Prepay \n 
URL:https://springfieldparkingauthority.com/event/beyond-the-stars-talent-competition-11/
LOCATION:MassMutual Center\, 1277 Main Street\, Springfield\, MA\, 01103\, United States
END:VEVENT
BEGIN:VEVENT
DTSTART;TZID=America/New_York:20170311T070000
DTEND;TZID=America/New_York:20170311T230000
DTSTAMP:20260421T014036
CREATED:20170301T155426Z
LAST-MODIFIED:20170301T155426Z
UID:3265-1489215600-1489273200@springfieldparkingauthority.com
SUMMARY:BEYOND THE STARS TALENT COMPETITION
DESCRIPTION:Parking is available at the Civic Center Garage – $7 & $12 Prepay \n 
URL:https://springfieldparkingauthority.com/event/beyond-the-stars-talent-competition/
LOCATION:MassMutual Center\, 1277 Main Street\, Springfield\, MA\, 01103\, United States
END:VEVENT
BEGIN:VEVENT
DTSTART;TZID=America/New_York:20170311T190000
DTEND;TZID=America/New_York:20170311T210000
DTSTAMP:20260421T014036
CREATED:20170301T155631Z
LAST-MODIFIED:20170301T155631Z
UID:10455-1489258800-1489266000@springfieldparkingauthority.com
SUMMARY:THUNDERBIRDS VS HARTFORD
DESCRIPTION:Parking is available at the Civic Center Garage – FREE WITH TICKET \n 
URL:https://springfieldparkingauthority.com/event/thunderbirds-vs-hartford-4-2/
LOCATION:MassMutual Center\, 1277 Main Street\, Springfield\, MA\, 01103\, United States
END:VEVENT
BEGIN:VEVENT
DTSTART;TZID=America/New_York:20170311T190000
DTEND;TZID=America/New_York:20170311T210000
DTSTAMP:20260421T014036
CREATED:20170301T155631Z
LAST-MODIFIED:20170301T155631Z
UID:3269-1489258800-1489266000@springfieldparkingauthority.com
SUMMARY:THUNDERBIRDS VS HARTFORD
DESCRIPTION:Parking is available at the Civic Center Garage – FREE WITH TICKET \n 
URL:https://springfieldparkingauthority.com/event/thunderbirds-vs-hartford-4/
LOCATION:MassMutual Center\, 1277 Main Street\, Springfield\, MA\, 01103\, United States
END:VEVENT
BEGIN:VEVENT
DTSTART;TZID=America/New_York:20170311T193000
DTEND;TZID=America/New_York:20170311T220000
DTSTAMP:20260421T014036
CREATED:20170301T155208Z
LAST-MODIFIED:20170301T155208Z
UID:10452-1489260600-1489269600@springfieldparkingauthority.com
SUMMARY:Scotland a Celebration
DESCRIPTION:Parking is available at the I-91 North and South Garages – Free with Ticket
URL:https://springfieldparkingauthority.com/event/scotland-a-celebration-3-2/
LOCATION:Symphony Hall\, 34 Court St.\, Springfield\, MA\, 01103\, United States
END:VEVENT
BEGIN:VEVENT
DTSTART;TZID=America/New_York:20170311T193000
DTEND;TZID=America/New_York:20170311T220000
DTSTAMP:20260421T014036
CREATED:20170301T155208Z
LAST-MODIFIED:20170301T155208Z
UID:3263-1489260600-1489269600@springfieldparkingauthority.com
SUMMARY:Scotland a Celebration
DESCRIPTION:Parking is available at the I-91 North and South Garages – Free with Ticket
URL:https://springfieldparkingauthority.com/event/scotland-a-celebration-3/
LOCATION:Symphony Hall\, 34 Court St.\, Springfield\, MA\, 01103\, United States
END:VEVENT
END:VCALENDAR