BEGIN:VCALENDAR
VERSION:2.0
PRODID:-//Springfield Parking Authority - ECPv6.15.20//NONSGML v1.0//EN
CALSCALE:GREGORIAN
METHOD:PUBLISH
X-WR-CALNAME:Springfield Parking Authority
X-ORIGINAL-URL:https://springfieldparkingauthority.com
X-WR-CALDESC:Events for Springfield Parking Authority
REFRESH-INTERVAL;VALUE=DURATION:PT1H
X-Robots-Tag:noindex
X-PUBLISHED-TTL:PT1H
BEGIN:VTIMEZONE
TZID:America/New_York
BEGIN:DAYLIGHT
TZOFFSETFROM:-0500
TZOFFSETTO:-0400
TZNAME:EDT
DTSTART:20160313T070000
END:DAYLIGHT
BEGIN:STANDARD
TZOFFSETFROM:-0400
TZOFFSETTO:-0500
TZNAME:EST
DTSTART:20161106T060000
END:STANDARD
BEGIN:DAYLIGHT
TZOFFSETFROM:-0500
TZOFFSETTO:-0400
TZNAME:EDT
DTSTART:20170312T070000
END:DAYLIGHT
BEGIN:STANDARD
TZOFFSETFROM:-0400
TZOFFSETTO:-0500
TZNAME:EST
DTSTART:20171105T060000
END:STANDARD
BEGIN:DAYLIGHT
TZOFFSETFROM:-0500
TZOFFSETTO:-0400
TZNAME:EDT
DTSTART:20180311T070000
END:DAYLIGHT
BEGIN:STANDARD
TZOFFSETFROM:-0400
TZOFFSETTO:-0500
TZNAME:EST
DTSTART:20181104T060000
END:STANDARD
END:VTIMEZONE
BEGIN:VEVENT
DTSTART;TZID=America/New_York:20170324T153000
DTEND;TZID=America/New_York:20170324T220000
DTSTAMP:20260420T082537
CREATED:20170301T163619Z
LAST-MODIFIED:20170301T163619Z
UID:3300-1490369400-1490392800@springfieldparkingauthority.com
SUMMARY:MARY KAY INC. CARRER CONFERENCE
DESCRIPTION:Parking is available at the Civic Center Garage – $7 Prepay \n 
URL:https://springfieldparkingauthority.com/event/mary-kay-inc-carrer-conference/
LOCATION:MassMutual Center\, 1277 Main Street\, Springfield\, MA\, 01103\, United States
END:VEVENT
BEGIN:VEVENT
DTSTART;TZID=America/New_York:20170324T153000
DTEND;TZID=America/New_York:20170324T220000
DTSTAMP:20260420T082537
CREATED:20170301T163619Z
LAST-MODIFIED:20170301T163619Z
UID:10469-1490369400-1490392800@springfieldparkingauthority.com
SUMMARY:MARY KAY INC. CARRER CONFERENCE
DESCRIPTION:Parking is available at the Civic Center Garage – $7 Prepay \n 
URL:https://springfieldparkingauthority.com/event/mary-kay-inc-carrer-conference-3/
LOCATION:MassMutual Center\, 1277 Main Street\, Springfield\, MA\, 01103\, United States
END:VEVENT
BEGIN:VEVENT
DTSTART;TZID=America/New_York:20170324T163000
DTEND;TZID=America/New_York:20170324T223000
DTSTAMP:20260420T082537
CREATED:20170301T163723Z
LAST-MODIFIED:20170301T163723Z
UID:3302-1490373000-1490394600@springfieldparkingauthority.com
SUMMARY:LEGACY DANCE CHAMPIONSHIPS
DESCRIPTION:Parking is available at the Civic Center Garage – $7 Prepay \n 
URL:https://springfieldparkingauthority.com/event/legacy-dance-championships-7/
LOCATION:MassMutual Center\, 1277 Main Street\, Springfield\, MA\, 01103\, United States
END:VEVENT
BEGIN:VEVENT
DTSTART;TZID=America/New_York:20170324T163000
DTEND;TZID=America/New_York:20170324T223000
DTSTAMP:20260420T082537
CREATED:20170301T163723Z
LAST-MODIFIED:20170301T163723Z
UID:10470-1490373000-1490394600@springfieldparkingauthority.com
SUMMARY:LEGACY DANCE CHAMPIONSHIPS
DESCRIPTION:Parking is available at the Civic Center Garage – $7 Prepay \n 
URL:https://springfieldparkingauthority.com/event/legacy-dance-championships-7-2/
LOCATION:MassMutual Center\, 1277 Main Street\, Springfield\, MA\, 01103\, United States
END:VEVENT
BEGIN:VEVENT
DTSTART;TZID=America/New_York:20170324T190000
DTEND;TZID=America/New_York:20170324T210000
DTSTAMP:20260420T082537
CREATED:20170301T163506Z
LAST-MODIFIED:20170301T163506Z
UID:10468-1490382000-1490389200@springfieldparkingauthority.com
SUMMARY:DISNEY ON ICE - PASSPORT TO ADVENTURE
DESCRIPTION:Parking is available at the Civic Center Garage – $7 & $12 Prepay \n 
URL:https://springfieldparkingauthority.com/event/disney-on-ice-passport-to-adventure-2-2/
LOCATION:MassMutual Center\, 1277 Main Street\, Springfield\, MA\, 01103\, United States
END:VEVENT
BEGIN:VEVENT
DTSTART;TZID=America/New_York:20170324T190000
DTEND;TZID=America/New_York:20170324T210000
DTSTAMP:20260420T082537
CREATED:20170301T163506Z
LAST-MODIFIED:20170301T163506Z
UID:3298-1490382000-1490389200@springfieldparkingauthority.com
SUMMARY:DISNEY ON ICE - PASSPORT TO ADVENTURE
DESCRIPTION:Parking is available at the Civic Center Garage – $7 & $12 Prepay \n 
URL:https://springfieldparkingauthority.com/event/disney-on-ice-passport-to-adventure-2/
LOCATION:MassMutual Center\, 1277 Main Street\, Springfield\, MA\, 01103\, United States
END:VEVENT
END:VCALENDAR