BEGIN:VCALENDAR
VERSION:2.0
PRODID:-//Springfield Parking Authority - ECPv6.15.20//NONSGML v1.0//EN
CALSCALE:GREGORIAN
METHOD:PUBLISH
X-WR-CALNAME:Springfield Parking Authority
X-ORIGINAL-URL:https://springfieldparkingauthority.com
X-WR-CALDESC:Events for Springfield Parking Authority
REFRESH-INTERVAL;VALUE=DURATION:PT1H
X-Robots-Tag:noindex
X-PUBLISHED-TTL:PT1H
BEGIN:VTIMEZONE
TZID:America/New_York
BEGIN:DAYLIGHT
TZOFFSETFROM:-0500
TZOFFSETTO:-0400
TZNAME:EDT
DTSTART:20160313T070000
END:DAYLIGHT
BEGIN:STANDARD
TZOFFSETFROM:-0400
TZOFFSETTO:-0500
TZNAME:EST
DTSTART:20161106T060000
END:STANDARD
BEGIN:DAYLIGHT
TZOFFSETFROM:-0500
TZOFFSETTO:-0400
TZNAME:EDT
DTSTART:20170312T070000
END:DAYLIGHT
BEGIN:STANDARD
TZOFFSETFROM:-0400
TZOFFSETTO:-0500
TZNAME:EST
DTSTART:20171105T060000
END:STANDARD
BEGIN:DAYLIGHT
TZOFFSETFROM:-0500
TZOFFSETTO:-0400
TZNAME:EDT
DTSTART:20180311T070000
END:DAYLIGHT
BEGIN:STANDARD
TZOFFSETFROM:-0400
TZOFFSETTO:-0500
TZNAME:EST
DTSTART:20181104T060000
END:STANDARD
END:VTIMEZONE
BEGIN:VEVENT
DTSTART;TZID=America/New_York:20170325T080000
DTEND;TZID=America/New_York:20170325T220000
DTSTAMP:20260421T014034
CREATED:20170301T164145Z
LAST-MODIFIED:20170301T164145Z
UID:3313-1490428800-1490479200@springfieldparkingauthority.com
SUMMARY:LEGACY DANCE CHAMPIONSHIPS
DESCRIPTION:Parking is available at the Civic Center Garage – $7 & $12 Prepay
URL:https://springfieldparkingauthority.com/event/legacy-dance-championships-8/
LOCATION:MassMutual Center\, 1277 Main Street\, Springfield\, MA\, 01103\, United States
END:VEVENT
BEGIN:VEVENT
DTSTART;TZID=America/New_York:20170325T080000
DTEND;TZID=America/New_York:20170325T220000
DTSTAMP:20260421T014034
CREATED:20170301T164145Z
LAST-MODIFIED:20170301T164145Z
UID:10475-1490428800-1490479200@springfieldparkingauthority.com
SUMMARY:LEGACY DANCE CHAMPIONSHIPS
DESCRIPTION:Parking is available at the Civic Center Garage – $7 & $12 Prepay
URL:https://springfieldparkingauthority.com/event/legacy-dance-championships-8-2/
LOCATION:MassMutual Center\, 1277 Main Street\, Springfield\, MA\, 01103\, United States
END:VEVENT
BEGIN:VEVENT
DTSTART;TZID=America/New_York:20170325T090000
DTEND;TZID=America/New_York:20170325T163000
DTSTAMP:20260421T014034
CREATED:20170301T164050Z
LAST-MODIFIED:20170301T164050Z
UID:3311-1490432400-1490459400@springfieldparkingauthority.com
SUMMARY:MARY KAY INC. CARRER CONFERENCE
DESCRIPTION:Parking is available at the Civic Center Garage – $7 & $12 Prepay
URL:https://springfieldparkingauthority.com/event/mary-kay-inc-carrer-conference-2/
LOCATION:MassMutual Center\, 1277 Main Street\, Springfield\, MA\, 01103\, United States
END:VEVENT
BEGIN:VEVENT
DTSTART;TZID=America/New_York:20170325T090000
DTEND;TZID=America/New_York:20170325T163000
DTSTAMP:20260421T014034
CREATED:20170301T164050Z
LAST-MODIFIED:20170301T164050Z
UID:10474-1490432400-1490459400@springfieldparkingauthority.com
SUMMARY:MARY KAY INC. CARRER CONFERENCE
DESCRIPTION:Parking is available at the Civic Center Garage – $7 & $12 Prepay
URL:https://springfieldparkingauthority.com/event/mary-kay-inc-carrer-conference-2-2/
LOCATION:MassMutual Center\, 1277 Main Street\, Springfield\, MA\, 01103\, United States
END:VEVENT
BEGIN:VEVENT
DTSTART;TZID=America/New_York:20170325T110000
DTEND;TZID=America/New_York:20170325T130000
DTSTAMP:20260421T014034
CREATED:20170301T163822Z
LAST-MODIFIED:20170301T163822Z
UID:3305-1490439600-1490446800@springfieldparkingauthority.com
SUMMARY:DISNEY ON ICE - PASSPORT TO ADVENTURE
DESCRIPTION:Parking is available at the Civic Center Garage – $7 & $12 Prepay
URL:https://springfieldparkingauthority.com/event/disney-on-ice-passport-to-adventure-3/
LOCATION:MassMutual Center\, 1277 Main Street\, Springfield\, MA\, 01103\, United States
END:VEVENT
BEGIN:VEVENT
DTSTART;TZID=America/New_York:20170325T110000
DTEND;TZID=America/New_York:20170325T130000
DTSTAMP:20260421T014034
CREATED:20170301T163822Z
LAST-MODIFIED:20170301T163822Z
UID:10471-1490439600-1490446800@springfieldparkingauthority.com
SUMMARY:DISNEY ON ICE - PASSPORT TO ADVENTURE
DESCRIPTION:Parking is available at the Civic Center Garage – $7 & $12 Prepay
URL:https://springfieldparkingauthority.com/event/disney-on-ice-passport-to-adventure-3-2/
LOCATION:MassMutual Center\, 1277 Main Street\, Springfield\, MA\, 01103\, United States
END:VEVENT
BEGIN:VEVENT
DTSTART;TZID=America/New_York:20170325T150000
DTEND;TZID=America/New_York:20170325T170000
DTSTAMP:20260421T014034
CREATED:20170301T163910Z
LAST-MODIFIED:20170301T163910Z
UID:10472-1490454000-1490461200@springfieldparkingauthority.com
SUMMARY:DISNEY ON ICE - PASSPORT TO ADVENTURE
DESCRIPTION:Parking is available at the Civic Center Garage – $7 & $12 Prepay
URL:https://springfieldparkingauthority.com/event/disney-on-ice-passport-to-adventure-4-2/
LOCATION:MassMutual Center\, 1277 Main Street\, Springfield\, MA\, 01103\, United States
END:VEVENT
BEGIN:VEVENT
DTSTART;TZID=America/New_York:20170325T150000
DTEND;TZID=America/New_York:20170325T170000
DTSTAMP:20260421T014034
CREATED:20170301T163910Z
LAST-MODIFIED:20170301T163910Z
UID:3307-1490454000-1490461200@springfieldparkingauthority.com
SUMMARY:DISNEY ON ICE - PASSPORT TO ADVENTURE
DESCRIPTION:Parking is available at the Civic Center Garage – $7 & $12 Prepay
URL:https://springfieldparkingauthority.com/event/disney-on-ice-passport-to-adventure-4/
LOCATION:MassMutual Center\, 1277 Main Street\, Springfield\, MA\, 01103\, United States
END:VEVENT
BEGIN:VEVENT
DTSTART;TZID=America/New_York:20170325T190000
DTEND;TZID=America/New_York:20170325T210000
DTSTAMP:20260421T014034
CREATED:20170301T163949Z
LAST-MODIFIED:20170301T163949Z
UID:3309-1490468400-1490475600@springfieldparkingauthority.com
SUMMARY:DISNEY ON ICE- PASSPORT TO ADVENTURE
DESCRIPTION:Parking is available at the Civic Center Garage – $7 & $12 Prepay
URL:https://springfieldparkingauthority.com/event/disney-on-ice-passport-to-adventure-5/
LOCATION:MassMutual Center\, 1277 Main Street\, Springfield\, MA\, 01103\, United States
END:VEVENT
BEGIN:VEVENT
DTSTART;TZID=America/New_York:20170325T190000
DTEND;TZID=America/New_York:20170325T210000
DTSTAMP:20260421T014034
CREATED:20170301T163949Z
LAST-MODIFIED:20170301T163949Z
UID:10473-1490468400-1490475600@springfieldparkingauthority.com
SUMMARY:DISNEY ON ICE- PASSPORT TO ADVENTURE
DESCRIPTION:Parking is available at the Civic Center Garage – $7 & $12 Prepay
URL:https://springfieldparkingauthority.com/event/disney-on-ice-passport-to-adventure-5-2/
LOCATION:MassMutual Center\, 1277 Main Street\, Springfield\, MA\, 01103\, United States
END:VEVENT
BEGIN:VEVENT
DTSTART;TZID=America/New_York:20170325T193000
DTEND;TZID=America/New_York:20170325T220000
DTSTAMP:20260421T014034
CREATED:20170301T164248Z
LAST-MODIFIED:20170301T164248Z
UID:3315-1490470200-1490479200@springfieldparkingauthority.com
SUMMARY:JIM BRICKMAN
DESCRIPTION:Parking is available at the Columbus Center Garage – Free with Ticket \n 
URL:https://springfieldparkingauthority.com/event/jim-brickman/
LOCATION:Columbus Center\, 1 Columbus Center\, Springfield\, MA\, 01103\, United States
END:VEVENT
BEGIN:VEVENT
DTSTART;TZID=America/New_York:20170325T193000
DTEND;TZID=America/New_York:20170325T220000
DTSTAMP:20260421T014034
CREATED:20170301T164248Z
LAST-MODIFIED:20170301T164248Z
UID:10476-1490470200-1490479200@springfieldparkingauthority.com
SUMMARY:JIM BRICKMAN
DESCRIPTION:Parking is available at the Columbus Center Garage – Free with Ticket \n 
URL:https://springfieldparkingauthority.com/event/jim-brickman-3/
LOCATION:Columbus Center\, 1 Columbus Center\, Springfield\, MA\, 01103\, United States
END:VEVENT
END:VCALENDAR