BEGIN:VCALENDAR
VERSION:2.0
PRODID:-//Springfield Parking Authority - ECPv6.15.20//NONSGML v1.0//EN
CALSCALE:GREGORIAN
METHOD:PUBLISH
X-ORIGINAL-URL:https://springfieldparkingauthority.com
X-WR-CALDESC:Events for Springfield Parking Authority
REFRESH-INTERVAL;VALUE=DURATION:PT1H
X-Robots-Tag:noindex
X-PUBLISHED-TTL:PT1H
BEGIN:VTIMEZONE
TZID:America/New_York
BEGIN:DAYLIGHT
TZOFFSETFROM:-0500
TZOFFSETTO:-0400
TZNAME:EDT
DTSTART:20160313T070000
END:DAYLIGHT
BEGIN:STANDARD
TZOFFSETFROM:-0400
TZOFFSETTO:-0500
TZNAME:EST
DTSTART:20161106T060000
END:STANDARD
BEGIN:DAYLIGHT
TZOFFSETFROM:-0500
TZOFFSETTO:-0400
TZNAME:EDT
DTSTART:20170312T070000
END:DAYLIGHT
BEGIN:STANDARD
TZOFFSETFROM:-0400
TZOFFSETTO:-0500
TZNAME:EST
DTSTART:20171105T060000
END:STANDARD
BEGIN:DAYLIGHT
TZOFFSETFROM:-0500
TZOFFSETTO:-0400
TZNAME:EDT
DTSTART:20180311T070000
END:DAYLIGHT
BEGIN:STANDARD
TZOFFSETFROM:-0400
TZOFFSETTO:-0500
TZNAME:EST
DTSTART:20181104T060000
END:STANDARD
END:VTIMEZONE
BEGIN:VEVENT
DTSTART;TZID=America/New_York:20170326T080000
DTEND;TZID=America/New_York:20170326T200000
DTSTAMP:20260421T150852
CREATED:20170301T164544Z
LAST-MODIFIED:20170301T164544Z
UID:3321-1490515200-1490558400@springfieldparkingauthority.com
SUMMARY:LEGACY DANCE CHAMPIONSHIPS
DESCRIPTION:Parking is available at the Civic Center Garage – $7 & $12 Prepay \n 
URL:https://springfieldparkingauthority.com/event/legacy-dance-championships-9/
LOCATION:MassMutual Center\, 1277 Main Street\, Springfield\, MA\, 01103\, United States
END:VEVENT
BEGIN:VEVENT
DTSTART;TZID=America/New_York:20170326T080000
DTEND;TZID=America/New_York:20170326T200000
DTSTAMP:20260421T150852
CREATED:20170301T164544Z
LAST-MODIFIED:20170301T164544Z
UID:10479-1490515200-1490558400@springfieldparkingauthority.com
SUMMARY:LEGACY DANCE CHAMPIONSHIPS
DESCRIPTION:Parking is available at the Civic Center Garage – $7 & $12 Prepay \n 
URL:https://springfieldparkingauthority.com/event/legacy-dance-championships-9-2/
LOCATION:MassMutual Center\, 1277 Main Street\, Springfield\, MA\, 01103\, United States
END:VEVENT
BEGIN:VEVENT
DTSTART;TZID=America/New_York:20170326T123000
DTEND;TZID=America/New_York:20170326T143000
DTSTAMP:20260421T150852
CREATED:20170301T164458Z
LAST-MODIFIED:20170301T164458Z
UID:10478-1490531400-1490538600@springfieldparkingauthority.com
SUMMARY:DISNEY ON ICE - PASSPORT TO ADVENTURE
DESCRIPTION:Parking is available at the Civic Center Garage – $7 & $12 Prepay \n 
URL:https://springfieldparkingauthority.com/event/disney-on-ice-passport-to-adventure-7-2/
LOCATION:MassMutual Center\, 1277 Main Street\, Springfield\, MA\, 01103\, United States
END:VEVENT
BEGIN:VEVENT
DTSTART;TZID=America/New_York:20170326T123000
DTEND;TZID=America/New_York:20170326T143000
DTSTAMP:20260421T150852
CREATED:20170301T164458Z
LAST-MODIFIED:20170301T164458Z
UID:3319-1490531400-1490538600@springfieldparkingauthority.com
SUMMARY:DISNEY ON ICE - PASSPORT TO ADVENTURE
DESCRIPTION:Parking is available at the Civic Center Garage – $7 & $12 Prepay \n 
URL:https://springfieldparkingauthority.com/event/disney-on-ice-passport-to-adventure-7/
LOCATION:MassMutual Center\, 1277 Main Street\, Springfield\, MA\, 01103\, United States
END:VEVENT
BEGIN:VEVENT
DTSTART;TZID=America/New_York:20170326T163000
DTEND;TZID=America/New_York:20170326T185000
DTSTAMP:20260421T150852
CREATED:20170301T164411Z
LAST-MODIFIED:20170301T164411Z
UID:10477-1490545800-1490554200@springfieldparkingauthority.com
SUMMARY:DISNEY ON ICE- PASSPORT TO ADVENTURE
DESCRIPTION:Parking is available at the Civic Center Garage – $7 & $12 Prepay \n 
URL:https://springfieldparkingauthority.com/event/disney-on-ice-passport-to-adventure-6-2/
LOCATION:MassMutual Center\, 1277 Main Street\, Springfield\, MA\, 01103\, United States
END:VEVENT
BEGIN:VEVENT
DTSTART;TZID=America/New_York:20170326T163000
DTEND;TZID=America/New_York:20170326T185000
DTSTAMP:20260421T150852
CREATED:20170301T164411Z
LAST-MODIFIED:20170301T164411Z
UID:3317-1490545800-1490554200@springfieldparkingauthority.com
SUMMARY:DISNEY ON ICE- PASSPORT TO ADVENTURE
DESCRIPTION:Parking is available at the Civic Center Garage – $7 & $12 Prepay \n 
URL:https://springfieldparkingauthority.com/event/disney-on-ice-passport-to-adventure-6/
LOCATION:MassMutual Center\, 1277 Main Street\, Springfield\, MA\, 01103\, United States
END:VEVENT
END:VCALENDAR