BEGIN:VCALENDAR
VERSION:2.0
PRODID:-//Springfield Parking Authority - ECPv6.15.20//NONSGML v1.0//EN
CALSCALE:GREGORIAN
METHOD:PUBLISH
X-ORIGINAL-URL:https://springfieldparkingauthority.com
X-WR-CALDESC:Events for Springfield Parking Authority
REFRESH-INTERVAL;VALUE=DURATION:PT1H
X-Robots-Tag:noindex
X-PUBLISHED-TTL:PT1H
BEGIN:VTIMEZONE
TZID:America/New_York
BEGIN:DAYLIGHT
TZOFFSETFROM:-0500
TZOFFSETTO:-0400
TZNAME:EDT
DTSTART:20160313T070000
END:DAYLIGHT
BEGIN:STANDARD
TZOFFSETFROM:-0400
TZOFFSETTO:-0500
TZNAME:EST
DTSTART:20161106T060000
END:STANDARD
BEGIN:DAYLIGHT
TZOFFSETFROM:-0500
TZOFFSETTO:-0400
TZNAME:EDT
DTSTART:20170312T070000
END:DAYLIGHT
BEGIN:STANDARD
TZOFFSETFROM:-0400
TZOFFSETTO:-0500
TZNAME:EST
DTSTART:20171105T060000
END:STANDARD
BEGIN:DAYLIGHT
TZOFFSETFROM:-0500
TZOFFSETTO:-0400
TZNAME:EDT
DTSTART:20180311T070000
END:DAYLIGHT
BEGIN:STANDARD
TZOFFSETFROM:-0400
TZOFFSETTO:-0500
TZNAME:EST
DTSTART:20181104T060000
END:STANDARD
END:VTIMEZONE
BEGIN:VEVENT
DTSTART;TZID=America/New_York:20170408T060000
DTEND;TZID=America/New_York:20170408T235500
DTSTAMP:20260420T112923
CREATED:20170330T161854Z
LAST-MODIFIED:20170330T161854Z
UID:10542-1491631200-1491695700@springfieldparkingauthority.com
SUMMARY:NEFHS/ NEW ENGLAND FEDERATION OF HUMANE SOCIETIES
DESCRIPTION:Parking is available at the I-91 North and South Garages – On the Clock \n 
URL:https://springfieldparkingauthority.com/event/nefhs-new-england-federation-of-humane-societies-2-2/
LOCATION:Sheraton Hotel\, One Monarch Place\, Springfield\, MA\, 01103\, United States
END:VEVENT
BEGIN:VEVENT
DTSTART;TZID=America/New_York:20170408T060000
DTEND;TZID=America/New_York:20170408T235500
DTSTAMP:20260420T112923
CREATED:20170330T161854Z
LAST-MODIFIED:20170330T161854Z
UID:3496-1491631200-1491695700@springfieldparkingauthority.com
SUMMARY:NEFHS/ NEW ENGLAND FEDERATION OF HUMANE SOCIETIES
DESCRIPTION:Parking is available at the I-91 North and South Garages – On the Clock \n 
URL:https://springfieldparkingauthority.com/event/nefhs-new-england-federation-of-humane-societies-2/
LOCATION:Sheraton Hotel\, One Monarch Place\, Springfield\, MA\, 01103\, United States
END:VEVENT
BEGIN:VEVENT
DTSTART;TZID=America/New_York:20170408T080000
DTEND;TZID=America/New_York:20170408T220000
DTSTAMP:20260420T112923
CREATED:20170327T173341Z
LAST-MODIFIED:20170327T173341Z
UID:10498-1491638400-1491688800@springfieldparkingauthority.com
SUMMARY:ENCORE CHAMPIONSHIPS
DESCRIPTION:Parking is available at the Civic Center Garage – $7 & $12 Prepay \n 
URL:https://springfieldparkingauthority.com/event/encore-championships-3-2/
LOCATION:MassMutual Center\, 1277 Main Street\, Springfield\, MA\, 01103\, United States
END:VEVENT
BEGIN:VEVENT
DTSTART;TZID=America/New_York:20170408T080000
DTEND;TZID=America/New_York:20170408T220000
DTSTAMP:20260420T112923
CREATED:20170327T173341Z
LAST-MODIFIED:20170327T173341Z
UID:3383-1491638400-1491688800@springfieldparkingauthority.com
SUMMARY:ENCORE CHAMPIONSHIPS
DESCRIPTION:Parking is available at the Civic Center Garage – $7 & $12 Prepay \n 
URL:https://springfieldparkingauthority.com/event/encore-championships-3/
LOCATION:MassMutual Center\, 1277 Main Street\, Springfield\, MA\, 01103\, United States
END:VEVENT
BEGIN:VEVENT
DTSTART;TZID=America/New_York:20170408T080000
DTEND;TZID=America/New_York:20170408T220000
DTSTAMP:20260420T112923
CREATED:20170327T173443Z
LAST-MODIFIED:20170327T173443Z
UID:3385-1491638400-1491688800@springfieldparkingauthority.com
SUMMARY:SA GYMNASTICS REGION 6-LEVEL 9/10 REGIONAL CHAMPSIONSHIP
DESCRIPTION:Parking is available at the Civic Center Garage – $7 & $12 Prepay \n 
URL:https://springfieldparkingauthority.com/event/sa-gymnastics-region-6-level-910-regional-champsionship/
LOCATION:MassMutual Center\, 1277 Main Street\, Springfield\, MA\, 01103\, United States
END:VEVENT
BEGIN:VEVENT
DTSTART;TZID=America/New_York:20170408T080000
DTEND;TZID=America/New_York:20170408T220000
DTSTAMP:20260420T112923
CREATED:20170327T173443Z
LAST-MODIFIED:20170327T173443Z
UID:10499-1491638400-1491688800@springfieldparkingauthority.com
SUMMARY:SA GYMNASTICS REGION 6-LEVEL 9/10 REGIONAL CHAMPSIONSHIP
DESCRIPTION:Parking is available at the Civic Center Garage – $7 & $12 Prepay \n 
URL:https://springfieldparkingauthority.com/event/sa-gymnastics-region-6-level-910-regional-champsionship-2/
LOCATION:MassMutual Center\, 1277 Main Street\, Springfield\, MA\, 01103\, United States
END:VEVENT
BEGIN:VEVENT
DTSTART;TZID=America/New_York:20170408T193000
DTEND;TZID=America/New_York:20170408T220000
DTSTAMP:20260420T112923
CREATED:20170327T173552Z
LAST-MODIFIED:20170327T173552Z
UID:3387-1491679800-1491688800@springfieldparkingauthority.com
SUMMARY:NIGHTS IN THE GARDEN OF SPAIN PERFORMANCE
DESCRIPTION:Parking is available at the I-91 North and South Garages – Free with Ticket. \n 
URL:https://springfieldparkingauthority.com/event/nights-in-the-garden-of-spain-performance/
LOCATION:Symphony Hall\, 34 Court St.\, Springfield\, MA\, 01103\, United States
END:VEVENT
BEGIN:VEVENT
DTSTART;TZID=America/New_York:20170408T193000
DTEND;TZID=America/New_York:20170408T220000
DTSTAMP:20260420T112923
CREATED:20170327T173552Z
LAST-MODIFIED:20170327T173552Z
UID:10500-1491679800-1491688800@springfieldparkingauthority.com
SUMMARY:NIGHTS IN THE GARDEN OF SPAIN PERFORMANCE
DESCRIPTION:Parking is available at the I-91 North and South Garages – Free with Ticket. \n 
URL:https://springfieldparkingauthority.com/event/nights-in-the-garden-of-spain-performance-2/
LOCATION:Symphony Hall\, 34 Court St.\, Springfield\, MA\, 01103\, United States
END:VEVENT
END:VCALENDAR