BEGIN:VCALENDAR
VERSION:2.0
PRODID:-//Springfield Parking Authority - ECPv6.15.20//NONSGML v1.0//EN
CALSCALE:GREGORIAN
METHOD:PUBLISH
X-ORIGINAL-URL:https://springfieldparkingauthority.com
X-WR-CALDESC:Events for Springfield Parking Authority
REFRESH-INTERVAL;VALUE=DURATION:PT1H
X-Robots-Tag:noindex
X-PUBLISHED-TTL:PT1H
BEGIN:VTIMEZONE
TZID:America/New_York
BEGIN:DAYLIGHT
TZOFFSETFROM:-0500
TZOFFSETTO:-0400
TZNAME:EDT
DTSTART:20160313T070000
END:DAYLIGHT
BEGIN:STANDARD
TZOFFSETFROM:-0400
TZOFFSETTO:-0500
TZNAME:EST
DTSTART:20161106T060000
END:STANDARD
BEGIN:DAYLIGHT
TZOFFSETFROM:-0500
TZOFFSETTO:-0400
TZNAME:EDT
DTSTART:20170312T070000
END:DAYLIGHT
BEGIN:STANDARD
TZOFFSETFROM:-0400
TZOFFSETTO:-0500
TZNAME:EST
DTSTART:20171105T060000
END:STANDARD
BEGIN:DAYLIGHT
TZOFFSETFROM:-0500
TZOFFSETTO:-0400
TZNAME:EDT
DTSTART:20180311T070000
END:DAYLIGHT
BEGIN:STANDARD
TZOFFSETFROM:-0400
TZOFFSETTO:-0500
TZNAME:EST
DTSTART:20181104T060000
END:STANDARD
END:VTIMEZONE
BEGIN:VEVENT
DTSTART;TZID=America/New_York:20170411T094500
DTEND;TZID=America/New_York:20170412T002000
DTSTAMP:20260422T122559
CREATED:20170327T174957Z
LAST-MODIFIED:20170327T174957Z
UID:10507-1491903900-1491956400@springfieldparkingauthority.com
SUMMARY:Springfield Symphony Orchestra School Show
DESCRIPTION:Parking is available at the I-91 North and South Garages – On the Clock \n 
URL:https://springfieldparkingauthority.com/event/springfield-symphony-orchestra-4/
LOCATION:Symphony Hall\, 34 Court St.\, Springfield\, MA\, 01103\, United States
END:VEVENT
BEGIN:VEVENT
DTSTART;TZID=America/New_York:20170411T094500
DTEND;TZID=America/New_York:20170412T002000
DTSTAMP:20260422T122559
CREATED:20170327T174957Z
LAST-MODIFIED:20170327T174957Z
UID:3403-1491903900-1491956400@springfieldparkingauthority.com
SUMMARY:Springfield Symphony Orchestra School Show
DESCRIPTION:Parking is available at the I-91 North and South Garages – On the Clock \n 
URL:https://springfieldparkingauthority.com/event/springfield-symphony-orchestra/
LOCATION:Symphony Hall\, 34 Court St.\, Springfield\, MA\, 01103\, United States
END:VEVENT
BEGIN:VEVENT
DTSTART;TZID=America/New_York:20170411T173000
DTEND;TZID=America/New_York:20170411T200000
DTSTAMP:20260422T122559
CREATED:20170327T174804Z
LAST-MODIFIED:20170327T174804Z
UID:3401-1491931800-1491940800@springfieldparkingauthority.com
SUMMARY:Professional Women's Chamber Event
DESCRIPTION:Parking is available at the Columbus Center Garage – $7 Prepay \n 
URL:https://springfieldparkingauthority.com/event/professional-womens-chamber-event/
LOCATION:Columbus Center\, 1 Columbus Center\, Springfield\, MA\, 01103\, United States
END:VEVENT
BEGIN:VEVENT
DTSTART;TZID=America/New_York:20170411T173000
DTEND;TZID=America/New_York:20170411T200000
DTSTAMP:20260422T122559
CREATED:20170327T174804Z
LAST-MODIFIED:20170327T174804Z
UID:10506-1491931800-1491940800@springfieldparkingauthority.com
SUMMARY:Professional Women's Chamber Event
DESCRIPTION:Parking is available at the Columbus Center Garage – $7 Prepay \n 
URL:https://springfieldparkingauthority.com/event/professional-womens-chamber-event-2/
LOCATION:Columbus Center\, 1 Columbus Center\, Springfield\, MA\, 01103\, United States
END:VEVENT
END:VCALENDAR