BEGIN:VCALENDAR
VERSION:2.0
PRODID:-//Springfield Parking Authority - ECPv6.15.20//NONSGML v1.0//EN
CALSCALE:GREGORIAN
METHOD:PUBLISH
X-ORIGINAL-URL:https://springfieldparkingauthority.com
X-WR-CALDESC:Events for Springfield Parking Authority
REFRESH-INTERVAL;VALUE=DURATION:PT1H
X-Robots-Tag:noindex
X-PUBLISHED-TTL:PT1H
BEGIN:VTIMEZONE
TZID:America/New_York
BEGIN:DAYLIGHT
TZOFFSETFROM:-0500
TZOFFSETTO:-0400
TZNAME:EDT
DTSTART:20160313T070000
END:DAYLIGHT
BEGIN:STANDARD
TZOFFSETFROM:-0400
TZOFFSETTO:-0500
TZNAME:EST
DTSTART:20161106T060000
END:STANDARD
BEGIN:DAYLIGHT
TZOFFSETFROM:-0500
TZOFFSETTO:-0400
TZNAME:EDT
DTSTART:20170312T070000
END:DAYLIGHT
BEGIN:STANDARD
TZOFFSETFROM:-0400
TZOFFSETTO:-0500
TZNAME:EST
DTSTART:20171105T060000
END:STANDARD
BEGIN:DAYLIGHT
TZOFFSETFROM:-0500
TZOFFSETTO:-0400
TZNAME:EDT
DTSTART:20180311T070000
END:DAYLIGHT
BEGIN:STANDARD
TZOFFSETFROM:-0400
TZOFFSETTO:-0500
TZNAME:EST
DTSTART:20181104T060000
END:STANDARD
END:VTIMEZONE
BEGIN:VEVENT
DTSTART;TZID=America/New_York:20170420T180000
DTEND;TZID=America/New_York:20170420T210000
DTSTAMP:20260422T221434
CREATED:20170412T143813Z
LAST-MODIFIED:20170412T143813Z
UID:3525-1492711200-1492722000@springfieldparkingauthority.com
SUMMARY:Greater Springfield Chamber Of Commerce
DESCRIPTION:Parking is available at the I-91 North and South Garages – On the Clock \n 
URL:https://springfieldparkingauthority.com/event/greater-springfield-chamber-of-commerce-2/
LOCATION:Sheraton Hotel\, One Monarch Place\, Springfield\, MA\, 01103\, United States
END:VEVENT
BEGIN:VEVENT
DTSTART;TZID=America/New_York:20170420T180000
DTEND;TZID=America/New_York:20170420T210000
DTSTAMP:20260422T221434
CREATED:20170412T143813Z
LAST-MODIFIED:20170412T143813Z
UID:10549-1492711200-1492722000@springfieldparkingauthority.com
SUMMARY:Greater Springfield Chamber Of Commerce
DESCRIPTION:Parking is available at the I-91 North and South Garages – On the Clock \n 
URL:https://springfieldparkingauthority.com/event/greater-springfield-chamber-of-commerce-2-2/
LOCATION:Sheraton Hotel\, One Monarch Place\, Springfield\, MA\, 01103\, United States
END:VEVENT
BEGIN:VEVENT
DTSTART;TZID=America/New_York:20170420T180000
DTEND;TZID=America/New_York:20170421T000000
DTSTAMP:20260422T221434
CREATED:20170420T150143Z
LAST-MODIFIED:20170420T150143Z
UID:10565-1492711200-1492732800@springfieldparkingauthority.com
SUMMARY:Javaughn Watkins Sweet 16
DESCRIPTION:Parking is available at the Civic Center Garage – $7 & $12 Prepay \n 
URL:https://springfieldparkingauthority.com/event/javaughn-watkins-sweet-16-2/
LOCATION:MassMutual Center\, 1277 Main Street\, Springfield\, MA\, 01103\, United States
END:VEVENT
BEGIN:VEVENT
DTSTART;TZID=America/New_York:20170420T180000
DTEND;TZID=America/New_York:20170421T000000
DTSTAMP:20260422T221434
CREATED:20170420T150143Z
LAST-MODIFIED:20170420T150143Z
UID:3580-1492711200-1492732800@springfieldparkingauthority.com
SUMMARY:Javaughn Watkins Sweet 16
DESCRIPTION:Parking is available at the Civic Center Garage – $7 & $12 Prepay \n 
URL:https://springfieldparkingauthority.com/event/javaughn-watkins-sweet-16/
LOCATION:MassMutual Center\, 1277 Main Street\, Springfield\, MA\, 01103\, United States
END:VEVENT
END:VCALENDAR