BEGIN:VCALENDAR
VERSION:2.0
PRODID:-//Springfield Parking Authority - ECPv6.15.20//NONSGML v1.0//EN
CALSCALE:GREGORIAN
METHOD:PUBLISH
X-WR-CALNAME:Springfield Parking Authority
X-ORIGINAL-URL:https://springfieldparkingauthority.com
X-WR-CALDESC:Events for Springfield Parking Authority
REFRESH-INTERVAL;VALUE=DURATION:PT1H
X-Robots-Tag:noindex
X-PUBLISHED-TTL:PT1H
BEGIN:VTIMEZONE
TZID:America/New_York
BEGIN:DAYLIGHT
TZOFFSETFROM:-0500
TZOFFSETTO:-0400
TZNAME:EDT
DTSTART:20160313T070000
END:DAYLIGHT
BEGIN:STANDARD
TZOFFSETFROM:-0400
TZOFFSETTO:-0500
TZNAME:EST
DTSTART:20161106T060000
END:STANDARD
BEGIN:DAYLIGHT
TZOFFSETFROM:-0500
TZOFFSETTO:-0400
TZNAME:EDT
DTSTART:20170312T070000
END:DAYLIGHT
BEGIN:STANDARD
TZOFFSETFROM:-0400
TZOFFSETTO:-0500
TZNAME:EST
DTSTART:20171105T060000
END:STANDARD
BEGIN:DAYLIGHT
TZOFFSETFROM:-0500
TZOFFSETTO:-0400
TZNAME:EDT
DTSTART:20180311T070000
END:DAYLIGHT
BEGIN:STANDARD
TZOFFSETFROM:-0400
TZOFFSETTO:-0500
TZNAME:EST
DTSTART:20181104T060000
END:STANDARD
END:VTIMEZONE
BEGIN:VEVENT
DTSTART;TZID=America/New_York:20170423T060000
DTEND;TZID=America/New_York:20170423T120000
DTSTAMP:20260420T023849
CREATED:20170412T144702Z
LAST-MODIFIED:20170412T144702Z
UID:3533-1492927200-1492948800@springfieldparkingauthority.com
SUMMARY:New England Society of Children's Book Winters & Illustration
DESCRIPTION:Parking is available at the I-91 North and South Garages – On the Clock
URL:https://springfieldparkingauthority.com/event/new-england-society-of-childrens-book-winters-illustration-3/
LOCATION:Sheraton Hotel\, One Monarch Place\, Springfield\, MA\, 01103\, United States
END:VEVENT
BEGIN:VEVENT
DTSTART;TZID=America/New_York:20170423T060000
DTEND;TZID=America/New_York:20170423T120000
DTSTAMP:20260420T023849
CREATED:20170412T144702Z
LAST-MODIFIED:20170412T144702Z
UID:10552-1492927200-1492948800@springfieldparkingauthority.com
SUMMARY:New England Society of Children's Book Winters & Illustration
DESCRIPTION:Parking is available at the I-91 North and South Garages – On the Clock
URL:https://springfieldparkingauthority.com/event/new-england-society-of-childrens-book-winters-illustration-3-2/
LOCATION:Sheraton Hotel\, One Monarch Place\, Springfield\, MA\, 01103\, United States
END:VEVENT
BEGIN:VEVENT
DTSTART;TZID=America/New_York:20170423T080000
DTEND;TZID=America/New_York:20170423T180000
DTSTAMP:20260420T023849
CREATED:20170327T180817Z
LAST-MODIFIED:20170327T180817Z
UID:10521-1492934400-1492970400@springfieldparkingauthority.com
SUMMARY:Dance Xplosion
DESCRIPTION:Parking is available at the Civic Center Garage – $7 & $12 Prepay \n 
URL:https://springfieldparkingauthority.com/event/dance-xplosion-8-2/
LOCATION:MassMutual Center\, 1277 Main Street\, Springfield\, MA\, 01103\, United States
END:VEVENT
BEGIN:VEVENT
DTSTART;TZID=America/New_York:20170423T080000
DTEND;TZID=America/New_York:20170423T180000
DTSTAMP:20260420T023849
CREATED:20170327T180817Z
LAST-MODIFIED:20170327T180817Z
UID:3437-1492934400-1492970400@springfieldparkingauthority.com
SUMMARY:Dance Xplosion
DESCRIPTION:Parking is available at the Civic Center Garage – $7 & $12 Prepay \n 
URL:https://springfieldparkingauthority.com/event/dance-xplosion-8/
LOCATION:MassMutual Center\, 1277 Main Street\, Springfield\, MA\, 01103\, United States
END:VEVENT
BEGIN:VEVENT
DTSTART;TZID=America/New_York:20170423T080000
DTEND;TZID=America/New_York:20170423T220000
DTSTAMP:20260420T023849
CREATED:20170327T181135Z
LAST-MODIFIED:20170327T181135Z
UID:10522-1492934400-1492984800@springfieldparkingauthority.com
SUMMARY:SA Gymnastics region 6- Level 7/8 Regional Championship
DESCRIPTION:Parking is available at the Civic Center Garage – $7 & $12 Prepay \n 
URL:https://springfieldparkingauthority.com/event/sa-gymnastics-region-6-level-78-regional-championship-2-2/
LOCATION:MassMutual Center\, 1277 Main Street\, Springfield\, MA\, 01103\, United States
END:VEVENT
BEGIN:VEVENT
DTSTART;TZID=America/New_York:20170423T080000
DTEND;TZID=America/New_York:20170423T220000
DTSTAMP:20260420T023849
CREATED:20170327T181135Z
LAST-MODIFIED:20170327T181135Z
UID:3439-1492934400-1492984800@springfieldparkingauthority.com
SUMMARY:SA Gymnastics region 6- Level 7/8 Regional Championship
DESCRIPTION:Parking is available at the Civic Center Garage – $7 & $12 Prepay \n 
URL:https://springfieldparkingauthority.com/event/sa-gymnastics-region-6-level-78-regional-championship-2/
LOCATION:MassMutual Center\, 1277 Main Street\, Springfield\, MA\, 01103\, United States
END:VEVENT
END:VCALENDAR