BEGIN:VCALENDAR
VERSION:2.0
PRODID:-//Springfield Parking Authority - ECPv6.15.20//NONSGML v1.0//EN
CALSCALE:GREGORIAN
METHOD:PUBLISH
X-WR-CALNAME:Springfield Parking Authority
X-ORIGINAL-URL:https://springfieldparkingauthority.com
X-WR-CALDESC:Events for Springfield Parking Authority
REFRESH-INTERVAL;VALUE=DURATION:PT1H
X-Robots-Tag:noindex
X-PUBLISHED-TTL:PT1H
BEGIN:VTIMEZONE
TZID:America/New_York
BEGIN:DAYLIGHT
TZOFFSETFROM:-0500
TZOFFSETTO:-0400
TZNAME:EDT
DTSTART:20160313T070000
END:DAYLIGHT
BEGIN:STANDARD
TZOFFSETFROM:-0400
TZOFFSETTO:-0500
TZNAME:EST
DTSTART:20161106T060000
END:STANDARD
BEGIN:DAYLIGHT
TZOFFSETFROM:-0500
TZOFFSETTO:-0400
TZNAME:EDT
DTSTART:20170312T070000
END:DAYLIGHT
BEGIN:STANDARD
TZOFFSETFROM:-0400
TZOFFSETTO:-0500
TZNAME:EST
DTSTART:20171105T060000
END:STANDARD
BEGIN:DAYLIGHT
TZOFFSETFROM:-0500
TZOFFSETTO:-0400
TZNAME:EDT
DTSTART:20180311T070000
END:DAYLIGHT
BEGIN:STANDARD
TZOFFSETFROM:-0400
TZOFFSETTO:-0500
TZNAME:EST
DTSTART:20181104T060000
END:STANDARD
END:VTIMEZONE
BEGIN:VEVENT
DTSTART;TZID=America/New_York:20170502T080000
DTEND;TZID=America/New_York:20170506T000000
DTSTAMP:20260420T235850
CREATED:20170502T160653Z
LAST-MODIFIED:20170502T160653Z
UID:10596-1493712000-1494028800@springfieldparkingauthority.com
SUMMARY:SWEET ADELINES 2017
DESCRIPTION:Parking is available at the I-91 North and South Garages – On the Clock \n 
URL:https://springfieldparkingauthority.com/event/sweet-adelines-2017-3/
LOCATION:Sheraton Hotel\, One Monarch Place\, Springfield\, MA\, 01103\, United States
END:VEVENT
BEGIN:VEVENT
DTSTART;TZID=America/New_York:20170502T080000
DTEND;TZID=America/New_York:20170506T000000
DTSTAMP:20260420T235850
CREATED:20170502T160653Z
LAST-MODIFIED:20170502T160653Z
UID:3684-1493712000-1494028800@springfieldparkingauthority.com
SUMMARY:SWEET ADELINES 2017
DESCRIPTION:Parking is available at the I-91 North and South Garages – On the Clock \n 
URL:https://springfieldparkingauthority.com/event/sweet-adelines-2017/
LOCATION:Sheraton Hotel\, One Monarch Place\, Springfield\, MA\, 01103\, United States
END:VEVENT
BEGIN:VEVENT
DTSTART;TZID=America/New_York:20170504T173000
DTEND;TZID=America/New_York:20170504T220000
DTSTAMP:20260420T235850
CREATED:20170502T160506Z
LAST-MODIFIED:20170502T160506Z
UID:10594-1493919000-1493935200@springfieldparkingauthority.com
SUMMARY:SPRINGFIELD BOYS AND GIRLS CLUB
DESCRIPTION:Parking is available at the I-91 North and South Garages – On the Clock \n 
URL:https://springfieldparkingauthority.com/event/springfield-boys-and-girls-club-3/
LOCATION:Sheraton Hotel\, One Monarch Place\, Springfield\, MA\, 01103\, United States
END:VEVENT
BEGIN:VEVENT
DTSTART;TZID=America/New_York:20170504T173000
DTEND;TZID=America/New_York:20170504T220000
DTSTAMP:20260420T235850
CREATED:20170502T160506Z
LAST-MODIFIED:20170502T160506Z
UID:3680-1493919000-1493935200@springfieldparkingauthority.com
SUMMARY:SPRINGFIELD BOYS AND GIRLS CLUB
DESCRIPTION:Parking is available at the I-91 North and South Garages – On the Clock \n 
URL:https://springfieldparkingauthority.com/event/springfield-boys-and-girls-club/
LOCATION:Sheraton Hotel\, One Monarch Place\, Springfield\, MA\, 01103\, United States
END:VEVENT
BEGIN:VEVENT
DTSTART;TZID=America/New_York:20170504T193000
DTEND;TZID=America/New_York:20170504T220000
DTSTAMP:20260420T235850
CREATED:20170418T172804Z
LAST-MODIFIED:20170418T172804Z
UID:10555-1493926200-1493935200@springfieldparkingauthority.com
SUMMARY:STORM LARGE
DESCRIPTION:Parking is available at the Columbus Center Garage – Free with Ticket \n 
URL:https://springfieldparkingauthority.com/event/storm-large-2/
LOCATION:Columbus Center\, 1 Columbus Center\, Springfield\, MA\, 01103\, United States
END:VEVENT
BEGIN:VEVENT
DTSTART;TZID=America/New_York:20170504T193000
DTEND;TZID=America/New_York:20170504T220000
DTSTAMP:20260420T235850
CREATED:20170418T172804Z
LAST-MODIFIED:20170418T172804Z
UID:3551-1493926200-1493935200@springfieldparkingauthority.com
SUMMARY:STORM LARGE
DESCRIPTION:Parking is available at the Columbus Center Garage – Free with Ticket \n 
URL:https://springfieldparkingauthority.com/event/storm-large/
LOCATION:Columbus Center\, 1 Columbus Center\, Springfield\, MA\, 01103\, United States
END:VEVENT
END:VCALENDAR