BEGIN:VCALENDAR
VERSION:2.0
PRODID:-//Springfield Parking Authority - ECPv6.15.20//NONSGML v1.0//EN
CALSCALE:GREGORIAN
METHOD:PUBLISH
X-ORIGINAL-URL:https://springfieldparkingauthority.com
X-WR-CALDESC:Events for Springfield Parking Authority
REFRESH-INTERVAL;VALUE=DURATION:PT1H
X-Robots-Tag:noindex
X-PUBLISHED-TTL:PT1H
BEGIN:VTIMEZONE
TZID:America/New_York
BEGIN:DAYLIGHT
TZOFFSETFROM:-0500
TZOFFSETTO:-0400
TZNAME:EDT
DTSTART:20160313T070000
END:DAYLIGHT
BEGIN:STANDARD
TZOFFSETFROM:-0400
TZOFFSETTO:-0500
TZNAME:EST
DTSTART:20161106T060000
END:STANDARD
BEGIN:DAYLIGHT
TZOFFSETFROM:-0500
TZOFFSETTO:-0400
TZNAME:EDT
DTSTART:20170312T070000
END:DAYLIGHT
BEGIN:STANDARD
TZOFFSETFROM:-0400
TZOFFSETTO:-0500
TZNAME:EST
DTSTART:20171105T060000
END:STANDARD
BEGIN:DAYLIGHT
TZOFFSETFROM:-0500
TZOFFSETTO:-0400
TZNAME:EDT
DTSTART:20180311T070000
END:DAYLIGHT
BEGIN:STANDARD
TZOFFSETFROM:-0400
TZOFFSETTO:-0500
TZNAME:EST
DTSTART:20181104T060000
END:STANDARD
END:VTIMEZONE
BEGIN:VEVENT
DTSTART;TZID=America/New_York:20170511T073000
DTEND;TZID=America/New_York:20170511T110000
DTSTAMP:20260421T182355
CREATED:20170503T181404Z
LAST-MODIFIED:20170503T181404Z
UID:10601-1494487800-1494500400@springfieldparkingauthority.com
SUMMARY:HAMPDEN DISTRICT ATTORNEY'S YOUTH ADVISORY BOARD CONFERENCE
DESCRIPTION:Parking is available at the Civic Center Garage – FREE WITH TICKET \n 
URL:https://springfieldparkingauthority.com/event/hampden-district-attorneys-youth-advisory-board-conference-2/
LOCATION:MassMutual Center\, 1277 Main Street\, Springfield\, MA\, 01103\, United States
END:VEVENT
BEGIN:VEVENT
DTSTART;TZID=America/New_York:20170511T073000
DTEND;TZID=America/New_York:20170511T110000
DTSTAMP:20260421T182355
CREATED:20170503T181404Z
LAST-MODIFIED:20170503T181404Z
UID:3699-1494487800-1494500400@springfieldparkingauthority.com
SUMMARY:HAMPDEN DISTRICT ATTORNEY'S YOUTH ADVISORY BOARD CONFERENCE
DESCRIPTION:Parking is available at the Civic Center Garage – FREE WITH TICKET \n 
URL:https://springfieldparkingauthority.com/event/hampden-district-attorneys-youth-advisory-board-conference/
LOCATION:MassMutual Center\, 1277 Main Street\, Springfield\, MA\, 01103\, United States
END:VEVENT
BEGIN:VEVENT
DTSTART;TZID=America/New_York:20170511T080000
DTEND;TZID=America/New_York:20170511T110000
DTSTAMP:20260421T182355
CREATED:20170421T144857Z
LAST-MODIFIED:20170421T144857Z
UID:10566-1494489600-1494500400@springfieldparkingauthority.com
SUMMARY:Hampden DA'S Office Task Force Meeting
DESCRIPTION:Parking is available at the Civic Center Garage – $7 Postpay \n 
URL:https://springfieldparkingauthority.com/event/hampden-das-office-task-force-meeting-2/
LOCATION:MassMutual Center\, 1277 Main Street\, Springfield\, MA\, 01103\, United States
END:VEVENT
BEGIN:VEVENT
DTSTART;TZID=America/New_York:20170511T080000
DTEND;TZID=America/New_York:20170511T110000
DTSTAMP:20260421T182355
CREATED:20170421T144857Z
LAST-MODIFIED:20170421T144857Z
UID:3591-1494489600-1494500400@springfieldparkingauthority.com
SUMMARY:Hampden DA'S Office Task Force Meeting
DESCRIPTION:Parking is available at the Civic Center Garage – $7 Postpay \n 
URL:https://springfieldparkingauthority.com/event/hampden-das-office-task-force-meeting/
LOCATION:MassMutual Center\, 1277 Main Street\, Springfield\, MA\, 01103\, United States
END:VEVENT
BEGIN:VEVENT
DTSTART;TZID=America/New_York:20170511T110000
DTEND;TZID=America/New_York:20170511T160000
DTSTAMP:20260421T182355
CREATED:20170509T145733Z
LAST-MODIFIED:20170509T145733Z
UID:10606-1494500400-1494518400@springfieldparkingauthority.com
SUMMARY:SAFETY COUNCIL OF WESTERN NEW ENGLAND
DESCRIPTION:Parking is available at the I-91 North and South Garages – On the Clock \n 
URL:https://springfieldparkingauthority.com/event/safety-council-of-western-new-england-3/
LOCATION:Sheraton Hotel\, One Monarch Place\, Springfield\, MA\, 01103\, United States
END:VEVENT
BEGIN:VEVENT
DTSTART;TZID=America/New_York:20170511T110000
DTEND;TZID=America/New_York:20170511T160000
DTSTAMP:20260421T182355
CREATED:20170509T145733Z
LAST-MODIFIED:20170509T145733Z
UID:3712-1494500400-1494518400@springfieldparkingauthority.com
SUMMARY:SAFETY COUNCIL OF WESTERN NEW ENGLAND
DESCRIPTION:Parking is available at the I-91 North and South Garages – On the Clock \n 
URL:https://springfieldparkingauthority.com/event/safety-council-of-western-new-england/
LOCATION:Sheraton Hotel\, One Monarch Place\, Springfield\, MA\, 01103\, United States
END:VEVENT
BEGIN:VEVENT
DTSTART;TZID=America/New_York:20170511T170000
DTEND;TZID=America/New_York:20170511T200000
DTSTAMP:20260421T182355
CREATED:20170503T181246Z
LAST-MODIFIED:20170503T181246Z
UID:3693-1494522000-1494532800@springfieldparkingauthority.com
SUMMARY:MERCY MEDICAL ANNUAL MEETING
DESCRIPTION:Parking is available at the Columbus Center Garage – Free With Vouchers \n 
URL:https://springfieldparkingauthority.com/event/mercy-medical-annual-meeting-3/
LOCATION:Columbus Center\, 1 Columbus Center\, Springfield\, MA\, 01103\, United States
END:VEVENT
BEGIN:VEVENT
DTSTART;TZID=America/New_York:20170511T170000
DTEND;TZID=America/New_York:20170511T200000
DTSTAMP:20260421T182356
CREATED:20170503T181246Z
LAST-MODIFIED:20170503T181246Z
UID:10600-1494522000-1494532800@springfieldparkingauthority.com
SUMMARY:MERCY MEDICAL ANNUAL MEETING
DESCRIPTION:Parking is available at the Columbus Center Garage – Free With Vouchers \n 
URL:https://springfieldparkingauthority.com/event/mercy-medical-annual-meeting-3-2/
LOCATION:Columbus Center\, 1 Columbus Center\, Springfield\, MA\, 01103\, United States
END:VEVENT
END:VCALENDAR