BEGIN:VCALENDAR
VERSION:2.0
PRODID:-//Springfield Parking Authority - ECPv6.15.20//NONSGML v1.0//EN
CALSCALE:GREGORIAN
METHOD:PUBLISH
X-WR-CALNAME:Springfield Parking Authority
X-ORIGINAL-URL:https://springfieldparkingauthority.com
X-WR-CALDESC:Events for Springfield Parking Authority
REFRESH-INTERVAL;VALUE=DURATION:PT1H
X-Robots-Tag:noindex
X-PUBLISHED-TTL:PT1H
BEGIN:VTIMEZONE
TZID:America/New_York
BEGIN:DAYLIGHT
TZOFFSETFROM:-0500
TZOFFSETTO:-0400
TZNAME:EDT
DTSTART:20160313T070000
END:DAYLIGHT
BEGIN:STANDARD
TZOFFSETFROM:-0400
TZOFFSETTO:-0500
TZNAME:EST
DTSTART:20161106T060000
END:STANDARD
BEGIN:DAYLIGHT
TZOFFSETFROM:-0500
TZOFFSETTO:-0400
TZNAME:EDT
DTSTART:20170312T070000
END:DAYLIGHT
BEGIN:STANDARD
TZOFFSETFROM:-0400
TZOFFSETTO:-0500
TZNAME:EST
DTSTART:20171105T060000
END:STANDARD
BEGIN:DAYLIGHT
TZOFFSETFROM:-0500
TZOFFSETTO:-0400
TZNAME:EDT
DTSTART:20180311T070000
END:DAYLIGHT
BEGIN:STANDARD
TZOFFSETFROM:-0400
TZOFFSETTO:-0500
TZNAME:EST
DTSTART:20181104T060000
END:STANDARD
END:VTIMEZONE
BEGIN:VEVENT
DTSTART;TZID=America/New_York:20170606T180000
DTEND;TZID=America/New_York:20170606T200000
DTSTAMP:20260421T191018
CREATED:20170525T170009Z
LAST-MODIFIED:20170525T170009Z
UID:3800-1496772000-1496779200@springfieldparkingauthority.com
SUMMARY:Putnam High School Graduation
DESCRIPTION:Parking is available at the I-91 North and South Garages – $7 Prepay \n 
URL:https://springfieldparkingauthority.com/event/putnam-high-school-graduation-3/
LOCATION:Symphony Hall\, 34 Court St.\, Springfield\, MA\, 01103\, United States
END:VEVENT
BEGIN:VEVENT
DTSTART;TZID=America/New_York:20170606T180000
DTEND;TZID=America/New_York:20170606T200000
DTSTAMP:20260421T191018
CREATED:20170525T170009Z
LAST-MODIFIED:20170525T170009Z
UID:10638-1496772000-1496779200@springfieldparkingauthority.com
SUMMARY:Putnam High School Graduation
DESCRIPTION:Parking is available at the I-91 North and South Garages – $7 Prepay \n 
URL:https://springfieldparkingauthority.com/event/putnam-high-school-graduation-3-2/
LOCATION:Symphony Hall\, 34 Court St.\, Springfield\, MA\, 01103\, United States
END:VEVENT
END:VCALENDAR