BEGIN:VCALENDAR
VERSION:2.0
PRODID:-//Springfield Parking Authority - ECPv6.15.20//NONSGML v1.0//EN
CALSCALE:GREGORIAN
METHOD:PUBLISH
X-ORIGINAL-URL:https://springfieldparkingauthority.com
X-WR-CALDESC:Events for Springfield Parking Authority
REFRESH-INTERVAL;VALUE=DURATION:PT1H
X-Robots-Tag:noindex
X-PUBLISHED-TTL:PT1H
BEGIN:VTIMEZONE
TZID:America/New_York
BEGIN:DAYLIGHT
TZOFFSETFROM:-0500
TZOFFSETTO:-0400
TZNAME:EDT
DTSTART:20160313T070000
END:DAYLIGHT
BEGIN:STANDARD
TZOFFSETFROM:-0400
TZOFFSETTO:-0500
TZNAME:EST
DTSTART:20161106T060000
END:STANDARD
BEGIN:DAYLIGHT
TZOFFSETFROM:-0500
TZOFFSETTO:-0400
TZNAME:EDT
DTSTART:20170312T070000
END:DAYLIGHT
BEGIN:STANDARD
TZOFFSETFROM:-0400
TZOFFSETTO:-0500
TZNAME:EST
DTSTART:20171105T060000
END:STANDARD
BEGIN:DAYLIGHT
TZOFFSETFROM:-0500
TZOFFSETTO:-0400
TZNAME:EDT
DTSTART:20180311T070000
END:DAYLIGHT
BEGIN:STANDARD
TZOFFSETFROM:-0400
TZOFFSETTO:-0500
TZNAME:EST
DTSTART:20181104T060000
END:STANDARD
END:VTIMEZONE
BEGIN:VEVENT
DTSTART;TZID=America/New_York:20170611T070000
DTEND;TZID=America/New_York:20170611T180000
DTSTAMP:20260421T182402
CREATED:20170602T142309Z
LAST-MODIFIED:20170602T142309Z
UID:10666-1497164400-1497204000@springfieldparkingauthority.com
SUMMARY:Hats off 2017
DESCRIPTION:Parking is available at the I-91 North and South Garages – On the Clock \n 
URL:https://springfieldparkingauthority.com/event/hats-off-2017-2/
LOCATION:Sheraton Hotel\, One Monarch Place\, Springfield\, MA\, 01103\, United States
END:VEVENT
BEGIN:VEVENT
DTSTART;TZID=America/New_York:20170611T070000
DTEND;TZID=America/New_York:20170611T180000
DTSTAMP:20260421T182402
CREATED:20170602T142309Z
LAST-MODIFIED:20170602T142309Z
UID:3866-1497164400-1497204000@springfieldparkingauthority.com
SUMMARY:Hats off 2017
DESCRIPTION:Parking is available at the I-91 North and South Garages – On the Clock \n 
URL:https://springfieldparkingauthority.com/event/hats-off-2017/
LOCATION:Sheraton Hotel\, One Monarch Place\, Springfield\, MA\, 01103\, United States
END:VEVENT
BEGIN:VEVENT
DTSTART;TZID=America/New_York:20170611T130000
DTEND;TZID=America/New_York:20170611T200000
DTSTAMP:20260421T182402
CREATED:20170525T170654Z
LAST-MODIFIED:20170525T170654Z
UID:3815-1497186000-1497211200@springfieldparkingauthority.com
SUMMARY:Longmeadow High Graduation
DESCRIPTION:Parking is available at the I-91 North And South Garage – $7 Prepay \n 
URL:https://springfieldparkingauthority.com/event/longmeadow-high-graduation/
LOCATION:Symphony Hall\, 34 Court St.\, Springfield\, MA\, 01103\, United States
END:VEVENT
BEGIN:VEVENT
DTSTART;TZID=America/New_York:20170611T130000
DTEND;TZID=America/New_York:20170611T200000
DTSTAMP:20260421T182402
CREATED:20170525T170654Z
LAST-MODIFIED:20170525T170654Z
UID:10645-1497186000-1497211200@springfieldparkingauthority.com
SUMMARY:Longmeadow High Graduation
DESCRIPTION:Parking is available at the I-91 North And South Garage – $7 Prepay \n 
URL:https://springfieldparkingauthority.com/event/longmeadow-high-graduation-2/
LOCATION:Symphony Hall\, 34 Court St.\, Springfield\, MA\, 01103\, United States
END:VEVENT
END:VCALENDAR