BEGIN:VCALENDAR
VERSION:2.0
PRODID:-//Springfield Parking Authority - ECPv6.15.20//NONSGML v1.0//EN
CALSCALE:GREGORIAN
METHOD:PUBLISH
X-ORIGINAL-URL:https://springfieldparkingauthority.com
X-WR-CALDESC:Events for Springfield Parking Authority
REFRESH-INTERVAL;VALUE=DURATION:PT1H
X-Robots-Tag:noindex
X-PUBLISHED-TTL:PT1H
BEGIN:VTIMEZONE
TZID:America/New_York
BEGIN:DAYLIGHT
TZOFFSETFROM:-0500
TZOFFSETTO:-0400
TZNAME:EDT
DTSTART:20160313T070000
END:DAYLIGHT
BEGIN:STANDARD
TZOFFSETFROM:-0400
TZOFFSETTO:-0500
TZNAME:EST
DTSTART:20161106T060000
END:STANDARD
BEGIN:DAYLIGHT
TZOFFSETFROM:-0500
TZOFFSETTO:-0400
TZNAME:EDT
DTSTART:20170312T070000
END:DAYLIGHT
BEGIN:STANDARD
TZOFFSETFROM:-0400
TZOFFSETTO:-0500
TZNAME:EST
DTSTART:20171105T060000
END:STANDARD
BEGIN:DAYLIGHT
TZOFFSETFROM:-0500
TZOFFSETTO:-0400
TZNAME:EDT
DTSTART:20180311T070000
END:DAYLIGHT
BEGIN:STANDARD
TZOFFSETFROM:-0400
TZOFFSETTO:-0500
TZNAME:EST
DTSTART:20181104T060000
END:STANDARD
END:VTIMEZONE
BEGIN:VEVENT
DTSTART;TZID=America/New_York:20170612T070000
DTEND;TZID=America/New_York:20170612T210000
DTSTAMP:20260421T121849
CREATED:20170607T152841Z
LAST-MODIFIED:20170607T152841Z
UID:3880-1497250800-1497301200@springfieldparkingauthority.com
SUMMARY:2017 Narug Annual Conference
DESCRIPTION:Parking is available at the I-91 North and South Garages – On the Clock \n 
URL:https://springfieldparkingauthority.com/event/2017-narug-annual-conference/
LOCATION:Sheraton Hotel\, One Monarch Place\, Springfield\, MA\, 01103\, United States
END:VEVENT
BEGIN:VEVENT
DTSTART;TZID=America/New_York:20170612T070000
DTEND;TZID=America/New_York:20170612T210000
DTSTAMP:20260421T121849
CREATED:20170607T152841Z
LAST-MODIFIED:20170607T152841Z
UID:10668-1497250800-1497301200@springfieldparkingauthority.com
SUMMARY:2017 Narug Annual Conference
DESCRIPTION:Parking is available at the I-91 North and South Garages – On the Clock \n 
URL:https://springfieldparkingauthority.com/event/2017-narug-annual-conference-3/
LOCATION:Sheraton Hotel\, One Monarch Place\, Springfield\, MA\, 01103\, United States
END:VEVENT
BEGIN:VEVENT
DTSTART;TZID=America/New_York:20170612T180000
DTEND;TZID=America/New_York:20170612T200000
DTSTAMP:20260421T121849
CREATED:20170525T170741Z
LAST-MODIFIED:20170525T170741Z
UID:10646-1497290400-1497297600@springfieldparkingauthority.com
SUMMARY:SciTech Graduation
DESCRIPTION:Parking is available at the I-91 North And South Garage – $7 Prepay \n 
URL:https://springfieldparkingauthority.com/event/scitech-graduation-2/
LOCATION:Symphony Hall\, 34 Court St.\, Springfield\, MA\, 01103\, United States
END:VEVENT
BEGIN:VEVENT
DTSTART;TZID=America/New_York:20170612T180000
DTEND;TZID=America/New_York:20170612T200000
DTSTAMP:20260421T121849
CREATED:20170525T170741Z
LAST-MODIFIED:20170525T170741Z
UID:3817-1497290400-1497297600@springfieldparkingauthority.com
SUMMARY:SciTech Graduation
DESCRIPTION:Parking is available at the I-91 North And South Garage – $7 Prepay \n 
URL:https://springfieldparkingauthority.com/event/scitech-graduation/
LOCATION:Symphony Hall\, 34 Court St.\, Springfield\, MA\, 01103\, United States
END:VEVENT
END:VCALENDAR