BEGIN:VCALENDAR
VERSION:2.0
PRODID:-//Springfield Parking Authority - ECPv6.15.20//NONSGML v1.0//EN
CALSCALE:GREGORIAN
METHOD:PUBLISH
X-ORIGINAL-URL:https://springfieldparkingauthority.com
X-WR-CALDESC:Events for Springfield Parking Authority
REFRESH-INTERVAL;VALUE=DURATION:PT1H
X-Robots-Tag:noindex
X-PUBLISHED-TTL:PT1H
BEGIN:VTIMEZONE
TZID:America/New_York
BEGIN:DAYLIGHT
TZOFFSETFROM:-0500
TZOFFSETTO:-0400
TZNAME:EDT
DTSTART:20160313T070000
END:DAYLIGHT
BEGIN:STANDARD
TZOFFSETFROM:-0400
TZOFFSETTO:-0500
TZNAME:EST
DTSTART:20161106T060000
END:STANDARD
BEGIN:DAYLIGHT
TZOFFSETFROM:-0500
TZOFFSETTO:-0400
TZNAME:EDT
DTSTART:20170312T070000
END:DAYLIGHT
BEGIN:STANDARD
TZOFFSETFROM:-0400
TZOFFSETTO:-0500
TZNAME:EST
DTSTART:20171105T060000
END:STANDARD
BEGIN:DAYLIGHT
TZOFFSETFROM:-0500
TZOFFSETTO:-0400
TZNAME:EDT
DTSTART:20180311T070000
END:DAYLIGHT
BEGIN:STANDARD
TZOFFSETFROM:-0400
TZOFFSETTO:-0500
TZNAME:EST
DTSTART:20181104T060000
END:STANDARD
END:VTIMEZONE
BEGIN:VEVENT
DTSTART;TZID=America/New_York:20170617T100000
DTEND;TZID=America/New_York:20170617T110000
DTSTAMP:20260422T122601
CREATED:20170530T150553Z
LAST-MODIFIED:20170530T150553Z
UID:3837-1497693600-1497697200@springfieldparkingauthority.com
SUMMARY:Artistic Dance Show 1
DESCRIPTION:Parking is available at the Columbus Center Garage – $7 Prepay \n 
URL:https://springfieldparkingauthority.com/event/artistic-dance-show-1/
LOCATION:Columbus Center\, 1 Columbus Center\, Springfield\, MA\, 01103\, United States
END:VEVENT
BEGIN:VEVENT
DTSTART;TZID=America/New_York:20170617T100000
DTEND;TZID=America/New_York:20170617T110000
DTSTAMP:20260422T122601
CREATED:20170530T150553Z
LAST-MODIFIED:20170530T150553Z
UID:10655-1497693600-1497697200@springfieldparkingauthority.com
SUMMARY:Artistic Dance Show 1
DESCRIPTION:Parking is available at the Columbus Center Garage – $7 Prepay \n 
URL:https://springfieldparkingauthority.com/event/artistic-dance-show-1-3/
LOCATION:Columbus Center\, 1 Columbus Center\, Springfield\, MA\, 01103\, United States
END:VEVENT
BEGIN:VEVENT
DTSTART;TZID=America/New_York:20170617T120000
DTEND;TZID=America/New_York:20170617T130000
DTSTAMP:20260422T122601
CREATED:20170530T150647Z
LAST-MODIFIED:20170530T150647Z
UID:10656-1497700800-1497704400@springfieldparkingauthority.com
SUMMARY:Artistic Dance Show 2
DESCRIPTION:Parking is available at the Columbus Center Garage – $7 Prepay \n 
URL:https://springfieldparkingauthority.com/event/artistic-dance-show-2-3/
LOCATION:Columbus Center\, 1 Columbus Center\, Springfield\, MA\, 01103\, United States
END:VEVENT
BEGIN:VEVENT
DTSTART;TZID=America/New_York:20170617T120000
DTEND;TZID=America/New_York:20170617T130000
DTSTAMP:20260422T122601
CREATED:20170530T150647Z
LAST-MODIFIED:20170530T150647Z
UID:3839-1497700800-1497704400@springfieldparkingauthority.com
SUMMARY:Artistic Dance Show 2
DESCRIPTION:Parking is available at the Columbus Center Garage – $7 Prepay \n 
URL:https://springfieldparkingauthority.com/event/artistic-dance-show-2/
LOCATION:Columbus Center\, 1 Columbus Center\, Springfield\, MA\, 01103\, United States
END:VEVENT
BEGIN:VEVENT
DTSTART;TZID=America/New_York:20170617T140000
DTEND;TZID=America/New_York:20170617T150000
DTSTAMP:20260422T122601
CREATED:20170530T150736Z
LAST-MODIFIED:20170530T150736Z
UID:10657-1497708000-1497711600@springfieldparkingauthority.com
SUMMARY:Artistic Dance Show Case 1-Solos
DESCRIPTION:Parking is available at the Columbus Center Garage – $7 Prepay \n 
URL:https://springfieldparkingauthority.com/event/artistic-dance-show-case-1-solos-3/
LOCATION:Columbus Center\, 1 Columbus Center\, Springfield\, MA\, 01103\, United States
END:VEVENT
BEGIN:VEVENT
DTSTART;TZID=America/New_York:20170617T140000
DTEND;TZID=America/New_York:20170617T150000
DTSTAMP:20260422T122601
CREATED:20170530T150736Z
LAST-MODIFIED:20170530T150736Z
UID:3841-1497708000-1497711600@springfieldparkingauthority.com
SUMMARY:Artistic Dance Show Case 1-Solos
DESCRIPTION:Parking is available at the Columbus Center Garage – $7 Prepay \n 
URL:https://springfieldparkingauthority.com/event/artistic-dance-show-case-1-solos/
LOCATION:Columbus Center\, 1 Columbus Center\, Springfield\, MA\, 01103\, United States
END:VEVENT
BEGIN:VEVENT
DTSTART;TZID=America/New_York:20170617T153000
DTEND;TZID=America/New_York:20170617T170000
DTSTAMP:20260422T122601
CREATED:20170530T150909Z
LAST-MODIFIED:20170530T150909Z
UID:3843-1497713400-1497718800@springfieldparkingauthority.com
SUMMARY:Artistic Dance Show 3
DESCRIPTION:Parking is available at the Columbus Center Garage – $7 Prepay \n 
URL:https://springfieldparkingauthority.com/event/artistic-dance-show-3/
LOCATION:Columbus Center\, 1 Columbus Center\, Springfield\, MA\, 01103\, United States
END:VEVENT
BEGIN:VEVENT
DTSTART;TZID=America/New_York:20170617T153000
DTEND;TZID=America/New_York:20170617T170000
DTSTAMP:20260422T122601
CREATED:20170530T150909Z
LAST-MODIFIED:20170530T150909Z
UID:10658-1497713400-1497718800@springfieldparkingauthority.com
SUMMARY:Artistic Dance Show 3
DESCRIPTION:Parking is available at the Columbus Center Garage – $7 Prepay \n 
URL:https://springfieldparkingauthority.com/event/artistic-dance-show-3-3/
LOCATION:Columbus Center\, 1 Columbus Center\, Springfield\, MA\, 01103\, United States
END:VEVENT
BEGIN:VEVENT
DTSTART;TZID=America/New_York:20170617T160000
DTEND;TZID=America/New_York:20170617T220000
DTSTAMP:20260422T122601
CREATED:20170607T153247Z
LAST-MODIFIED:20170607T153247Z
UID:3889-1497715200-1497736800@springfieldparkingauthority.com
SUMMARY:Starwood Meeting Line Smerf
DESCRIPTION:Parking is available at the I-91 North and South Garages – On the Clock \n 
URL:https://springfieldparkingauthority.com/event/starwood-meeting-line-smerf/
LOCATION:Sheraton Hotel\, One Monarch Place\, Springfield\, MA\, 01103\, United States
END:VEVENT
BEGIN:VEVENT
DTSTART;TZID=America/New_York:20170617T160000
DTEND;TZID=America/New_York:20170617T220000
DTSTAMP:20260422T122601
CREATED:20170607T153247Z
LAST-MODIFIED:20170607T153247Z
UID:10672-1497715200-1497736800@springfieldparkingauthority.com
SUMMARY:Starwood Meeting Line Smerf
DESCRIPTION:Parking is available at the I-91 North and South Garages – On the Clock \n 
URL:https://springfieldparkingauthority.com/event/starwood-meeting-line-smerf-2/
LOCATION:Sheraton Hotel\, One Monarch Place\, Springfield\, MA\, 01103\, United States
END:VEVENT
BEGIN:VEVENT
DTSTART;TZID=America/New_York:20170617T183000
DTEND;TZID=America/New_York:20170617T190000
DTSTAMP:20260422T122601
CREATED:20170530T150952Z
LAST-MODIFIED:20170530T150952Z
UID:3845-1497724200-1497726000@springfieldparkingauthority.com
SUMMARY:Artistic Dance Show Case 2-Solos
DESCRIPTION:Parking is available at the Columbus Center Garage – $7 Prepay \n 
URL:https://springfieldparkingauthority.com/event/artistic-dance-show-case-2-solos/
LOCATION:Columbus Center\, 1 Columbus Center\, Springfield\, MA\, 01103\, United States
END:VEVENT
BEGIN:VEVENT
DTSTART;TZID=America/New_York:20170617T183000
DTEND;TZID=America/New_York:20170617T190000
DTSTAMP:20260422T122601
CREATED:20170530T150952Z
LAST-MODIFIED:20170530T150952Z
UID:10659-1497724200-1497726000@springfieldparkingauthority.com
SUMMARY:Artistic Dance Show Case 2-Solos
DESCRIPTION:Parking is available at the Columbus Center Garage – $7 Prepay \n 
URL:https://springfieldparkingauthority.com/event/artistic-dance-show-case-2-solos-2/
LOCATION:Columbus Center\, 1 Columbus Center\, Springfield\, MA\, 01103\, United States
END:VEVENT
BEGIN:VEVENT
DTSTART;TZID=America/New_York:20170617T193000
DTEND;TZID=America/New_York:20170617T210000
DTSTAMP:20260422T122601
CREATED:20170530T151031Z
LAST-MODIFIED:20170530T151031Z
UID:3847-1497727800-1497733200@springfieldparkingauthority.com
SUMMARY:Artistic Dance Show 4
DESCRIPTION:Parking is available at the Columbus Center Garage – $7 Prepay \n 
URL:https://springfieldparkingauthority.com/event/artistic-dance-show-4/
LOCATION:Columbus Center\, 1 Columbus Center\, Springfield\, MA\, 01103\, United States
END:VEVENT
BEGIN:VEVENT
DTSTART;TZID=America/New_York:20170617T193000
DTEND;TZID=America/New_York:20170617T210000
DTSTAMP:20260422T122601
CREATED:20170530T151031Z
LAST-MODIFIED:20170530T151031Z
UID:10660-1497727800-1497733200@springfieldparkingauthority.com
SUMMARY:Artistic Dance Show 4
DESCRIPTION:Parking is available at the Columbus Center Garage – $7 Prepay \n 
URL:https://springfieldparkingauthority.com/event/artistic-dance-show-4-2/
LOCATION:Columbus Center\, 1 Columbus Center\, Springfield\, MA\, 01103\, United States
END:VEVENT
END:VCALENDAR