BEGIN:VCALENDAR
VERSION:2.0
PRODID:-//Springfield Parking Authority - ECPv6.15.20//NONSGML v1.0//EN
CALSCALE:GREGORIAN
METHOD:PUBLISH
X-WR-CALNAME:Springfield Parking Authority
X-ORIGINAL-URL:https://springfieldparkingauthority.com
X-WR-CALDESC:Events for Springfield Parking Authority
REFRESH-INTERVAL;VALUE=DURATION:PT1H
X-Robots-Tag:noindex
X-PUBLISHED-TTL:PT1H
BEGIN:VTIMEZONE
TZID:America/New_York
BEGIN:DAYLIGHT
TZOFFSETFROM:-0500
TZOFFSETTO:-0400
TZNAME:EDT
DTSTART:20160313T070000
END:DAYLIGHT
BEGIN:STANDARD
TZOFFSETFROM:-0400
TZOFFSETTO:-0500
TZNAME:EST
DTSTART:20161106T060000
END:STANDARD
BEGIN:DAYLIGHT
TZOFFSETFROM:-0500
TZOFFSETTO:-0400
TZNAME:EDT
DTSTART:20170312T070000
END:DAYLIGHT
BEGIN:STANDARD
TZOFFSETFROM:-0400
TZOFFSETTO:-0500
TZNAME:EST
DTSTART:20171105T060000
END:STANDARD
BEGIN:DAYLIGHT
TZOFFSETFROM:-0500
TZOFFSETTO:-0400
TZNAME:EDT
DTSTART:20180311T070000
END:DAYLIGHT
BEGIN:STANDARD
TZOFFSETFROM:-0400
TZOFFSETTO:-0500
TZNAME:EST
DTSTART:20181104T060000
END:STANDARD
END:VTIMEZONE
BEGIN:VEVENT
DTSTART;TZID=America/New_York:20170714T070000
DTEND;TZID=America/New_York:20170715T000000
DTSTAMP:20260421T235217
CREATED:20170705T152546Z
LAST-MODIFIED:20170705T152546Z
UID:10696-1500015600-1500076800@springfieldparkingauthority.com
SUMMARY:HOMER LAUGHLIN CHINA COLLECTOR'S ASSOCIATION
DESCRIPTION:Parking is available at the I-91 North and South Garages – On the Clock \n 
URL:https://springfieldparkingauthority.com/event/homer-laughlin-china-collectors-association-2-2/
LOCATION:Sheraton Hotel\, One Monarch Place\, Springfield\, MA\, 01103\, United States
END:VEVENT
BEGIN:VEVENT
DTSTART;TZID=America/New_York:20170714T070000
DTEND;TZID=America/New_York:20170715T000000
DTSTAMP:20260421T235217
CREATED:20170705T152546Z
LAST-MODIFIED:20170705T152546Z
UID:3991-1500015600-1500076800@springfieldparkingauthority.com
SUMMARY:HOMER LAUGHLIN CHINA COLLECTOR'S ASSOCIATION
DESCRIPTION:Parking is available at the I-91 North and South Garages – On the Clock \n 
URL:https://springfieldparkingauthority.com/event/homer-laughlin-china-collectors-association-2/
LOCATION:Sheraton Hotel\, One Monarch Place\, Springfield\, MA\, 01103\, United States
END:VEVENT
BEGIN:VEVENT
DTSTART;TZID=America/New_York:20170714T160000
DTEND;TZID=America/New_York:20170714T220000
DTSTAMP:20260421T235217
CREATED:20170705T152337Z
LAST-MODIFIED:20170705T152337Z
UID:10695-1500048000-1500069600@springfieldparkingauthority.com
SUMMARY:BASKETBULL SUMMER CHAMPIONSHIPS
DESCRIPTION:Parking is available at the Civic Center Garage – $7 & $12 Prepay \n 
URL:https://springfieldparkingauthority.com/event/basketbull-summer-championships-10-2/
LOCATION:MassMutual Center\, 1277 Main Street\, Springfield\, MA\, 01103\, United States
END:VEVENT
BEGIN:VEVENT
DTSTART;TZID=America/New_York:20170714T160000
DTEND;TZID=America/New_York:20170714T220000
DTSTAMP:20260421T235217
CREATED:20170705T152337Z
LAST-MODIFIED:20170705T152337Z
UID:3986-1500048000-1500069600@springfieldparkingauthority.com
SUMMARY:BASKETBULL SUMMER CHAMPIONSHIPS
DESCRIPTION:Parking is available at the Civic Center Garage – $7 & $12 Prepay \n 
URL:https://springfieldparkingauthority.com/event/basketbull-summer-championships-10/
LOCATION:MassMutual Center\, 1277 Main Street\, Springfield\, MA\, 01103\, United States
END:VEVENT
BEGIN:VEVENT
DTSTART;TZID=America/New_York:20170714T170000
DTEND;TZID=America/New_York:20170714T220000
DTSTAMP:20260421T235217
CREATED:20170626T183036Z
LAST-MODIFIED:20170626T183036Z
UID:10679-1500051600-1500069600@springfieldparkingauthority.com
SUMMARY:ENMOTION DANCE THEATER - REHEARSALS
DESCRIPTION:Parking is available at the Civic Center Garage – $7 Prepay \n 
URL:https://springfieldparkingauthority.com/event/emotion-dance-theater-rehearsals-2/
LOCATION:MassMutual Center\, 1277 Main Street\, Springfield\, MA\, 01103\, United States
END:VEVENT
BEGIN:VEVENT
DTSTART;TZID=America/New_York:20170714T170000
DTEND;TZID=America/New_York:20170714T220000
DTSTAMP:20260421T235217
CREATED:20170626T183036Z
LAST-MODIFIED:20170626T183036Z
UID:3919-1500051600-1500069600@springfieldparkingauthority.com
SUMMARY:ENMOTION DANCE THEATER - REHEARSALS
DESCRIPTION:Parking is available at the Civic Center Garage – $7 Prepay \n 
URL:https://springfieldparkingauthority.com/event/emotion-dance-theater-rehearsals/
LOCATION:MassMutual Center\, 1277 Main Street\, Springfield\, MA\, 01103\, United States
END:VEVENT
BEGIN:VEVENT
DTSTART;TZID=America/New_York:20170714T170000
DTEND;TZID=America/New_York:20170714T220000
DTSTAMP:20260421T235217
CREATED:20170626T183146Z
LAST-MODIFIED:20170626T183146Z
UID:3921-1500051600-1500069600@springfieldparkingauthority.com
SUMMARY:Basketball Summer Championship
DESCRIPTION:Parking is available at the Civic Center Garage –  \n 
URL:https://springfieldparkingauthority.com/event/basketball-summer-championship/
LOCATION:MassMutual Center\, 1277 Main Street\, Springfield\, MA\, 01103\, United States
END:VEVENT
BEGIN:VEVENT
DTSTART;TZID=America/New_York:20170714T170000
DTEND;TZID=America/New_York:20170714T220000
DTSTAMP:20260421T235217
CREATED:20170626T183146Z
LAST-MODIFIED:20170626T183146Z
UID:10680-1500051600-1500069600@springfieldparkingauthority.com
SUMMARY:Basketball Summer Championship
DESCRIPTION:Parking is available at the Civic Center Garage –  \n 
URL:https://springfieldparkingauthority.com/event/basketball-summer-championship-2/
LOCATION:MassMutual Center\, 1277 Main Street\, Springfield\, MA\, 01103\, United States
END:VEVENT
END:VCALENDAR