BEGIN:VCALENDAR
VERSION:2.0
PRODID:-//Springfield Parking Authority - ECPv6.15.20//NONSGML v1.0//EN
CALSCALE:GREGORIAN
METHOD:PUBLISH
X-ORIGINAL-URL:https://springfieldparkingauthority.com
X-WR-CALDESC:Events for Springfield Parking Authority
REFRESH-INTERVAL;VALUE=DURATION:PT1H
X-Robots-Tag:noindex
X-PUBLISHED-TTL:PT1H
BEGIN:VTIMEZONE
TZID:America/New_York
BEGIN:DAYLIGHT
TZOFFSETFROM:-0500
TZOFFSETTO:-0400
TZNAME:EDT
DTSTART:20160313T070000
END:DAYLIGHT
BEGIN:STANDARD
TZOFFSETFROM:-0400
TZOFFSETTO:-0500
TZNAME:EST
DTSTART:20161106T060000
END:STANDARD
BEGIN:DAYLIGHT
TZOFFSETFROM:-0500
TZOFFSETTO:-0400
TZNAME:EDT
DTSTART:20170312T070000
END:DAYLIGHT
BEGIN:STANDARD
TZOFFSETFROM:-0400
TZOFFSETTO:-0500
TZNAME:EST
DTSTART:20171105T060000
END:STANDARD
BEGIN:DAYLIGHT
TZOFFSETFROM:-0500
TZOFFSETTO:-0400
TZNAME:EDT
DTSTART:20180311T070000
END:DAYLIGHT
BEGIN:STANDARD
TZOFFSETFROM:-0400
TZOFFSETTO:-0500
TZNAME:EST
DTSTART:20181104T060000
END:STANDARD
END:VTIMEZONE
BEGIN:VEVENT
DTSTART;TZID=America/New_York:20170716T060000
DTEND;TZID=America/New_York:20170717T000000
DTSTAMP:20260421T091343
CREATED:20170705T153029Z
LAST-MODIFIED:20170705T153029Z
UID:10700-1500184800-1500249600@springfieldparkingauthority.com
SUMMARY:HOMER LAUGHLIN CHINA COLLECTOR'S ASSOCIATION
DESCRIPTION:Parking is available at the I-91 North and South Garages – On the Clock \n 
URL:https://springfieldparkingauthority.com/event/homer-laughlin-china-collectors-association-4-2/
LOCATION:Sheraton Hotel\, One Monarch Place\, Springfield\, MA\, 01103\, United States
END:VEVENT
BEGIN:VEVENT
DTSTART;TZID=America/New_York:20170716T060000
DTEND;TZID=America/New_York:20170717T000000
DTSTAMP:20260421T091343
CREATED:20170705T153029Z
LAST-MODIFIED:20170705T153029Z
UID:4000-1500184800-1500249600@springfieldparkingauthority.com
SUMMARY:HOMER LAUGHLIN CHINA COLLECTOR'S ASSOCIATION
DESCRIPTION:Parking is available at the I-91 North and South Garages – On the Clock \n 
URL:https://springfieldparkingauthority.com/event/homer-laughlin-china-collectors-association-4/
LOCATION:Sheraton Hotel\, One Monarch Place\, Springfield\, MA\, 01103\, United States
END:VEVENT
BEGIN:VEVENT
DTSTART;TZID=America/New_York:20170716T080000
DTEND;TZID=America/New_York:20170716T170000
DTSTAMP:20260421T091343
CREATED:20170705T152937Z
LAST-MODIFIED:20170705T152937Z
UID:3998-1500192000-1500224400@springfieldparkingauthority.com
SUMMARY:BASKETBULL SUMMER CHAMPIONSHIPS
DESCRIPTION:Parking is available at the Civic Center Garage – $7 & $12 Prepay \n 
URL:https://springfieldparkingauthority.com/event/basketbull-summer-championships-14/
LOCATION:MassMutual Center\, 1277 Main Street\, Springfield\, MA\, 01103\, United States
END:VEVENT
BEGIN:VEVENT
DTSTART;TZID=America/New_York:20170716T080000
DTEND;TZID=America/New_York:20170716T170000
DTSTAMP:20260421T091343
CREATED:20170705T152937Z
LAST-MODIFIED:20170705T152937Z
UID:10699-1500192000-1500224400@springfieldparkingauthority.com
SUMMARY:BASKETBULL SUMMER CHAMPIONSHIPS
DESCRIPTION:Parking is available at the Civic Center Garage – $7 & $12 Prepay \n 
URL:https://springfieldparkingauthority.com/event/basketbull-summer-championships-14-2/
LOCATION:MassMutual Center\, 1277 Main Street\, Springfield\, MA\, 01103\, United States
END:VEVENT
BEGIN:VEVENT
DTSTART;TZID=America/New_York:20170716T150000
DTEND;TZID=America/New_York:20170716T190000
DTSTAMP:20260421T091343
CREATED:20170627T162735Z
LAST-MODIFIED:20170627T162735Z
UID:3941-1500217200-1500231600@springfieldparkingauthority.com
SUMMARY:ENMOTION DANCE THEATER- RECITAL
DESCRIPTION:Parking is available at the Civic Center Garage – $7 & $12 Prepay \n 
URL:https://springfieldparkingauthority.com/event/enmtion-dance-theater-recital/
LOCATION:MassMutual Center\, 1277 Main Street\, Springfield\, MA\, 01103\, United States
END:VEVENT
BEGIN:VEVENT
DTSTART;TZID=America/New_York:20170716T150000
DTEND;TZID=America/New_York:20170716T190000
DTSTAMP:20260421T091343
CREATED:20170627T162735Z
LAST-MODIFIED:20170627T162735Z
UID:10686-1500217200-1500231600@springfieldparkingauthority.com
SUMMARY:ENMOTION DANCE THEATER- RECITAL
DESCRIPTION:Parking is available at the Civic Center Garage – $7 & $12 Prepay \n 
URL:https://springfieldparkingauthority.com/event/enmtion-dance-theater-recital-2/
LOCATION:MassMutual Center\, 1277 Main Street\, Springfield\, MA\, 01103\, United States
END:VEVENT
END:VCALENDAR