BEGIN:VCALENDAR
VERSION:2.0
PRODID:-//Springfield Parking Authority - ECPv6.15.20//NONSGML v1.0//EN
CALSCALE:GREGORIAN
METHOD:PUBLISH
X-ORIGINAL-URL:https://springfieldparkingauthority.com
X-WR-CALDESC:Events for Springfield Parking Authority
REFRESH-INTERVAL;VALUE=DURATION:PT1H
X-Robots-Tag:noindex
X-PUBLISHED-TTL:PT1H
BEGIN:VTIMEZONE
TZID:America/New_York
BEGIN:DAYLIGHT
TZOFFSETFROM:-0500
TZOFFSETTO:-0400
TZNAME:EDT
DTSTART:20160313T070000
END:DAYLIGHT
BEGIN:STANDARD
TZOFFSETFROM:-0400
TZOFFSETTO:-0500
TZNAME:EST
DTSTART:20161106T060000
END:STANDARD
BEGIN:DAYLIGHT
TZOFFSETFROM:-0500
TZOFFSETTO:-0400
TZNAME:EDT
DTSTART:20170312T070000
END:DAYLIGHT
BEGIN:STANDARD
TZOFFSETFROM:-0400
TZOFFSETTO:-0500
TZNAME:EST
DTSTART:20171105T060000
END:STANDARD
BEGIN:DAYLIGHT
TZOFFSETFROM:-0500
TZOFFSETTO:-0400
TZNAME:EDT
DTSTART:20180311T070000
END:DAYLIGHT
BEGIN:STANDARD
TZOFFSETFROM:-0400
TZOFFSETTO:-0500
TZNAME:EST
DTSTART:20181104T060000
END:STANDARD
END:VTIMEZONE
BEGIN:VEVENT
DTSTART;TZID=America/New_York:20170802T083000
DTEND;TZID=America/New_York:20170802T160000
DTSTAMP:20260422T053028
CREATED:20170726T144519Z
LAST-MODIFIED:20170726T144519Z
UID:10717-1501662600-1501689600@springfieldparkingauthority.com
SUMMARY:WORD GAME PLAYERS ORGANIZATION / WGPO TOURNAMENT
DESCRIPTION:Parking is available at the I-91 North and South Garages – On the Clock \n 
URL:https://springfieldparkingauthority.com/event/word-game-players-organization-wgpo-tournament-2-2/
LOCATION:Sheraton Hotel\, One Monarch Place\, Springfield\, MA\, 01103\, United States
END:VEVENT
BEGIN:VEVENT
DTSTART;TZID=America/New_York:20170802T083000
DTEND;TZID=America/New_York:20170802T160000
DTSTAMP:20260422T053028
CREATED:20170726T144519Z
LAST-MODIFIED:20170726T144519Z
UID:4049-1501662600-1501689600@springfieldparkingauthority.com
SUMMARY:WORD GAME PLAYERS ORGANIZATION / WGPO TOURNAMENT
DESCRIPTION:Parking is available at the I-91 North and South Garages – On the Clock \n 
URL:https://springfieldparkingauthority.com/event/word-game-players-organization-wgpo-tournament-2/
LOCATION:Sheraton Hotel\, One Monarch Place\, Springfield\, MA\, 01103\, United States
END:VEVENT
BEGIN:VEVENT
DTSTART;TZID=America/New_York:20170802T090000
DTEND;TZID=America/New_York:20170802T190000
DTSTAMP:20260422T053028
CREATED:20170725T140137Z
LAST-MODIFIED:20170725T140137Z
UID:10715-1501664400-1501700400@springfieldparkingauthority.com
SUMMARY:SARATOGA TRIP
DESCRIPTION:Parking is available at the Civic Center Garage – $7 Prepay \n 
URL:https://springfieldparkingauthority.com/event/saratoga-trip-2/
LOCATION:MassMutual Center\, 1277 Main Street\, Springfield\, MA\, 01103\, United States
END:VEVENT
BEGIN:VEVENT
DTSTART;TZID=America/New_York:20170802T090000
DTEND;TZID=America/New_York:20170802T190000
DTSTAMP:20260422T053028
CREATED:20170725T140137Z
LAST-MODIFIED:20170725T140137Z
UID:4039-1501664400-1501700400@springfieldparkingauthority.com
SUMMARY:SARATOGA TRIP
DESCRIPTION:Parking is available at the Civic Center Garage – $7 Prepay \n 
URL:https://springfieldparkingauthority.com/event/saratoga-trip/
LOCATION:MassMutual Center\, 1277 Main Street\, Springfield\, MA\, 01103\, United States
END:VEVENT
END:VCALENDAR