BEGIN:VCALENDAR
VERSION:2.0
PRODID:-//Springfield Parking Authority - ECPv6.15.20//NONSGML v1.0//EN
CALSCALE:GREGORIAN
METHOD:PUBLISH
X-ORIGINAL-URL:https://springfieldparkingauthority.com
X-WR-CALDESC:Events for Springfield Parking Authority
REFRESH-INTERVAL;VALUE=DURATION:PT1H
X-Robots-Tag:noindex
X-PUBLISHED-TTL:PT1H
BEGIN:VTIMEZONE
TZID:America/New_York
BEGIN:DAYLIGHT
TZOFFSETFROM:-0500
TZOFFSETTO:-0400
TZNAME:EDT
DTSTART:20160313T070000
END:DAYLIGHT
BEGIN:STANDARD
TZOFFSETFROM:-0400
TZOFFSETTO:-0500
TZNAME:EST
DTSTART:20161106T060000
END:STANDARD
BEGIN:DAYLIGHT
TZOFFSETFROM:-0500
TZOFFSETTO:-0400
TZNAME:EDT
DTSTART:20170312T070000
END:DAYLIGHT
BEGIN:STANDARD
TZOFFSETFROM:-0400
TZOFFSETTO:-0500
TZNAME:EST
DTSTART:20171105T060000
END:STANDARD
BEGIN:DAYLIGHT
TZOFFSETFROM:-0500
TZOFFSETTO:-0400
TZNAME:EDT
DTSTART:20180311T070000
END:DAYLIGHT
BEGIN:STANDARD
TZOFFSETFROM:-0400
TZOFFSETTO:-0500
TZNAME:EST
DTSTART:20181104T060000
END:STANDARD
END:VTIMEZONE
BEGIN:VEVENT
DTSTART;TZID=America/New_York:20170809T100000
DTEND;TZID=America/New_York:20170809T120000
DTSTAMP:20260421T150838
CREATED:20170724T142912Z
LAST-MODIFIED:20170724T142912Z
UID:10710-1502272800-1502280000@springfieldparkingauthority.com
SUMMARY:POLICE PINNING CEREMONY
DESCRIPTION:Parking is available at the Columbus Center Garage – $7 Prepay \n 
URL:https://springfieldparkingauthority.com/event/police-pinning-ceremony-2/
LOCATION:Columbus Center\, 1 Columbus Center\, Springfield\, MA\, 01103\, United States
END:VEVENT
BEGIN:VEVENT
DTSTART;TZID=America/New_York:20170809T100000
DTEND;TZID=America/New_York:20170809T120000
DTSTAMP:20260421T150838
CREATED:20170724T142912Z
LAST-MODIFIED:20170724T142912Z
UID:4023-1502272800-1502280000@springfieldparkingauthority.com
SUMMARY:POLICE PINNING CEREMONY
DESCRIPTION:Parking is available at the Columbus Center Garage – $7 Prepay \n 
URL:https://springfieldparkingauthority.com/event/police-pinning-ceremony/
LOCATION:Columbus Center\, 1 Columbus Center\, Springfield\, MA\, 01103\, United States
END:VEVENT
END:VCALENDAR