BEGIN:VCALENDAR
VERSION:2.0
PRODID:-//Springfield Parking Authority - ECPv6.15.20//NONSGML v1.0//EN
CALSCALE:GREGORIAN
METHOD:PUBLISH
X-ORIGINAL-URL:https://springfieldparkingauthority.com
X-WR-CALDESC:Events for Springfield Parking Authority
REFRESH-INTERVAL;VALUE=DURATION:PT1H
X-Robots-Tag:noindex
X-PUBLISHED-TTL:PT1H
BEGIN:VTIMEZONE
TZID:America/New_York
BEGIN:DAYLIGHT
TZOFFSETFROM:-0500
TZOFFSETTO:-0400
TZNAME:EDT
DTSTART:20160313T070000
END:DAYLIGHT
BEGIN:STANDARD
TZOFFSETFROM:-0400
TZOFFSETTO:-0500
TZNAME:EST
DTSTART:20161106T060000
END:STANDARD
BEGIN:DAYLIGHT
TZOFFSETFROM:-0500
TZOFFSETTO:-0400
TZNAME:EDT
DTSTART:20170312T070000
END:DAYLIGHT
BEGIN:STANDARD
TZOFFSETFROM:-0400
TZOFFSETTO:-0500
TZNAME:EST
DTSTART:20171105T060000
END:STANDARD
BEGIN:DAYLIGHT
TZOFFSETFROM:-0500
TZOFFSETTO:-0400
TZNAME:EDT
DTSTART:20180311T070000
END:DAYLIGHT
BEGIN:STANDARD
TZOFFSETFROM:-0400
TZOFFSETTO:-0500
TZNAME:EST
DTSTART:20181104T060000
END:STANDARD
END:VTIMEZONE
BEGIN:VEVENT
DTSTART;TZID=America/New_York:20170811T070000
DTEND;TZID=America/New_York:20170811T170000
DTSTAMP:20260421T121850
CREATED:20170810T143017Z
LAST-MODIFIED:20170810T143017Z
UID:4069-1502434800-1502470800@springfieldparkingauthority.com
SUMMARY:SPRINGFIELD JAZZ & ROOTS FESTIVAL
DESCRIPTION:Parking is available at the Civic Center Garage – “STAFF ONLY” \n$3 Prepay With coupons  \n 
URL:https://springfieldparkingauthority.com/event/springfield-jazz-roots-festival-3/
LOCATION:MassMutual Center\, 1277 Main Street\, Springfield\, MA\, 01103\, United States
END:VEVENT
BEGIN:VEVENT
DTSTART;TZID=America/New_York:20170811T070000
DTEND;TZID=America/New_York:20170811T170000
DTSTAMP:20260421T121850
CREATED:20170810T143017Z
LAST-MODIFIED:20170810T143017Z
UID:10723-1502434800-1502470800@springfieldparkingauthority.com
SUMMARY:SPRINGFIELD JAZZ & ROOTS FESTIVAL
DESCRIPTION:Parking is available at the Civic Center Garage – “STAFF ONLY” \n$3 Prepay With coupons  \n 
URL:https://springfieldparkingauthority.com/event/springfield-jazz-roots-festival-3-2/
LOCATION:MassMutual Center\, 1277 Main Street\, Springfield\, MA\, 01103\, United States
END:VEVENT
BEGIN:VEVENT
DTSTART;TZID=America/New_York:20170811T190000
DTEND;TZID=America/New_York:20170811T220000
DTSTAMP:20260421T121850
CREATED:20170808T141100Z
LAST-MODIFIED:20170808T141100Z
UID:4066-1502478000-1502488800@springfieldparkingauthority.com
SUMMARY:Jazz Fest At CityStage
DESCRIPTION:Parking is available at the Columbus Center Garage – Free with Ticket \n 
URL:https://springfieldparkingauthority.com/event/jazz-fest-at-citystage/
LOCATION:Columbus Center\, 1 Columbus Center\, Springfield\, MA\, 01103\, United States
END:VEVENT
BEGIN:VEVENT
DTSTART;TZID=America/New_York:20170811T190000
DTEND;TZID=America/New_York:20170811T220000
DTSTAMP:20260421T121850
CREATED:20170808T141100Z
LAST-MODIFIED:20170808T141100Z
UID:10722-1502478000-1502488800@springfieldparkingauthority.com
SUMMARY:Jazz Fest At CityStage
DESCRIPTION:Parking is available at the Columbus Center Garage – Free with Ticket \n 
URL:https://springfieldparkingauthority.com/event/jazz-fest-at-citystage-2/
LOCATION:Columbus Center\, 1 Columbus Center\, Springfield\, MA\, 01103\, United States
END:VEVENT
END:VCALENDAR