BEGIN:VCALENDAR
VERSION:2.0
PRODID:-//Springfield Parking Authority - ECPv6.15.20//NONSGML v1.0//EN
CALSCALE:GREGORIAN
METHOD:PUBLISH
X-ORIGINAL-URL:https://springfieldparkingauthority.com
X-WR-CALDESC:Events for Springfield Parking Authority
REFRESH-INTERVAL;VALUE=DURATION:PT1H
X-Robots-Tag:noindex
X-PUBLISHED-TTL:PT1H
BEGIN:VTIMEZONE
TZID:America/New_York
BEGIN:DAYLIGHT
TZOFFSETFROM:-0500
TZOFFSETTO:-0400
TZNAME:EDT
DTSTART:20160313T070000
END:DAYLIGHT
BEGIN:STANDARD
TZOFFSETFROM:-0400
TZOFFSETTO:-0500
TZNAME:EST
DTSTART:20161106T060000
END:STANDARD
BEGIN:DAYLIGHT
TZOFFSETFROM:-0500
TZOFFSETTO:-0400
TZNAME:EDT
DTSTART:20170312T070000
END:DAYLIGHT
BEGIN:STANDARD
TZOFFSETFROM:-0400
TZOFFSETTO:-0500
TZNAME:EST
DTSTART:20171105T060000
END:STANDARD
BEGIN:DAYLIGHT
TZOFFSETFROM:-0500
TZOFFSETTO:-0400
TZNAME:EDT
DTSTART:20180311T070000
END:DAYLIGHT
BEGIN:STANDARD
TZOFFSETFROM:-0400
TZOFFSETTO:-0500
TZNAME:EST
DTSTART:20181104T060000
END:STANDARD
END:VTIMEZONE
BEGIN:VEVENT
DTSTART;TZID=America/New_York:20170926T190000
DTEND;TZID=America/New_York:20170926T210000
DTSTAMP:20260422T221506
CREATED:20170831T184536Z
LAST-MODIFIED:20170831T184536Z
UID:10733-1506452400-1506459600@springfieldparkingauthority.com
SUMMARY:Pre-Season Thunderbirds VS Providence
DESCRIPTION:Parking is available at the Civic Center Garage – $7 & $12 Prepay \n 
URL:https://springfieldparkingauthority.com/event/pre-season-thunderbirds-vs-providence-3/
LOCATION:MassMutual Center\, 1277 Main Street\, Springfield\, MA\, 01103\, United States
END:VEVENT
BEGIN:VEVENT
DTSTART;TZID=America/New_York:20170926T190000
DTEND;TZID=America/New_York:20170926T210000
DTSTAMP:20260422T221506
CREATED:20170831T184536Z
LAST-MODIFIED:20170831T184536Z
UID:4099-1506452400-1506459600@springfieldparkingauthority.com
SUMMARY:Pre-Season Thunderbirds VS Providence
DESCRIPTION:Parking is available at the Civic Center Garage – $7 & $12 Prepay \n 
URL:https://springfieldparkingauthority.com/event/pre-season-thunderbirds-vs-providence/
LOCATION:MassMutual Center\, 1277 Main Street\, Springfield\, MA\, 01103\, United States
END:VEVENT
BEGIN:VEVENT
DTSTART;TZID=America/New_York:20170926T193000
DTEND;TZID=America/New_York:20170926T220000
DTSTAMP:20260422T221506
CREATED:20170831T185447Z
LAST-MODIFIED:20170831T185447Z
UID:4103-1506454200-1506463200@springfieldparkingauthority.com
SUMMARY:Robert Dubac
DESCRIPTION:Parking is available at the Columbus Center Garage – Free with Ticket \n 
URL:https://springfieldparkingauthority.com/event/robert-dubac-2/
LOCATION:Columbus Center\, 1 Columbus Center\, Springfield\, MA\, 01103\, United States
END:VEVENT
BEGIN:VEVENT
DTSTART;TZID=America/New_York:20170926T193000
DTEND;TZID=America/New_York:20170926T220000
DTSTAMP:20260422T221506
CREATED:20170831T185447Z
LAST-MODIFIED:20170831T185447Z
UID:10735-1506454200-1506463200@springfieldparkingauthority.com
SUMMARY:Robert Dubac
DESCRIPTION:Parking is available at the Columbus Center Garage – Free with Ticket \n 
URL:https://springfieldparkingauthority.com/event/robert-dubac-2-2/
LOCATION:Columbus Center\, 1 Columbus Center\, Springfield\, MA\, 01103\, United States
END:VEVENT
END:VCALENDAR