BEGIN:VCALENDAR
VERSION:2.0
PRODID:-//Springfield Parking Authority - ECPv6.15.20//NONSGML v1.0//EN
CALSCALE:GREGORIAN
METHOD:PUBLISH
X-WR-CALNAME:Springfield Parking Authority
X-ORIGINAL-URL:https://springfieldparkingauthority.com
X-WR-CALDESC:Events for Springfield Parking Authority
REFRESH-INTERVAL;VALUE=DURATION:PT1H
X-Robots-Tag:noindex
X-PUBLISHED-TTL:PT1H
BEGIN:VTIMEZONE
TZID:America/New_York
BEGIN:DAYLIGHT
TZOFFSETFROM:-0500
TZOFFSETTO:-0400
TZNAME:EDT
DTSTART:20160313T070000
END:DAYLIGHT
BEGIN:STANDARD
TZOFFSETFROM:-0400
TZOFFSETTO:-0500
TZNAME:EST
DTSTART:20161106T060000
END:STANDARD
BEGIN:DAYLIGHT
TZOFFSETFROM:-0500
TZOFFSETTO:-0400
TZNAME:EDT
DTSTART:20170312T070000
END:DAYLIGHT
BEGIN:STANDARD
TZOFFSETFROM:-0400
TZOFFSETTO:-0500
TZNAME:EST
DTSTART:20171105T060000
END:STANDARD
BEGIN:DAYLIGHT
TZOFFSETFROM:-0500
TZOFFSETTO:-0400
TZNAME:EDT
DTSTART:20180311T070000
END:DAYLIGHT
BEGIN:STANDARD
TZOFFSETFROM:-0400
TZOFFSETTO:-0500
TZNAME:EST
DTSTART:20181104T060000
END:STANDARD
END:VTIMEZONE
BEGIN:VEVENT
DTSTART;TZID=America/New_York:20171005T090000
DTEND;TZID=America/New_York:20171005T220000
DTSTAMP:20260424T061331
CREATED:20170922T145209Z
LAST-MODIFIED:20170922T145209Z
UID:4148-1507194000-1507240800@springfieldparkingauthority.com
SUMMARY:POWER AND LOVE MINISTRIES
DESCRIPTION:Parking is available at the Civic Center Garage – $7  Prepay \n 
URL:https://springfieldparkingauthority.com/event/power-and-love-ministries-2/
LOCATION:MassMutual Center\, 1277 Main Street\, Springfield\, MA\, 01103\, United States
END:VEVENT
BEGIN:VEVENT
DTSTART;TZID=America/New_York:20171005T090000
DTEND;TZID=America/New_York:20171005T220000
DTSTAMP:20260424T061331
CREATED:20170922T145209Z
LAST-MODIFIED:20170922T145209Z
UID:10753-1507194000-1507240800@springfieldparkingauthority.com
SUMMARY:POWER AND LOVE MINISTRIES
DESCRIPTION:Parking is available at the Civic Center Garage – $7  Prepay \n 
URL:https://springfieldparkingauthority.com/event/power-and-love-ministries-2-2/
LOCATION:MassMutual Center\, 1277 Main Street\, Springfield\, MA\, 01103\, United States
END:VEVENT
BEGIN:VEVENT
DTSTART;TZID=America/New_York:20171005T130000
DTEND;TZID=America/New_York:20171005T210000
DTSTAMP:20260424T061331
CREATED:20171004T160220Z
LAST-MODIFIED:20171004T160220Z
UID:10785-1507208400-1507237200@springfieldparkingauthority.com
SUMMARY:BERKSHIRE BANK/ BERKSHIRE BANK MEETING 2017
DESCRIPTION:Parking is available at the I-91 North and South Garages – On the Clock \n 
URL:https://springfieldparkingauthority.com/event/berkshire-bank-berkshire-bank-meeting-2017-2/
LOCATION:Sheraton Hotel\, One Monarch Place\, Springfield\, MA\, 01103\, United States
END:VEVENT
BEGIN:VEVENT
DTSTART;TZID=America/New_York:20171005T130000
DTEND;TZID=America/New_York:20171005T210000
DTSTAMP:20260424T061331
CREATED:20171004T160220Z
LAST-MODIFIED:20171004T160220Z
UID:4232-1507208400-1507237200@springfieldparkingauthority.com
SUMMARY:BERKSHIRE BANK/ BERKSHIRE BANK MEETING 2017
DESCRIPTION:Parking is available at the I-91 North and South Garages – On the Clock \n 
URL:https://springfieldparkingauthority.com/event/berkshire-bank-berkshire-bank-meeting-2017/
LOCATION:Sheraton Hotel\, One Monarch Place\, Springfield\, MA\, 01103\, United States
END:VEVENT
BEGIN:VEVENT
DTSTART;TZID=America/New_York:20171005T193000
DTEND;TZID=America/New_York:20171005T220000
DTSTAMP:20260424T061331
CREATED:20170922T145258Z
LAST-MODIFIED:20170922T145258Z
UID:10754-1507231800-1507240800@springfieldparkingauthority.com
SUMMARY:MIDTOWN MEN
DESCRIPTION:Parking is available at the I-91 North and South Garages – Free with Ticket
URL:https://springfieldparkingauthority.com/event/midtown-men-2/
LOCATION:Symphony Hall\, 34 Court St.\, Springfield\, MA\, 01103\, United States
END:VEVENT
BEGIN:VEVENT
DTSTART;TZID=America/New_York:20171005T193000
DTEND;TZID=America/New_York:20171005T220000
DTSTAMP:20260424T061331
CREATED:20170922T145258Z
LAST-MODIFIED:20170922T145258Z
UID:4150-1507231800-1507240800@springfieldparkingauthority.com
SUMMARY:MIDTOWN MEN
DESCRIPTION:Parking is available at the I-91 North and South Garages – Free with Ticket
URL:https://springfieldparkingauthority.com/event/midtown-men/
LOCATION:Symphony Hall\, 34 Court St.\, Springfield\, MA\, 01103\, United States
END:VEVENT
END:VCALENDAR