BEGIN:VCALENDAR
VERSION:2.0
PRODID:-//Springfield Parking Authority - ECPv6.15.20//NONSGML v1.0//EN
CALSCALE:GREGORIAN
METHOD:PUBLISH
X-ORIGINAL-URL:https://springfieldparkingauthority.com
X-WR-CALDESC:Events for Springfield Parking Authority
REFRESH-INTERVAL;VALUE=DURATION:PT1H
X-Robots-Tag:noindex
X-PUBLISHED-TTL:PT1H
BEGIN:VTIMEZONE
TZID:America/New_York
BEGIN:DAYLIGHT
TZOFFSETFROM:-0500
TZOFFSETTO:-0400
TZNAME:EDT
DTSTART:20160313T070000
END:DAYLIGHT
BEGIN:STANDARD
TZOFFSETFROM:-0400
TZOFFSETTO:-0500
TZNAME:EST
DTSTART:20161106T060000
END:STANDARD
BEGIN:DAYLIGHT
TZOFFSETFROM:-0500
TZOFFSETTO:-0400
TZNAME:EDT
DTSTART:20170312T070000
END:DAYLIGHT
BEGIN:STANDARD
TZOFFSETFROM:-0400
TZOFFSETTO:-0500
TZNAME:EST
DTSTART:20171105T060000
END:STANDARD
BEGIN:DAYLIGHT
TZOFFSETFROM:-0500
TZOFFSETTO:-0400
TZNAME:EDT
DTSTART:20180311T070000
END:DAYLIGHT
BEGIN:STANDARD
TZOFFSETFROM:-0400
TZOFFSETTO:-0500
TZNAME:EST
DTSTART:20181104T060000
END:STANDARD
END:VTIMEZONE
BEGIN:VEVENT
DTSTART;TZID=America/New_York:20171021T060000
DTEND;TZID=America/New_York:20171021T235900
DTSTAMP:20260423T141346
CREATED:20171019T163346Z
LAST-MODIFIED:20171019T163346Z
UID:10794-1508565600-1508630340@springfieldparkingauthority.com
SUMMARY:ISABELLA'S SWEET 15
DESCRIPTION:Parking is available at the I-91 North and South Garages – On the Clock \n 
URL:https://springfieldparkingauthority.com/event/isabellas-sweet-15-2/
LOCATION:Sheraton Hotel\, One Monarch Place\, Springfield\, MA\, 01103\, United States
END:VEVENT
BEGIN:VEVENT
DTSTART;TZID=America/New_York:20171021T060000
DTEND;TZID=America/New_York:20171021T235900
DTSTAMP:20260423T141346
CREATED:20171019T163346Z
LAST-MODIFIED:20171019T163346Z
UID:4263-1508565600-1508630340@springfieldparkingauthority.com
SUMMARY:ISABELLA'S SWEET 15
DESCRIPTION:Parking is available at the I-91 North and South Garages – On the Clock \n 
URL:https://springfieldparkingauthority.com/event/isabellas-sweet-15/
LOCATION:Sheraton Hotel\, One Monarch Place\, Springfield\, MA\, 01103\, United States
END:VEVENT
BEGIN:VEVENT
DTSTART;TZID=America/New_York:20171021T080000
DTEND;TZID=America/New_York:20171021T210000
DTSTAMP:20260423T141346
CREATED:20170922T150549Z
LAST-MODIFIED:20170922T150549Z
UID:4188-1508572800-1508619600@springfieldparkingauthority.com
SUMMARY:FORTUNE BUILDERS\, INC. -3 DAY INSIDERS WORKSHOP
DESCRIPTION:Parking is available at the Civic Center Garage – $7 Postpay \n 
URL:https://springfieldparkingauthority.com/event/fortune-builders-inc-3-day-insiders-workshop-2/
LOCATION:MassMutual Center\, 1277 Main Street\, Springfield\, MA\, 01103\, United States
END:VEVENT
BEGIN:VEVENT
DTSTART;TZID=America/New_York:20171021T080000
DTEND;TZID=America/New_York:20171021T210000
DTSTAMP:20260423T141346
CREATED:20170922T150549Z
LAST-MODIFIED:20170922T150549Z
UID:10773-1508572800-1508619600@springfieldparkingauthority.com
SUMMARY:FORTUNE BUILDERS\, INC. -3 DAY INSIDERS WORKSHOP
DESCRIPTION:Parking is available at the Civic Center Garage – $7 Postpay \n 
URL:https://springfieldparkingauthority.com/event/fortune-builders-inc-3-day-insiders-workshop-2-2/
LOCATION:MassMutual Center\, 1277 Main Street\, Springfield\, MA\, 01103\, United States
END:VEVENT
BEGIN:VEVENT
DTSTART;TZID=America/New_York:20171021T100000
DTEND;TZID=America/New_York:20171021T130000
DTSTAMP:20260423T141346
CREATED:20171019T163248Z
LAST-MODIFIED:20171019T163248Z
UID:10793-1508580000-1508590800@springfieldparkingauthority.com
SUMMARY:GEORGIA SOUTHERN FOOTBALL
DESCRIPTION:Parking is available at the I-91 North and South Garages – On the Clock \n 
URL:https://springfieldparkingauthority.com/event/georgia-southern-football-2-2/
LOCATION:Sheraton Hotel\, One Monarch Place\, Springfield\, MA\, 01103\, United States
END:VEVENT
BEGIN:VEVENT
DTSTART;TZID=America/New_York:20171021T100000
DTEND;TZID=America/New_York:20171021T130000
DTSTAMP:20260423T141346
CREATED:20171019T163248Z
LAST-MODIFIED:20171019T163248Z
UID:4261-1508580000-1508590800@springfieldparkingauthority.com
SUMMARY:GEORGIA SOUTHERN FOOTBALL
DESCRIPTION:Parking is available at the I-91 North and South Garages – On the Clock \n 
URL:https://springfieldparkingauthority.com/event/georgia-southern-football-2/
LOCATION:Sheraton Hotel\, One Monarch Place\, Springfield\, MA\, 01103\, United States
END:VEVENT
BEGIN:VEVENT
DTSTART;TZID=America/New_York:20171021T193000
DTEND;TZID=America/New_York:20171021T220000
DTSTAMP:20260423T141346
CREATED:20170922T150625Z
LAST-MODIFIED:20170922T150625Z
UID:4190-1508614200-1508623200@springfieldparkingauthority.com
SUMMARY:BOBBY COLLINS
DESCRIPTION:Parking is available at the Columbus Center Garage – Free with Ticket \n 
URL:https://springfieldparkingauthority.com/event/bobby-collins/
LOCATION:Columbus Center\, 1 Columbus Center\, Springfield\, MA\, 01103\, United States
END:VEVENT
BEGIN:VEVENT
DTSTART;TZID=America/New_York:20171021T193000
DTEND;TZID=America/New_York:20171021T220000
DTSTAMP:20260423T141346
CREATED:20170922T150625Z
LAST-MODIFIED:20170922T150625Z
UID:10774-1508614200-1508623200@springfieldparkingauthority.com
SUMMARY:BOBBY COLLINS
DESCRIPTION:Parking is available at the Columbus Center Garage – Free with Ticket \n 
URL:https://springfieldparkingauthority.com/event/bobby-collins-3/
LOCATION:Columbus Center\, 1 Columbus Center\, Springfield\, MA\, 01103\, United States
END:VEVENT
END:VCALENDAR