BEGIN:VCALENDAR
VERSION:2.0
PRODID:-//Springfield Parking Authority - ECPv6.15.20//NONSGML v1.0//EN
CALSCALE:GREGORIAN
METHOD:PUBLISH
X-ORIGINAL-URL:https://springfieldparkingauthority.com
X-WR-CALDESC:Events for Springfield Parking Authority
REFRESH-INTERVAL;VALUE=DURATION:PT1H
X-Robots-Tag:noindex
X-PUBLISHED-TTL:PT1H
BEGIN:VTIMEZONE
TZID:America/New_York
BEGIN:DAYLIGHT
TZOFFSETFROM:-0500
TZOFFSETTO:-0400
TZNAME:EDT
DTSTART:20160313T070000
END:DAYLIGHT
BEGIN:STANDARD
TZOFFSETFROM:-0400
TZOFFSETTO:-0500
TZNAME:EST
DTSTART:20161106T060000
END:STANDARD
BEGIN:DAYLIGHT
TZOFFSETFROM:-0500
TZOFFSETTO:-0400
TZNAME:EDT
DTSTART:20170312T070000
END:DAYLIGHT
BEGIN:STANDARD
TZOFFSETFROM:-0400
TZOFFSETTO:-0500
TZNAME:EST
DTSTART:20171105T060000
END:STANDARD
BEGIN:DAYLIGHT
TZOFFSETFROM:-0500
TZOFFSETTO:-0400
TZNAME:EDT
DTSTART:20180311T070000
END:DAYLIGHT
BEGIN:STANDARD
TZOFFSETFROM:-0400
TZOFFSETTO:-0500
TZNAME:EST
DTSTART:20181104T060000
END:STANDARD
END:VTIMEZONE
BEGIN:VEVENT
DTSTART;TZID=America/New_York:20171024T123000
DTEND;TZID=America/New_York:20171024T140000
DTSTAMP:20260424T005139
CREATED:20171023T162118Z
LAST-MODIFIED:20171023T162118Z
UID:4280-1508848200-1508853600@springfieldparkingauthority.com
SUMMARY:MMC/MGM COMMENCEMENT LUNCHEON
DESCRIPTION:Parking is available at the Civic Center Garage – $7 Post Pay \n 
URL:https://springfieldparkingauthority.com/event/mmcmgm-commencement-luncheon/
LOCATION:MassMutual Center\, 1277 Main Street\, Springfield\, MA\, 01103\, United States
END:VEVENT
BEGIN:VEVENT
DTSTART;TZID=America/New_York:20171024T123000
DTEND;TZID=America/New_York:20171024T140000
DTSTAMP:20260424T005139
CREATED:20171023T162118Z
LAST-MODIFIED:20171023T162118Z
UID:10802-1508848200-1508853600@springfieldparkingauthority.com
SUMMARY:MMC/MGM COMMENCEMENT LUNCHEON
DESCRIPTION:Parking is available at the Civic Center Garage – $7 Post Pay \n 
URL:https://springfieldparkingauthority.com/event/mmcmgm-commencement-luncheon-2/
LOCATION:MassMutual Center\, 1277 Main Street\, Springfield\, MA\, 01103\, United States
END:VEVENT
BEGIN:VEVENT
DTSTART;TZID=America/New_York:20171024T190000
DTEND;TZID=America/New_York:20171024T210000
DTSTAMP:20260424T005139
CREATED:20170922T151043Z
LAST-MODIFIED:20170922T151043Z
UID:10779-1508871600-1508878800@springfieldparkingauthority.com
SUMMARY:AIC VS BENTLEY UNIVERSITY
DESCRIPTION:Parking is available at the Civic Center Garage – $7 & $12 Prepay \n  \n 
URL:https://springfieldparkingauthority.com/event/aic-vs-bentley-university-2/
LOCATION:MassMutual Center\, 1277 Main Street\, Springfield\, MA\, 01103\, United States
END:VEVENT
BEGIN:VEVENT
DTSTART;TZID=America/New_York:20171024T190000
DTEND;TZID=America/New_York:20171024T210000
DTSTAMP:20260424T005139
CREATED:20170922T151043Z
LAST-MODIFIED:20170922T151043Z
UID:4202-1508871600-1508878800@springfieldparkingauthority.com
SUMMARY:AIC VS BENTLEY UNIVERSITY
DESCRIPTION:Parking is available at the Civic Center Garage – $7 & $12 Prepay \n  \n 
URL:https://springfieldparkingauthority.com/event/aic-vs-bentley-university/
LOCATION:MassMutual Center\, 1277 Main Street\, Springfield\, MA\, 01103\, United States
END:VEVENT
END:VCALENDAR