BEGIN:VCALENDAR
VERSION:2.0
PRODID:-//Springfield Parking Authority - ECPv6.15.20//NONSGML v1.0//EN
CALSCALE:GREGORIAN
METHOD:PUBLISH
X-WR-CALNAME:Springfield Parking Authority
X-ORIGINAL-URL:https://springfieldparkingauthority.com
X-WR-CALDESC:Events for Springfield Parking Authority
REFRESH-INTERVAL;VALUE=DURATION:PT1H
X-Robots-Tag:noindex
X-PUBLISHED-TTL:PT1H
BEGIN:VTIMEZONE
TZID:America/New_York
BEGIN:DAYLIGHT
TZOFFSETFROM:-0500
TZOFFSETTO:-0400
TZNAME:EDT
DTSTART:20160313T070000
END:DAYLIGHT
BEGIN:STANDARD
TZOFFSETFROM:-0400
TZOFFSETTO:-0500
TZNAME:EST
DTSTART:20161106T060000
END:STANDARD
BEGIN:DAYLIGHT
TZOFFSETFROM:-0500
TZOFFSETTO:-0400
TZNAME:EDT
DTSTART:20170312T070000
END:DAYLIGHT
BEGIN:STANDARD
TZOFFSETFROM:-0400
TZOFFSETTO:-0500
TZNAME:EST
DTSTART:20171105T060000
END:STANDARD
BEGIN:DAYLIGHT
TZOFFSETFROM:-0500
TZOFFSETTO:-0400
TZNAME:EDT
DTSTART:20180311T070000
END:DAYLIGHT
BEGIN:STANDARD
TZOFFSETFROM:-0400
TZOFFSETTO:-0500
TZNAME:EST
DTSTART:20181104T060000
END:STANDARD
END:VTIMEZONE
BEGIN:VEVENT
DTSTART;TZID=America/New_York:20171027T060000
DTEND;TZID=America/New_York:20171027T200000
DTSTAMP:20260424T020950
CREATED:20171019T163715Z
LAST-MODIFIED:20171019T163715Z
UID:4271-1509084000-1509134400@springfieldparkingauthority.com
SUMMARY:MASSACHUSETTS FOREIGN LANGUAGE ASSOCIATI
DESCRIPTION:Parking is available at the I-91 North and South Garages – On the Clock \n 
URL:https://springfieldparkingauthority.com/event/massachusetts-foreign-language-associati-2/
LOCATION:Sheraton Hotel\, One Monarch Place\, Springfield\, MA\, 01103\, United States
END:VEVENT
BEGIN:VEVENT
DTSTART;TZID=America/New_York:20171027T060000
DTEND;TZID=America/New_York:20171027T200000
DTSTAMP:20260424T020950
CREATED:20171019T163715Z
LAST-MODIFIED:20171019T163715Z
UID:10798-1509084000-1509134400@springfieldparkingauthority.com
SUMMARY:MASSACHUSETTS FOREIGN LANGUAGE ASSOCIATI
DESCRIPTION:Parking is available at the I-91 North and South Garages – On the Clock \n 
URL:https://springfieldparkingauthority.com/event/massachusetts-foreign-language-associati-2-2/
LOCATION:Sheraton Hotel\, One Monarch Place\, Springfield\, MA\, 01103\, United States
END:VEVENT
BEGIN:VEVENT
DTSTART;TZID=America/New_York:20171027T080000
DTEND;TZID=America/New_York:20171027T180000
DTSTAMP:20260424T020950
CREATED:20170922T151350Z
LAST-MODIFIED:20170922T151350Z
UID:10783-1509091200-1509127200@springfieldparkingauthority.com
SUMMARY:THROUGH HER EYES" GIRLS CONFERENCE
DESCRIPTION:Parking is available at the Civic Center Garage – $7 Postpay \n 
URL:https://springfieldparkingauthority.com/event/through-her-eyes-girls-conference-3-2/
LOCATION:MassMutual Center\, 1277 Main Street\, Springfield\, MA\, 01103\, United States
END:VEVENT
BEGIN:VEVENT
DTSTART;TZID=America/New_York:20171027T080000
DTEND;TZID=America/New_York:20171027T180000
DTSTAMP:20260424T020950
CREATED:20170922T151350Z
LAST-MODIFIED:20170922T151350Z
UID:4210-1509091200-1509127200@springfieldparkingauthority.com
SUMMARY:THROUGH HER EYES" GIRLS CONFERENCE
DESCRIPTION:Parking is available at the Civic Center Garage – $7 Postpay \n 
URL:https://springfieldparkingauthority.com/event/through-her-eyes-girls-conference-3/
LOCATION:MassMutual Center\, 1277 Main Street\, Springfield\, MA\, 01103\, United States
END:VEVENT
BEGIN:VEVENT
DTSTART;TZID=America/New_York:20171027T190000
DTEND;TZID=America/New_York:20171027T210000
DTSTAMP:20260424T020950
CREATED:20170922T151308Z
LAST-MODIFIED:20170922T151308Z
UID:10782-1509130800-1509138000@springfieldparkingauthority.com
SUMMARY:THUNDERBIRDS VS LEHIGH VALLEY
DESCRIPTION:Parking is available at the Civic Center Garage – Free with Ticket \n 
URL:https://springfieldparkingauthority.com/event/thunderbirds-vs-lehigh-valley-4-2/
LOCATION:MassMutual Center\, 1277 Main Street\, Springfield\, MA\, 01103\, United States
END:VEVENT
BEGIN:VEVENT
DTSTART;TZID=America/New_York:20171027T190000
DTEND;TZID=America/New_York:20171027T210000
DTSTAMP:20260424T020950
CREATED:20170922T151308Z
LAST-MODIFIED:20170922T151308Z
UID:4208-1509130800-1509138000@springfieldparkingauthority.com
SUMMARY:THUNDERBIRDS VS LEHIGH VALLEY
DESCRIPTION:Parking is available at the Civic Center Garage – Free with Ticket \n 
URL:https://springfieldparkingauthority.com/event/thunderbirds-vs-lehigh-valley-4/
LOCATION:MassMutual Center\, 1277 Main Street\, Springfield\, MA\, 01103\, United States
END:VEVENT
BEGIN:VEVENT
DTSTART;TZID=America/New_York:20171027T190000
DTEND;TZID=America/New_York:20171027T220000
DTSTAMP:20260424T020950
CREATED:20170925T155544Z
LAST-MODIFIED:20170925T155544Z
UID:4218-1509130800-1509141600@springfieldparkingauthority.com
SUMMARY:Bax and O'Brien Live
DESCRIPTION:Parking is available at the Columbus Center Garage – Free with Ticket \n 
URL:https://springfieldparkingauthority.com/event/bax-and-obrien-live/
LOCATION:Columbus Center\, 1 Columbus Center\, Springfield\, MA\, 01103\, United States
END:VEVENT
BEGIN:VEVENT
DTSTART;TZID=America/New_York:20171027T190000
DTEND;TZID=America/New_York:20171027T220000
DTSTAMP:20260424T020950
CREATED:20170925T155544Z
LAST-MODIFIED:20170925T155544Z
UID:10784-1509130800-1509141600@springfieldparkingauthority.com
SUMMARY:Bax and O'Brien Live
DESCRIPTION:Parking is available at the Columbus Center Garage – Free with Ticket \n 
URL:https://springfieldparkingauthority.com/event/bax-and-obrien-live-2/
LOCATION:Columbus Center\, 1 Columbus Center\, Springfield\, MA\, 01103\, United States
END:VEVENT
END:VCALENDAR