BEGIN:VCALENDAR
VERSION:2.0
PRODID:-//Springfield Parking Authority - ECPv6.15.20//NONSGML v1.0//EN
CALSCALE:GREGORIAN
METHOD:PUBLISH
X-WR-CALNAME:Springfield Parking Authority
X-ORIGINAL-URL:https://springfieldparkingauthority.com
X-WR-CALDESC:Events for Springfield Parking Authority
REFRESH-INTERVAL;VALUE=DURATION:PT1H
X-Robots-Tag:noindex
X-PUBLISHED-TTL:PT1H
BEGIN:VTIMEZONE
TZID:America/New_York
BEGIN:DAYLIGHT
TZOFFSETFROM:-0500
TZOFFSETTO:-0400
TZNAME:EDT
DTSTART:20160313T070000
END:DAYLIGHT
BEGIN:STANDARD
TZOFFSETFROM:-0400
TZOFFSETTO:-0500
TZNAME:EST
DTSTART:20161106T060000
END:STANDARD
BEGIN:DAYLIGHT
TZOFFSETFROM:-0500
TZOFFSETTO:-0400
TZNAME:EDT
DTSTART:20170312T070000
END:DAYLIGHT
BEGIN:STANDARD
TZOFFSETFROM:-0400
TZOFFSETTO:-0500
TZNAME:EST
DTSTART:20171105T060000
END:STANDARD
BEGIN:DAYLIGHT
TZOFFSETFROM:-0500
TZOFFSETTO:-0400
TZNAME:EDT
DTSTART:20180311T070000
END:DAYLIGHT
BEGIN:STANDARD
TZOFFSETFROM:-0400
TZOFFSETTO:-0500
TZNAME:EST
DTSTART:20181104T060000
END:STANDARD
END:VTIMEZONE
BEGIN:VEVENT
DTSTART;TZID=America/New_York:20171117T160000
DTEND;TZID=America/New_York:20171117T220000
DTSTAMP:20260424T061352
CREATED:20171025T160748Z
LAST-MODIFIED:20171025T160748Z
UID:4330-1510934400-1510956000@springfieldparkingauthority.com
SUMMARY:SPRINGFIELD MARTIAL ARTS FALL CLASSIC
DESCRIPTION:Parking is available at the Civic Center Garage – $7 Prepay \n 
URL:https://springfieldparkingauthority.com/event/springfield-martial-arts-fall-classic-5/
LOCATION:MassMutual Center\, 1277 Main Street\, Springfield\, MA\, 01103\, United States
END:VEVENT
BEGIN:VEVENT
DTSTART;TZID=America/New_York:20171117T160000
DTEND;TZID=America/New_York:20171117T220000
DTSTAMP:20260424T061352
CREATED:20171025T160748Z
LAST-MODIFIED:20171025T160748Z
UID:10826-1510934400-1510956000@springfieldparkingauthority.com
SUMMARY:SPRINGFIELD MARTIAL ARTS FALL CLASSIC
DESCRIPTION:Parking is available at the Civic Center Garage – $7 Prepay \n 
URL:https://springfieldparkingauthority.com/event/springfield-martial-arts-fall-classic-5-2/
LOCATION:MassMutual Center\, 1277 Main Street\, Springfield\, MA\, 01103\, United States
END:VEVENT
BEGIN:VEVENT
DTSTART;TZID=America/New_York:20171117T190000
DTEND;TZID=America/New_York:20171117T210000
DTSTAMP:20260424T061352
CREATED:20171025T160829Z
LAST-MODIFIED:20171025T160829Z
UID:4332-1510945200-1510952400@springfieldparkingauthority.com
SUMMARY:THUNDERBIRDS VS CHARLOTTE
DESCRIPTION:Parking is available at the Civic Center Garage – Free with Ticket \n 
URL:https://springfieldparkingauthority.com/event/thunderbirds-vs-charlotte-2/
LOCATION:MassMutual Center\, 1277 Main Street\, Springfield\, MA\, 01103\, United States
END:VEVENT
BEGIN:VEVENT
DTSTART;TZID=America/New_York:20171117T190000
DTEND;TZID=America/New_York:20171117T210000
DTSTAMP:20260424T061352
CREATED:20171025T160829Z
LAST-MODIFIED:20171025T160829Z
UID:10827-1510945200-1510952400@springfieldparkingauthority.com
SUMMARY:THUNDERBIRDS VS CHARLOTTE
DESCRIPTION:Parking is available at the Civic Center Garage – Free with Ticket \n 
URL:https://springfieldparkingauthority.com/event/thunderbirds-vs-charlotte-2-2/
LOCATION:MassMutual Center\, 1277 Main Street\, Springfield\, MA\, 01103\, United States
END:VEVENT
BEGIN:VEVENT
DTSTART;TZID=America/New_York:20171117T200000
DTEND;TZID=America/New_York:20171117T230000
DTSTAMP:20260424T061352
CREATED:20171023T163526Z
LAST-MODIFIED:20171023T163526Z
UID:4289-1510948800-1510959600@springfieldparkingauthority.com
SUMMARY:JOE BONAMASSA
DESCRIPTION:Parking is available at the I-91 North and South Garages – Free with Ticket
URL:https://springfieldparkingauthority.com/event/joe-bonamassa/
LOCATION:Symphony Hall\, 34 Court St.\, Springfield\, MA\, 01103\, United States
END:VEVENT
BEGIN:VEVENT
DTSTART;TZID=America/New_York:20171117T200000
DTEND;TZID=America/New_York:20171117T230000
DTSTAMP:20260424T061352
CREATED:20171023T163526Z
LAST-MODIFIED:20171023T163526Z
UID:10806-1510948800-1510959600@springfieldparkingauthority.com
SUMMARY:JOE BONAMASSA
DESCRIPTION:Parking is available at the I-91 North and South Garages – Free with Ticket
URL:https://springfieldparkingauthority.com/event/joe-bonamassa-3/
LOCATION:Symphony Hall\, 34 Court St.\, Springfield\, MA\, 01103\, United States
END:VEVENT
END:VCALENDAR