BEGIN:VCALENDAR
VERSION:2.0
PRODID:-//Springfield Parking Authority - ECPv6.15.20//NONSGML v1.0//EN
CALSCALE:GREGORIAN
METHOD:PUBLISH
X-ORIGINAL-URL:https://springfieldparkingauthority.com
X-WR-CALDESC:Events for Springfield Parking Authority
REFRESH-INTERVAL;VALUE=DURATION:PT1H
X-Robots-Tag:noindex
X-PUBLISHED-TTL:PT1H
BEGIN:VTIMEZONE
TZID:America/New_York
BEGIN:DAYLIGHT
TZOFFSETFROM:-0500
TZOFFSETTO:-0400
TZNAME:EDT
DTSTART:20160313T070000
END:DAYLIGHT
BEGIN:STANDARD
TZOFFSETFROM:-0400
TZOFFSETTO:-0500
TZNAME:EST
DTSTART:20161106T060000
END:STANDARD
BEGIN:DAYLIGHT
TZOFFSETFROM:-0500
TZOFFSETTO:-0400
TZNAME:EDT
DTSTART:20170312T070000
END:DAYLIGHT
BEGIN:STANDARD
TZOFFSETFROM:-0400
TZOFFSETTO:-0500
TZNAME:EST
DTSTART:20171105T060000
END:STANDARD
BEGIN:DAYLIGHT
TZOFFSETFROM:-0500
TZOFFSETTO:-0400
TZNAME:EDT
DTSTART:20180311T070000
END:DAYLIGHT
BEGIN:STANDARD
TZOFFSETFROM:-0400
TZOFFSETTO:-0500
TZNAME:EST
DTSTART:20181104T060000
END:STANDARD
END:VTIMEZONE
BEGIN:VEVENT
DTSTART;TZID=America/New_York:20171208T140000
DTEND;TZID=America/New_York:20171208T160000
DTSTAMP:20260425T111856
CREATED:20171127T132846Z
LAST-MODIFIED:20171127T132846Z
UID:10857-1512741600-1512748800@springfieldparkingauthority.com
SUMMARY:AIC VS MERCYHURST UNIVERSITY
DESCRIPTION:Parking is available at the Civic Center Garage – $7 Prepay \n 
URL:https://springfieldparkingauthority.com/event/aic-vs-mercyhurst-university-3/
LOCATION:MassMutual Center\, 1277 Main Street\, Springfield\, MA\, 01103\, United States
END:VEVENT
BEGIN:VEVENT
DTSTART;TZID=America/New_York:20171208T140000
DTEND;TZID=America/New_York:20171208T160000
DTSTAMP:20260425T111856
CREATED:20171127T132846Z
LAST-MODIFIED:20171127T132846Z
UID:4423-1512741600-1512748800@springfieldparkingauthority.com
SUMMARY:AIC VS MERCYHURST UNIVERSITY
DESCRIPTION:Parking is available at the Civic Center Garage – $7 Prepay \n 
URL:https://springfieldparkingauthority.com/event/aic-vs-mercyhurst-university/
LOCATION:MassMutual Center\, 1277 Main Street\, Springfield\, MA\, 01103\, United States
END:VEVENT
BEGIN:VEVENT
DTSTART;TZID=America/New_York:20171208T150000
DTEND;TZID=America/New_York:20171208T220000
DTSTAMP:20260425T111856
CREATED:20171127T132939Z
LAST-MODIFIED:20171127T132939Z
UID:10858-1512745200-1512770400@springfieldparkingauthority.com
SUMMARY:JURASSIC QUEST SHOW
DESCRIPTION:Parking is available at the Civic Center Garage – $7 Prepay \n 
URL:https://springfieldparkingauthority.com/event/jurassic-quest-show-4/
LOCATION:MassMutual Center\, 1277 Main Street\, Springfield\, MA\, 01103\, United States
END:VEVENT
BEGIN:VEVENT
DTSTART;TZID=America/New_York:20171208T150000
DTEND;TZID=America/New_York:20171208T220000
DTSTAMP:20260425T111856
CREATED:20171127T132939Z
LAST-MODIFIED:20171127T132939Z
UID:4425-1512745200-1512770400@springfieldparkingauthority.com
SUMMARY:JURASSIC QUEST SHOW
DESCRIPTION:Parking is available at the Civic Center Garage – $7 Prepay \n 
URL:https://springfieldparkingauthority.com/event/jurassic-quest-show/
LOCATION:MassMutual Center\, 1277 Main Street\, Springfield\, MA\, 01103\, United States
END:VEVENT
BEGIN:VEVENT
DTSTART;TZID=America/New_York:20171208T183000
DTEND;TZID=America/New_York:20171209T003000
DTSTAMP:20260425T111856
CREATED:20171129T163646Z
LAST-MODIFIED:20171129T163646Z
UID:4485-1512757800-1512779400@springfieldparkingauthority.com
SUMMARY:SHERATON SPRINGFIELD SMALL PARTIES NIGHT
DESCRIPTION:Parking is available at the I-91 North and South Garages – On the Clock \n 
URL:https://springfieldparkingauthority.com/event/sheraton-springfield-small-parties-night/
LOCATION:Sheraton Hotel\, One Monarch Place\, Springfield\, MA\, 01103\, United States
END:VEVENT
BEGIN:VEVENT
DTSTART;TZID=America/New_York:20171208T183000
DTEND;TZID=America/New_York:20171209T003000
DTSTAMP:20260425T111856
CREATED:20171129T163646Z
LAST-MODIFIED:20171129T163646Z
UID:10884-1512757800-1512779400@springfieldparkingauthority.com
SUMMARY:SHERATON SPRINGFIELD SMALL PARTIES NIGHT
DESCRIPTION:Parking is available at the I-91 North and South Garages – On the Clock \n 
URL:https://springfieldparkingauthority.com/event/sheraton-springfield-small-parties-night-2/
LOCATION:Sheraton Hotel\, One Monarch Place\, Springfield\, MA\, 01103\, United States
END:VEVENT
BEGIN:VEVENT
DTSTART;TZID=America/New_York:20171208T190000
DTEND;TZID=America/New_York:20171208T210000
DTSTAMP:20260425T111856
CREATED:20171127T133028Z
LAST-MODIFIED:20171127T133028Z
UID:10859-1512759600-1512766800@springfieldparkingauthority.com
SUMMARY:THUNDERBIRDS VS ROCHESTER
DESCRIPTION:Parking is available at the Civic Center Garage – Free with Ticket \n 
URL:https://springfieldparkingauthority.com/event/thunderbirds-vs-rochester-3-2/
LOCATION:MassMutual Center\, 1277 Main Street\, Springfield\, MA\, 01103\, United States
END:VEVENT
BEGIN:VEVENT
DTSTART;TZID=America/New_York:20171208T190000
DTEND;TZID=America/New_York:20171208T210000
DTSTAMP:20260425T111856
CREATED:20171127T133028Z
LAST-MODIFIED:20171127T133028Z
UID:4427-1512759600-1512766800@springfieldparkingauthority.com
SUMMARY:THUNDERBIRDS VS ROCHESTER
DESCRIPTION:Parking is available at the Civic Center Garage – Free with Ticket \n 
URL:https://springfieldparkingauthority.com/event/thunderbirds-vs-rochester-3/
LOCATION:MassMutual Center\, 1277 Main Street\, Springfield\, MA\, 01103\, United States
END:VEVENT
END:VCALENDAR