BEGIN:VCALENDAR
VERSION:2.0
PRODID:-//Springfield Parking Authority - ECPv6.15.20//NONSGML v1.0//EN
CALSCALE:GREGORIAN
METHOD:PUBLISH
X-ORIGINAL-URL:https://springfieldparkingauthority.com
X-WR-CALDESC:Events for Springfield Parking Authority
REFRESH-INTERVAL;VALUE=DURATION:PT1H
X-Robots-Tag:noindex
X-PUBLISHED-TTL:PT1H
BEGIN:VTIMEZONE
TZID:America/New_York
BEGIN:DAYLIGHT
TZOFFSETFROM:-0500
TZOFFSETTO:-0400
TZNAME:EDT
DTSTART:20160313T070000
END:DAYLIGHT
BEGIN:STANDARD
TZOFFSETFROM:-0400
TZOFFSETTO:-0500
TZNAME:EST
DTSTART:20161106T060000
END:STANDARD
BEGIN:DAYLIGHT
TZOFFSETFROM:-0500
TZOFFSETTO:-0400
TZNAME:EDT
DTSTART:20170312T070000
END:DAYLIGHT
BEGIN:STANDARD
TZOFFSETFROM:-0400
TZOFFSETTO:-0500
TZNAME:EST
DTSTART:20171105T060000
END:STANDARD
BEGIN:DAYLIGHT
TZOFFSETFROM:-0500
TZOFFSETTO:-0400
TZNAME:EDT
DTSTART:20180311T070000
END:DAYLIGHT
BEGIN:STANDARD
TZOFFSETFROM:-0400
TZOFFSETTO:-0500
TZNAME:EST
DTSTART:20181104T060000
END:STANDARD
END:VTIMEZONE
BEGIN:VEVENT
DTSTART;TZID=America/New_York:20171216T080000
DTEND;TZID=America/New_York:20171216T230000
DTSTAMP:20260424T161359
CREATED:20171215T151517Z
LAST-MODIFIED:20171215T151517Z
UID:10894-1513411200-1513465200@springfieldparkingauthority.com
SUMMARY:CHURCH OF PENTECOST CHRISTMASS
DESCRIPTION:Parking is available at the I-91 North and South Garages – On the Clock
URL:https://springfieldparkingauthority.com/event/church-of-pentecost-christmass-2-2/
LOCATION:Sheraton Hotel\, One Monarch Place\, Springfield\, MA\, 01103\, United States
END:VEVENT
BEGIN:VEVENT
DTSTART;TZID=America/New_York:20171216T080000
DTEND;TZID=America/New_York:20171216T230000
DTSTAMP:20260424T161359
CREATED:20171215T151517Z
LAST-MODIFIED:20171215T151517Z
UID:4515-1513411200-1513465200@springfieldparkingauthority.com
SUMMARY:CHURCH OF PENTECOST CHRISTMASS
DESCRIPTION:Parking is available at the I-91 North and South Garages – On the Clock
URL:https://springfieldparkingauthority.com/event/church-of-pentecost-christmass-2/
LOCATION:Sheraton Hotel\, One Monarch Place\, Springfield\, MA\, 01103\, United States
END:VEVENT
BEGIN:VEVENT
DTSTART;TZID=America/New_York:20171216T130000
DTEND;TZID=America/New_York:20171216T150000
DTSTAMP:20260424T161359
CREATED:20171201T145037Z
LAST-MODIFIED:20171201T145037Z
UID:10891-1513429200-1513436400@springfieldparkingauthority.com
SUMMARY:ALBANY BERKSHIRE BALLET
DESCRIPTION:Parking is available at the I-91 North and South Garages – Free with Ticket
URL:https://springfieldparkingauthority.com/event/albany-berkshire-ballet-4-2/
LOCATION:Symphony Hall\, 34 Court St.\, Springfield\, MA\, 01103\, United States
END:VEVENT
BEGIN:VEVENT
DTSTART;TZID=America/New_York:20171216T130000
DTEND;TZID=America/New_York:20171216T150000
DTSTAMP:20260424T161359
CREATED:20171201T145037Z
LAST-MODIFIED:20171201T145037Z
UID:4500-1513429200-1513436400@springfieldparkingauthority.com
SUMMARY:ALBANY BERKSHIRE BALLET
DESCRIPTION:Parking is available at the I-91 North and South Garages – Free with Ticket
URL:https://springfieldparkingauthority.com/event/albany-berkshire-ballet-4/
LOCATION:Symphony Hall\, 34 Court St.\, Springfield\, MA\, 01103\, United States
END:VEVENT
BEGIN:VEVENT
DTSTART;TZID=America/New_York:20171216T150000
DTEND;TZID=America/New_York:20171216T180000
DTSTAMP:20260424T161359
CREATED:20171127T134051Z
LAST-MODIFIED:20171127T134051Z
UID:4451-1513436400-1513447200@springfieldparkingauthority.com
SUMMARY:WINTER WONDERLAND
DESCRIPTION:Parking is available at the Civic Center Garage – $7 & $12 Prepay \n 
URL:https://springfieldparkingauthority.com/event/winter-wonderland/
LOCATION:MassMutual Center\, 1277 Main Street\, Springfield\, MA\, 01103\, United States
END:VEVENT
BEGIN:VEVENT
DTSTART;TZID=America/New_York:20171216T150000
DTEND;TZID=America/New_York:20171216T180000
DTSTAMP:20260424T161359
CREATED:20171127T134051Z
LAST-MODIFIED:20171127T134051Z
UID:10871-1513436400-1513447200@springfieldparkingauthority.com
SUMMARY:WINTER WONDERLAND
DESCRIPTION:Parking is available at the Civic Center Garage – $7 & $12 Prepay \n 
URL:https://springfieldparkingauthority.com/event/winter-wonderland-2/
LOCATION:MassMutual Center\, 1277 Main Street\, Springfield\, MA\, 01103\, United States
END:VEVENT
BEGIN:VEVENT
DTSTART;TZID=America/New_York:20171216T163000
DTEND;TZID=America/New_York:20171216T190000
DTSTAMP:20260424T161359
CREATED:20171201T145131Z
LAST-MODIFIED:20171201T145131Z
UID:10892-1513441800-1513450800@springfieldparkingauthority.com
SUMMARY:ALBANY BERKSHIRE BALLET
DESCRIPTION:Parking is available at the I-91 North and South Garages – Free with Ticket
URL:https://springfieldparkingauthority.com/event/albany-berkshire-ballet-5-2/
LOCATION:Symphony Hall\, 34 Court St.\, Springfield\, MA\, 01103\, United States
END:VEVENT
BEGIN:VEVENT
DTSTART;TZID=America/New_York:20171216T163000
DTEND;TZID=America/New_York:20171216T190000
DTSTAMP:20260424T161359
CREATED:20171201T145131Z
LAST-MODIFIED:20171201T145131Z
UID:4502-1513441800-1513450800@springfieldparkingauthority.com
SUMMARY:ALBANY BERKSHIRE BALLET
DESCRIPTION:Parking is available at the I-91 North and South Garages – Free with Ticket
URL:https://springfieldparkingauthority.com/event/albany-berkshire-ballet-5/
LOCATION:Symphony Hall\, 34 Court St.\, Springfield\, MA\, 01103\, United States
END:VEVENT
BEGIN:VEVENT
DTSTART;TZID=America/New_York:20171216T190000
DTEND;TZID=America/New_York:20171216T210000
DTSTAMP:20260424T161359
CREATED:20171127T134133Z
LAST-MODIFIED:20171127T134133Z
UID:10872-1513450800-1513458000@springfieldparkingauthority.com
SUMMARY:THUNDERBIRDS VS HARTFORD
DESCRIPTION:Parking is available at the Civic Center Garage – Free with Ticket \n 
URL:https://springfieldparkingauthority.com/event/thunderbirds-vs-hartford-10-2/
LOCATION:MassMutual Center\, 1277 Main Street\, Springfield\, MA\, 01103\, United States
END:VEVENT
BEGIN:VEVENT
DTSTART;TZID=America/New_York:20171216T190000
DTEND;TZID=America/New_York:20171216T210000
DTSTAMP:20260424T161359
CREATED:20171127T134133Z
LAST-MODIFIED:20171127T134133Z
UID:4453-1513450800-1513458000@springfieldparkingauthority.com
SUMMARY:THUNDERBIRDS VS HARTFORD
DESCRIPTION:Parking is available at the Civic Center Garage – Free with Ticket \n 
URL:https://springfieldparkingauthority.com/event/thunderbirds-vs-hartford-10/
LOCATION:MassMutual Center\, 1277 Main Street\, Springfield\, MA\, 01103\, United States
END:VEVENT
END:VCALENDAR