BEGIN:VCALENDAR
VERSION:2.0
PRODID:-//Springfield Parking Authority - ECPv6.15.20//NONSGML v1.0//EN
CALSCALE:GREGORIAN
METHOD:PUBLISH
X-ORIGINAL-URL:https://springfieldparkingauthority.com
X-WR-CALDESC:Events for Springfield Parking Authority
REFRESH-INTERVAL;VALUE=DURATION:PT1H
X-Robots-Tag:noindex
X-PUBLISHED-TTL:PT1H
BEGIN:VTIMEZONE
TZID:America/New_York
BEGIN:DAYLIGHT
TZOFFSETFROM:-0500
TZOFFSETTO:-0400
TZNAME:EDT
DTSTART:20170312T070000
END:DAYLIGHT
BEGIN:STANDARD
TZOFFSETFROM:-0400
TZOFFSETTO:-0500
TZNAME:EST
DTSTART:20171105T060000
END:STANDARD
BEGIN:DAYLIGHT
TZOFFSETFROM:-0500
TZOFFSETTO:-0400
TZNAME:EDT
DTSTART:20180311T070000
END:DAYLIGHT
BEGIN:STANDARD
TZOFFSETFROM:-0400
TZOFFSETTO:-0500
TZNAME:EST
DTSTART:20181104T060000
END:STANDARD
BEGIN:DAYLIGHT
TZOFFSETFROM:-0500
TZOFFSETTO:-0400
TZNAME:EDT
DTSTART:20190310T070000
END:DAYLIGHT
BEGIN:STANDARD
TZOFFSETFROM:-0400
TZOFFSETTO:-0500
TZNAME:EST
DTSTART:20191103T060000
END:STANDARD
END:VTIMEZONE
BEGIN:VEVENT
DTSTART;TZID=America/New_York:20180113T071500
DTEND;TZID=America/New_York:20180113T120000
DTSTAMP:20260424T073256
CREATED:20180103T172746Z
LAST-MODIFIED:20180103T172746Z
UID:4635-1515827700-1515844800@springfieldparkingauthority.com
SUMMARY:MARTIN LUTHER KING JR MEMORIAL SCHOLARSHIP BREAKFAST
DESCRIPTION:Parking is available at the I-91 North and South Garages – On the Clock \n 
URL:https://springfieldparkingauthority.com/event/martin-luther-king-jr-memorial-scholarship-breakfast/
LOCATION:Sheraton Hotel\, One Monarch Place\, Springfield\, MA\, 01103\, United States
END:VEVENT
BEGIN:VEVENT
DTSTART;TZID=America/New_York:20180113T071500
DTEND;TZID=America/New_York:20180113T120000
DTSTAMP:20260424T073256
CREATED:20180103T172746Z
LAST-MODIFIED:20180103T172746Z
UID:10944-1515827700-1515844800@springfieldparkingauthority.com
SUMMARY:MARTIN LUTHER KING JR MEMORIAL SCHOLARSHIP BREAKFAST
DESCRIPTION:Parking is available at the I-91 North and South Garages – On the Clock \n 
URL:https://springfieldparkingauthority.com/event/martin-luther-king-jr-memorial-scholarship-breakfast-2/
LOCATION:Sheraton Hotel\, One Monarch Place\, Springfield\, MA\, 01103\, United States
END:VEVENT
BEGIN:VEVENT
DTSTART;TZID=America/New_York:20180113T193000
DTEND;TZID=America/New_York:20180113T210000
DTSTAMP:20260424T073256
CREATED:20171226T162922Z
LAST-MODIFIED:20171226T162922Z
UID:4551-1515871800-1515877200@springfieldparkingauthority.com
SUMMARY:TRAXXAS MOSTER TRUCK TOUR
DESCRIPTION:Parking is available at the Civic Center Garage – $7 & $12 Prepay \n 
URL:https://springfieldparkingauthority.com/event/traxxas-moster-truck-tour-2/
LOCATION:MassMutual Center\, 1277 Main Street\, Springfield\, MA\, 01103\, United States
END:VEVENT
BEGIN:VEVENT
DTSTART;TZID=America/New_York:20180113T193000
DTEND;TZID=America/New_York:20180113T210000
DTSTAMP:20260424T073256
CREATED:20171226T162922Z
LAST-MODIFIED:20171226T162922Z
UID:10911-1515871800-1515877200@springfieldparkingauthority.com
SUMMARY:TRAXXAS MOSTER TRUCK TOUR
DESCRIPTION:Parking is available at the Civic Center Garage – $7 & $12 Prepay \n 
URL:https://springfieldparkingauthority.com/event/traxxas-moster-truck-tour-2-2/
LOCATION:MassMutual Center\, 1277 Main Street\, Springfield\, MA\, 01103\, United States
END:VEVENT
BEGIN:VEVENT
DTSTART;TZID=America/New_York:20180113T193000
DTEND;TZID=America/New_York:20180113T230000
DTSTAMP:20260424T073256
CREATED:20171226T163001Z
LAST-MODIFIED:20171226T163001Z
UID:4553-1515871800-1515884400@springfieldparkingauthority.com
SUMMARY:GOLDEN GLOVES FINALS
DESCRIPTION:Parking is available at the Civic Center Garage – $7 & $12 Prepay \n 
URL:https://springfieldparkingauthority.com/event/golden-gloves-finals-2/
LOCATION:MassMutual Center\, 1277 Main Street\, Springfield\, MA\, 01103\, United States
END:VEVENT
BEGIN:VEVENT
DTSTART;TZID=America/New_York:20180113T193000
DTEND;TZID=America/New_York:20180113T230000
DTSTAMP:20260424T073256
CREATED:20171226T163001Z
LAST-MODIFIED:20171226T163001Z
UID:10912-1515871800-1515884400@springfieldparkingauthority.com
SUMMARY:GOLDEN GLOVES FINALS
DESCRIPTION:Parking is available at the Civic Center Garage – $7 & $12 Prepay \n 
URL:https://springfieldparkingauthority.com/event/golden-gloves-finals-2-2/
LOCATION:MassMutual Center\, 1277 Main Street\, Springfield\, MA\, 01103\, United States
END:VEVENT
END:VCALENDAR