BEGIN:VCALENDAR
VERSION:2.0
PRODID:-//Springfield Parking Authority - ECPv6.15.20//NONSGML v1.0//EN
CALSCALE:GREGORIAN
METHOD:PUBLISH
X-WR-CALNAME:Springfield Parking Authority
X-ORIGINAL-URL:https://springfieldparkingauthority.com
X-WR-CALDESC:Events for Springfield Parking Authority
REFRESH-INTERVAL;VALUE=DURATION:PT1H
X-Robots-Tag:noindex
X-PUBLISHED-TTL:PT1H
BEGIN:VTIMEZONE
TZID:America/New_York
BEGIN:DAYLIGHT
TZOFFSETFROM:-0500
TZOFFSETTO:-0400
TZNAME:EDT
DTSTART:20170312T070000
END:DAYLIGHT
BEGIN:STANDARD
TZOFFSETFROM:-0400
TZOFFSETTO:-0500
TZNAME:EST
DTSTART:20171105T060000
END:STANDARD
BEGIN:DAYLIGHT
TZOFFSETFROM:-0500
TZOFFSETTO:-0400
TZNAME:EDT
DTSTART:20180311T070000
END:DAYLIGHT
BEGIN:STANDARD
TZOFFSETFROM:-0400
TZOFFSETTO:-0500
TZNAME:EST
DTSTART:20181104T060000
END:STANDARD
BEGIN:DAYLIGHT
TZOFFSETFROM:-0500
TZOFFSETTO:-0400
TZNAME:EDT
DTSTART:20190310T070000
END:DAYLIGHT
BEGIN:STANDARD
TZOFFSETFROM:-0400
TZOFFSETTO:-0500
TZNAME:EST
DTSTART:20191103T060000
END:STANDARD
END:VTIMEZONE
BEGIN:VEVENT
DTSTART;TZID=America/New_York:20180126T070000
DTEND;TZID=America/New_York:20180126T220000
DTSTAMP:20260422T175818
CREATED:20171226T172029Z
LAST-MODIFIED:20171226T172029Z
UID:4582-1516950000-1517004000@springfieldparkingauthority.com
SUMMARY:TIM DEGGETT GNATIONAL INVITATIONAL
DESCRIPTION:Parking is available at the Civic Center Garage – $7 Prepay \n 
URL:https://springfieldparkingauthority.com/event/tim-deggett-gnational-invitational/
LOCATION:MassMutual Center\, 1277 Main Street\, Springfield\, MA\, 01103\, United States
END:VEVENT
BEGIN:VEVENT
DTSTART;TZID=America/New_York:20180126T070000
DTEND;TZID=America/New_York:20180126T220000
DTSTAMP:20260422T175818
CREATED:20171226T172029Z
LAST-MODIFIED:20171226T172029Z
UID:10926-1516950000-1517004000@springfieldparkingauthority.com
SUMMARY:TIM DEGGETT GNATIONAL INVITATIONAL
DESCRIPTION:Parking is available at the Civic Center Garage – $7 Prepay \n 
URL:https://springfieldparkingauthority.com/event/tim-deggett-gnational-invitational-4/
LOCATION:MassMutual Center\, 1277 Main Street\, Springfield\, MA\, 01103\, United States
END:VEVENT
BEGIN:VEVENT
DTSTART;TZID=America/New_York:20180126T070000
DTEND;TZID=America/New_York:20180126T235500
DTSTAMP:20260422T175818
CREATED:20180123T172009Z
LAST-MODIFIED:20180123T172009Z
UID:4667-1516950000-1517010900@springfieldparkingauthority.com
SUMMARY:AMHERST RAILWAY SOCIETY INC.
DESCRIPTION:Parking is available at the I-91 North and South Garages – On the Clock \n 
URL:https://springfieldparkingauthority.com/event/amherst-railway-society-inc-6/
LOCATION:Sheraton Hotel\, One Monarch Place\, Springfield\, MA\, 01103\, United States
END:VEVENT
BEGIN:VEVENT
DTSTART;TZID=America/New_York:20180126T070000
DTEND;TZID=America/New_York:20180126T235500
DTSTAMP:20260422T175818
CREATED:20180123T172009Z
LAST-MODIFIED:20180123T172009Z
UID:10951-1516950000-1517010900@springfieldparkingauthority.com
SUMMARY:AMHERST RAILWAY SOCIETY INC.
DESCRIPTION:Parking is available at the I-91 North and South Garages – On the Clock \n 
URL:https://springfieldparkingauthority.com/event/amherst-railway-society-inc-6-2/
LOCATION:Sheraton Hotel\, One Monarch Place\, Springfield\, MA\, 01103\, United States
END:VEVENT
BEGIN:VEVENT
DTSTART;TZID=America/New_York:20180126T080000
DTEND;TZID=America/New_York:20180126T210000
DTSTAMP:20260422T175818
CREATED:20171226T172115Z
LAST-MODIFIED:20171226T172115Z
UID:10927-1516953600-1517000400@springfieldparkingauthority.com
SUMMARY:TURN IT UP DANCE CHALLENGE "MOCK" COMPETITION
DESCRIPTION:Parking is available at the Civic Center Garage
URL:https://springfieldparkingauthority.com/event/turn-it-up-dance-challenge-mock-competition-4/
LOCATION:MassMutual Center\, 1277 Main Street\, Springfield\, MA\, 01103\, United States
END:VEVENT
BEGIN:VEVENT
DTSTART;TZID=America/New_York:20180126T080000
DTEND;TZID=America/New_York:20180126T210000
DTSTAMP:20260422T175818
CREATED:20171226T172115Z
LAST-MODIFIED:20171226T172115Z
UID:4584-1516953600-1517000400@springfieldparkingauthority.com
SUMMARY:TURN IT UP DANCE CHALLENGE "MOCK" COMPETITION
DESCRIPTION:Parking is available at the Civic Center Garage
URL:https://springfieldparkingauthority.com/event/turn-it-up-dance-challenge-mock-competition/
LOCATION:MassMutual Center\, 1277 Main Street\, Springfield\, MA\, 01103\, United States
END:VEVENT
BEGIN:VEVENT
DTSTART;TZID=America/New_York:20180126T140000
DTEND;TZID=America/New_York:20180126T160000
DTSTAMP:20260422T175818
CREATED:20171226T172300Z
LAST-MODIFIED:20171226T172300Z
UID:4586-1516975200-1516982400@springfieldparkingauthority.com
SUMMARY:AIC VS ROBERT MORRIS UNIVERSITY
DESCRIPTION:Parking is available at the Civic Center Garage $7 Prepay
URL:https://springfieldparkingauthority.com/event/aic-vs-robert-morris-university/
LOCATION:MassMutual Center\, 1277 Main Street\, Springfield\, MA\, 01103\, United States
END:VEVENT
BEGIN:VEVENT
DTSTART;TZID=America/New_York:20180126T140000
DTEND;TZID=America/New_York:20180126T160000
DTSTAMP:20260422T175818
CREATED:20171226T172300Z
LAST-MODIFIED:20171226T172300Z
UID:10928-1516975200-1516982400@springfieldparkingauthority.com
SUMMARY:AIC VS ROBERT MORRIS UNIVERSITY
DESCRIPTION:Parking is available at the Civic Center Garage $7 Prepay
URL:https://springfieldparkingauthority.com/event/aic-vs-robert-morris-university-3/
LOCATION:MassMutual Center\, 1277 Main Street\, Springfield\, MA\, 01103\, United States
END:VEVENT
BEGIN:VEVENT
DTSTART;TZID=America/New_York:20180126T190000
DTEND;TZID=America/New_York:20180126T210000
DTSTAMP:20260422T175818
CREATED:20171226T172343Z
LAST-MODIFIED:20171226T172343Z
UID:4588-1516993200-1517000400@springfieldparkingauthority.com
SUMMARY:THUNDERBIRDS VS BRIDGEPORT
DESCRIPTION:Parking is available at the Civic Center Garage – Free with Ticket \n 
URL:https://springfieldparkingauthority.com/event/thunderbirds-vs-bridgeport-10/
LOCATION:MassMutual Center\, 1277 Main Street\, Springfield\, MA\, 01103\, United States
END:VEVENT
BEGIN:VEVENT
DTSTART;TZID=America/New_York:20180126T190000
DTEND;TZID=America/New_York:20180126T210000
DTSTAMP:20260422T175818
CREATED:20171226T172343Z
LAST-MODIFIED:20171226T172343Z
UID:10929-1516993200-1517000400@springfieldparkingauthority.com
SUMMARY:THUNDERBIRDS VS BRIDGEPORT
DESCRIPTION:Parking is available at the Civic Center Garage – Free with Ticket \n 
URL:https://springfieldparkingauthority.com/event/thunderbirds-vs-bridgeport-10-2/
LOCATION:MassMutual Center\, 1277 Main Street\, Springfield\, MA\, 01103\, United States
END:VEVENT
BEGIN:VEVENT
DTSTART;TZID=America/New_York:20180126T190000
DTEND;TZID=America/New_York:20180126T220000
DTSTAMP:20260422T175818
CREATED:20171226T171821Z
LAST-MODIFIED:20171226T171821Z
UID:4580-1516993200-1517004000@springfieldparkingauthority.com
SUMMARY:BEST OF BOSTON COMEDY
DESCRIPTION:Parking is available at the Columbus Center Garage – Free with Ticket \n 
URL:https://springfieldparkingauthority.com/event/best-of-boston-comedy/
LOCATION:Columbus Center\, 1 Columbus Center\, Springfield\, MA\, 01103\, United States
END:VEVENT
BEGIN:VEVENT
DTSTART;TZID=America/New_York:20180126T190000
DTEND;TZID=America/New_York:20180126T220000
DTSTAMP:20260422T175818
CREATED:20171226T171821Z
LAST-MODIFIED:20171226T171821Z
UID:10925-1516993200-1517004000@springfieldparkingauthority.com
SUMMARY:BEST OF BOSTON COMEDY
DESCRIPTION:Parking is available at the Columbus Center Garage – Free with Ticket \n 
URL:https://springfieldparkingauthority.com/event/best-of-boston-comedy-2/
LOCATION:Columbus Center\, 1 Columbus Center\, Springfield\, MA\, 01103\, United States
END:VEVENT
END:VCALENDAR