BEGIN:VCALENDAR
VERSION:2.0
PRODID:-//Springfield Parking Authority - ECPv6.15.20//NONSGML v1.0//EN
CALSCALE:GREGORIAN
METHOD:PUBLISH
X-WR-CALNAME:Springfield Parking Authority
X-ORIGINAL-URL:https://springfieldparkingauthority.com
X-WR-CALDESC:Events for Springfield Parking Authority
REFRESH-INTERVAL;VALUE=DURATION:PT1H
X-Robots-Tag:noindex
X-PUBLISHED-TTL:PT1H
BEGIN:VTIMEZONE
TZID:America/New_York
BEGIN:DAYLIGHT
TZOFFSETFROM:-0500
TZOFFSETTO:-0400
TZNAME:EDT
DTSTART:20170312T070000
END:DAYLIGHT
BEGIN:STANDARD
TZOFFSETFROM:-0400
TZOFFSETTO:-0500
TZNAME:EST
DTSTART:20171105T060000
END:STANDARD
BEGIN:DAYLIGHT
TZOFFSETFROM:-0500
TZOFFSETTO:-0400
TZNAME:EDT
DTSTART:20180311T070000
END:DAYLIGHT
BEGIN:STANDARD
TZOFFSETFROM:-0400
TZOFFSETTO:-0500
TZNAME:EST
DTSTART:20181104T060000
END:STANDARD
BEGIN:DAYLIGHT
TZOFFSETFROM:-0500
TZOFFSETTO:-0400
TZNAME:EDT
DTSTART:20190310T070000
END:DAYLIGHT
BEGIN:STANDARD
TZOFFSETFROM:-0400
TZOFFSETTO:-0500
TZNAME:EST
DTSTART:20191103T060000
END:STANDARD
END:VTIMEZONE
BEGIN:VEVENT
DTSTART;TZID=America/New_York:20180202T070000
DTEND;TZID=America/New_York:20180202T233000
DTSTAMP:20260421T221451
CREATED:20180124T162320Z
LAST-MODIFIED:20180124T162320Z
UID:10963-1517554800-1517614200@springfieldparkingauthority.com
SUMMARY:ECKANKAR CHARTER CHURCH
DESCRIPTION:Parking is available at the I-91 North and South Garages – On the Clock
URL:https://springfieldparkingauthority.com/event/eckankar-charter-church-3-2/
LOCATION:Sheraton Hotel\, One Monarch Place\, Springfield\, MA\, 01103\, United States
END:VEVENT
BEGIN:VEVENT
DTSTART;TZID=America/New_York:20180202T070000
DTEND;TZID=America/New_York:20180202T233000
DTSTAMP:20260421T221451
CREATED:20180124T162320Z
LAST-MODIFIED:20180124T162320Z
UID:4691-1517554800-1517614200@springfieldparkingauthority.com
SUMMARY:ECKANKAR CHARTER CHURCH
DESCRIPTION:Parking is available at the I-91 North and South Garages – On the Clock
URL:https://springfieldparkingauthority.com/event/eckankar-charter-church-3/
LOCATION:Sheraton Hotel\, One Monarch Place\, Springfield\, MA\, 01103\, United States
END:VEVENT
BEGIN:VEVENT
DTSTART;TZID=America/New_York:20180202T080000
DTEND;TZID=America/New_York:20180202T220000
DTSTAMP:20260421T221451
CREATED:20180124T162538Z
LAST-MODIFIED:20180124T162538Z
UID:10964-1517558400-1517608800@springfieldparkingauthority.com
SUMMARY:NERVA QUALIFIERS
DESCRIPTION:Parking is available at the Civic Center Garage – $7 Prepay \n 
URL:https://springfieldparkingauthority.com/event/nerva-qualifiers-7/
LOCATION:MassMutual Center\, 1277 Main Street\, Springfield\, MA\, 01103\, United States
END:VEVENT
BEGIN:VEVENT
DTSTART;TZID=America/New_York:20180202T080000
DTEND;TZID=America/New_York:20180202T220000
DTSTAMP:20260421T221451
CREATED:20180124T162538Z
LAST-MODIFIED:20180124T162538Z
UID:4693-1517558400-1517608800@springfieldparkingauthority.com
SUMMARY:NERVA QUALIFIERS
DESCRIPTION:Parking is available at the Civic Center Garage – $7 Prepay \n 
URL:https://springfieldparkingauthority.com/event/nerva-qualifiers/
LOCATION:MassMutual Center\, 1277 Main Street\, Springfield\, MA\, 01103\, United States
END:VEVENT
BEGIN:VEVENT
DTSTART;TZID=America/New_York:20180202T090000
DTEND;TZID=America/New_York:20180202T235500
DTSTAMP:20260421T221451
CREATED:20180226T164020Z
LAST-MODIFIED:20180226T164020Z
UID:4888-1517562000-1517615700@springfieldparkingauthority.com
SUMMARY:OVERSEER NAYLOR APPRECIATION SERVICE
DESCRIPTION:Parking is available at the I-91 North and South Garages – On the Clock \n 
URL:https://springfieldparkingauthority.com/event/overseer-naylor-appreciation-service/
LOCATION:Sheraton Hotel\, One Monarch Place\, Springfield\, MA\, 01103\, United States
END:VEVENT
BEGIN:VEVENT
DTSTART;TZID=America/New_York:20180202T090000
DTEND;TZID=America/New_York:20180202T235500
DTSTAMP:20260421T221451
CREATED:20180226T164020Z
LAST-MODIFIED:20180226T164020Z
UID:11050-1517562000-1517615700@springfieldparkingauthority.com
SUMMARY:OVERSEER NAYLOR APPRECIATION SERVICE
DESCRIPTION:Parking is available at the I-91 North and South Garages – On the Clock \n 
URL:https://springfieldparkingauthority.com/event/overseer-naylor-appreciation-service-4/
LOCATION:Sheraton Hotel\, One Monarch Place\, Springfield\, MA\, 01103\, United States
END:VEVENT
BEGIN:VEVENT
DTSTART;TZID=America/New_York:20180202T130000
DTEND;TZID=America/New_York:20180202T150000
DTSTAMP:20260421T221451
CREATED:20180226T163928Z
LAST-MODIFIED:20180226T163928Z
UID:11049-1517576400-1517583600@springfieldparkingauthority.com
SUMMARY:AIC HOCKEY PLAY OFF GAME
DESCRIPTION:Parking is available at the Civic Center Garage – $7 Prepay \n 
URL:https://springfieldparkingauthority.com/event/aic-hockey-play-off-game-5/
LOCATION:MassMutual Center\, 1277 Main Street\, Springfield\, MA\, 01103\, United States
END:VEVENT
BEGIN:VEVENT
DTSTART;TZID=America/New_York:20180202T130000
DTEND;TZID=America/New_York:20180202T150000
DTSTAMP:20260421T221451
CREATED:20180226T163928Z
LAST-MODIFIED:20180226T163928Z
UID:4886-1517576400-1517583600@springfieldparkingauthority.com
SUMMARY:AIC HOCKEY PLAY OFF GAME
DESCRIPTION:Parking is available at the Civic Center Garage – $7 Prepay \n 
URL:https://springfieldparkingauthority.com/event/aic-hockey-play-off-game/
LOCATION:MassMutual Center\, 1277 Main Street\, Springfield\, MA\, 01103\, United States
END:VEVENT
END:VCALENDAR