BEGIN:VCALENDAR
VERSION:2.0
PRODID:-//Springfield Parking Authority - ECPv6.15.20//NONSGML v1.0//EN
CALSCALE:GREGORIAN
METHOD:PUBLISH
X-WR-CALNAME:Springfield Parking Authority
X-ORIGINAL-URL:https://springfieldparkingauthority.com
X-WR-CALDESC:Events for Springfield Parking Authority
REFRESH-INTERVAL;VALUE=DURATION:PT1H
X-Robots-Tag:noindex
X-PUBLISHED-TTL:PT1H
BEGIN:VTIMEZONE
TZID:America/New_York
BEGIN:DAYLIGHT
TZOFFSETFROM:-0500
TZOFFSETTO:-0400
TZNAME:EDT
DTSTART:20170312T070000
END:DAYLIGHT
BEGIN:STANDARD
TZOFFSETFROM:-0400
TZOFFSETTO:-0500
TZNAME:EST
DTSTART:20171105T060000
END:STANDARD
BEGIN:DAYLIGHT
TZOFFSETFROM:-0500
TZOFFSETTO:-0400
TZNAME:EDT
DTSTART:20180311T070000
END:DAYLIGHT
BEGIN:STANDARD
TZOFFSETFROM:-0400
TZOFFSETTO:-0500
TZNAME:EST
DTSTART:20181104T060000
END:STANDARD
BEGIN:DAYLIGHT
TZOFFSETFROM:-0500
TZOFFSETTO:-0400
TZNAME:EDT
DTSTART:20190310T070000
END:DAYLIGHT
BEGIN:STANDARD
TZOFFSETFROM:-0400
TZOFFSETTO:-0500
TZNAME:EST
DTSTART:20191103T060000
END:STANDARD
END:VTIMEZONE
BEGIN:VEVENT
DTSTART;TZID=America/New_York:20180203T070000
DTEND;TZID=America/New_York:20180203T190000
DTSTAMP:20260421T071408
CREATED:20180130T150013Z
LAST-MODIFIED:20180130T150013Z
UID:10988-1517641200-1517684400@springfieldparkingauthority.com
SUMMARY:NERVA WINTERFEST QUALIFIER
DESCRIPTION:Parking is available at the I-91 North and South Garages – On the Clock \n 
URL:https://springfieldparkingauthority.com/event/nerva-winterfest-qualifier-3/
LOCATION:Sheraton Hotel\, One Monarch Place\, Springfield\, MA\, 01103\, United States
END:VEVENT
BEGIN:VEVENT
DTSTART;TZID=America/New_York:20180203T070000
DTEND;TZID=America/New_York:20180203T190000
DTSTAMP:20260421T071408
CREATED:20180130T150013Z
LAST-MODIFIED:20180130T150013Z
UID:4742-1517641200-1517684400@springfieldparkingauthority.com
SUMMARY:NERVA WINTERFEST QUALIFIER
DESCRIPTION:Parking is available at the I-91 North and South Garages – On the Clock \n 
URL:https://springfieldparkingauthority.com/event/nerva-winterfest-qualifier/
LOCATION:Sheraton Hotel\, One Monarch Place\, Springfield\, MA\, 01103\, United States
END:VEVENT
BEGIN:VEVENT
DTSTART;TZID=America/New_York:20180203T070000
DTEND;TZID=America/New_York:20180203T220000
DTSTAMP:20260421T071408
CREATED:20180124T162759Z
LAST-MODIFIED:20180124T162759Z
UID:10966-1517641200-1517695200@springfieldparkingauthority.com
SUMMARY:LIVE! NEW ENGLAND
DESCRIPTION:Parking is available at the Civic Center Garage – $7 & $12 Prepay \n 
URL:https://springfieldparkingauthority.com/event/live-new-england-2/
LOCATION:MassMutual Center\, 1277 Main Street\, Springfield\, MA\, 01103\, United States
END:VEVENT
BEGIN:VEVENT
DTSTART;TZID=America/New_York:20180203T070000
DTEND;TZID=America/New_York:20180203T220000
DTSTAMP:20260421T071408
CREATED:20180124T162759Z
LAST-MODIFIED:20180124T162759Z
UID:4697-1517641200-1517695200@springfieldparkingauthority.com
SUMMARY:LIVE! NEW ENGLAND
DESCRIPTION:Parking is available at the Civic Center Garage – $7 & $12 Prepay \n 
URL:https://springfieldparkingauthority.com/event/live-new-england/
LOCATION:MassMutual Center\, 1277 Main Street\, Springfield\, MA\, 01103\, United States
END:VEVENT
BEGIN:VEVENT
DTSTART;TZID=America/New_York:20180203T080000
DTEND;TZID=America/New_York:20180203T223000
DTSTAMP:20260421T071408
CREATED:20180124T162843Z
LAST-MODIFIED:20180124T162843Z
UID:4699-1517644800-1517697000@springfieldparkingauthority.com
SUMMARY:NERVA QUALIFIERS
DESCRIPTION:Parking is available at the Civic Center Garage – $7 & $12 Prepay \n 
URL:https://springfieldparkingauthority.com/event/nerva-qualifiers-2/
LOCATION:MassMutual Center\, 1277 Main Street\, Springfield\, MA\, 01103\, United States
END:VEVENT
BEGIN:VEVENT
DTSTART;TZID=America/New_York:20180203T080000
DTEND;TZID=America/New_York:20180203T223000
DTSTAMP:20260421T071408
CREATED:20180124T162843Z
LAST-MODIFIED:20180124T162843Z
UID:10967-1517644800-1517697000@springfieldparkingauthority.com
SUMMARY:NERVA QUALIFIERS
DESCRIPTION:Parking is available at the Civic Center Garage – $7 & $12 Prepay \n 
URL:https://springfieldparkingauthority.com/event/nerva-qualifiers-2-5/
LOCATION:MassMutual Center\, 1277 Main Street\, Springfield\, MA\, 01103\, United States
END:VEVENT
BEGIN:VEVENT
DTSTART;TZID=America/New_York:20180203T080000
DTEND;TZID=America/New_York:20180204T000000
DTSTAMP:20260421T071408
CREATED:20180124T162656Z
LAST-MODIFIED:20180124T162656Z
UID:10965-1517644800-1517702400@springfieldparkingauthority.com
SUMMARY:ECKANKAR CHARTER CHURCH
DESCRIPTION:Parking is available at the I-91 North and South Garages – On the Clock \n 
URL:https://springfieldparkingauthority.com/event/eckankar-charter-church-4-2/
LOCATION:Sheraton Hotel\, One Monarch Place\, Springfield\, MA\, 01103\, United States
END:VEVENT
BEGIN:VEVENT
DTSTART;TZID=America/New_York:20180203T080000
DTEND;TZID=America/New_York:20180204T000000
DTSTAMP:20260421T071408
CREATED:20180124T162656Z
LAST-MODIFIED:20180124T162656Z
UID:4695-1517644800-1517702400@springfieldparkingauthority.com
SUMMARY:ECKANKAR CHARTER CHURCH
DESCRIPTION:Parking is available at the I-91 North and South Garages – On the Clock \n 
URL:https://springfieldparkingauthority.com/event/eckankar-charter-church-4/
LOCATION:Sheraton Hotel\, One Monarch Place\, Springfield\, MA\, 01103\, United States
END:VEVENT
END:VCALENDAR