BEGIN:VCALENDAR
VERSION:2.0
PRODID:-//Springfield Parking Authority - ECPv6.15.20//NONSGML v1.0//EN
CALSCALE:GREGORIAN
METHOD:PUBLISH
X-WR-CALNAME:Springfield Parking Authority
X-ORIGINAL-URL:https://springfieldparkingauthority.com
X-WR-CALDESC:Events for Springfield Parking Authority
REFRESH-INTERVAL;VALUE=DURATION:PT1H
X-Robots-Tag:noindex
X-PUBLISHED-TTL:PT1H
BEGIN:VTIMEZONE
TZID:America/New_York
BEGIN:DAYLIGHT
TZOFFSETFROM:-0500
TZOFFSETTO:-0400
TZNAME:EDT
DTSTART:20170312T070000
END:DAYLIGHT
BEGIN:STANDARD
TZOFFSETFROM:-0400
TZOFFSETTO:-0500
TZNAME:EST
DTSTART:20171105T060000
END:STANDARD
BEGIN:DAYLIGHT
TZOFFSETFROM:-0500
TZOFFSETTO:-0400
TZNAME:EDT
DTSTART:20180311T070000
END:DAYLIGHT
BEGIN:STANDARD
TZOFFSETFROM:-0400
TZOFFSETTO:-0500
TZNAME:EST
DTSTART:20181104T060000
END:STANDARD
BEGIN:DAYLIGHT
TZOFFSETFROM:-0500
TZOFFSETTO:-0400
TZNAME:EDT
DTSTART:20190310T070000
END:DAYLIGHT
BEGIN:STANDARD
TZOFFSETFROM:-0400
TZOFFSETTO:-0500
TZNAME:EST
DTSTART:20191103T060000
END:STANDARD
END:VTIMEZONE
BEGIN:VEVENT
DTSTART;TZID=America/New_York:20180304T080000
DTEND;TZID=America/New_York:20180304T210000
DTSTAMP:20260421T203658
CREATED:20180220T181004Z
LAST-MODIFIED:20180220T181004Z
UID:11004-1520150400-1520197200@springfieldparkingauthority.com
SUMMARY:ON STAGE AMERICA
DESCRIPTION:Parking is available at the Civic Center Garage – $7 & $12 Prepay \n 
URL:https://springfieldparkingauthority.com/event/on-stage-america-6-2/
LOCATION:MassMutual Center\, 1277 Main Street\, Springfield\, MA\, 01103\, United States
END:VEVENT
BEGIN:VEVENT
DTSTART;TZID=America/New_York:20180304T080000
DTEND;TZID=America/New_York:20180304T210000
DTSTAMP:20260421T203658
CREATED:20180220T181004Z
LAST-MODIFIED:20180220T181004Z
UID:4791-1520150400-1520197200@springfieldparkingauthority.com
SUMMARY:ON STAGE AMERICA
DESCRIPTION:Parking is available at the Civic Center Garage – $7 & $12 Prepay \n 
URL:https://springfieldparkingauthority.com/event/on-stage-america-6/
LOCATION:MassMutual Center\, 1277 Main Street\, Springfield\, MA\, 01103\, United States
END:VEVENT
BEGIN:VEVENT
DTSTART;TZID=America/New_York:20180304T110000
DTEND;TZID=America/New_York:20180304T160000
DTSTAMP:20260421T203658
CREATED:20180220T181117Z
LAST-MODIFIED:20180220T181117Z
UID:11005-1520161200-1520179200@springfieldparkingauthority.com
SUMMARY:WESTERN NEW ENGLAND BRIDAL SHOW
DESCRIPTION:Parking is available at the Civic Center Garage – $7 & $12 Prepay \n 
URL:https://springfieldparkingauthority.com/event/western-new-england-bridal-show-5-2/
LOCATION:MassMutual Center\, 1277 Main Street\, Springfield\, MA\, 01103\, United States
END:VEVENT
BEGIN:VEVENT
DTSTART;TZID=America/New_York:20180304T110000
DTEND;TZID=America/New_York:20180304T160000
DTSTAMP:20260421T203658
CREATED:20180220T181117Z
LAST-MODIFIED:20180220T181117Z
UID:4793-1520161200-1520179200@springfieldparkingauthority.com
SUMMARY:WESTERN NEW ENGLAND BRIDAL SHOW
DESCRIPTION:Parking is available at the Civic Center Garage – $7 & $12 Prepay \n 
URL:https://springfieldparkingauthority.com/event/western-new-england-bridal-show-5/
LOCATION:MassMutual Center\, 1277 Main Street\, Springfield\, MA\, 01103\, United States
END:VEVENT
BEGIN:VEVENT
DTSTART;TZID=America/New_York:20180304T130000
DTEND;TZID=America/New_York:20180304T150000
DTSTAMP:20260421T203658
CREATED:20180226T164236Z
LAST-MODIFIED:20180226T164236Z
UID:4894-1520168400-1520175600@springfieldparkingauthority.com
SUMMARY:AIC HOCKEY PLAY OFF GAME
DESCRIPTION:Parking is available at the Civic Center Garage – $7 Prepay \n 
URL:https://springfieldparkingauthority.com/event/aic-hockey-play-off-game-3/
LOCATION:MassMutual Center\, 1277 Main Street\, Springfield\, MA\, 01103\, United States
END:VEVENT
BEGIN:VEVENT
DTSTART;TZID=America/New_York:20180304T130000
DTEND;TZID=America/New_York:20180304T150000
DTSTAMP:20260421T203658
CREATED:20180226T164236Z
LAST-MODIFIED:20180226T164236Z
UID:11053-1520168400-1520175600@springfieldparkingauthority.com
SUMMARY:AIC HOCKEY PLAY OFF GAME
DESCRIPTION:Parking is available at the Civic Center Garage – $7 Prepay \n 
URL:https://springfieldparkingauthority.com/event/aic-hockey-play-off-game-3-2/
LOCATION:MassMutual Center\, 1277 Main Street\, Springfield\, MA\, 01103\, United States
END:VEVENT
END:VCALENDAR