BEGIN:VCALENDAR
VERSION:2.0
PRODID:-//Springfield Parking Authority - ECPv6.15.20//NONSGML v1.0//EN
CALSCALE:GREGORIAN
METHOD:PUBLISH
X-ORIGINAL-URL:https://springfieldparkingauthority.com
X-WR-CALDESC:Events for Springfield Parking Authority
REFRESH-INTERVAL;VALUE=DURATION:PT1H
X-Robots-Tag:noindex
X-PUBLISHED-TTL:PT1H
BEGIN:VTIMEZONE
TZID:America/New_York
BEGIN:DAYLIGHT
TZOFFSETFROM:-0500
TZOFFSETTO:-0400
TZNAME:EDT
DTSTART:20170312T070000
END:DAYLIGHT
BEGIN:STANDARD
TZOFFSETFROM:-0400
TZOFFSETTO:-0500
TZNAME:EST
DTSTART:20171105T060000
END:STANDARD
BEGIN:DAYLIGHT
TZOFFSETFROM:-0500
TZOFFSETTO:-0400
TZNAME:EDT
DTSTART:20180311T070000
END:DAYLIGHT
BEGIN:STANDARD
TZOFFSETFROM:-0400
TZOFFSETTO:-0500
TZNAME:EST
DTSTART:20181104T060000
END:STANDARD
BEGIN:DAYLIGHT
TZOFFSETFROM:-0500
TZOFFSETTO:-0400
TZNAME:EDT
DTSTART:20190310T070000
END:DAYLIGHT
BEGIN:STANDARD
TZOFFSETFROM:-0400
TZOFFSETTO:-0500
TZNAME:EST
DTSTART:20191103T060000
END:STANDARD
END:VTIMEZONE
BEGIN:VEVENT
DTSTART;TZID=America/New_York:20180309T080000
DTEND;TZID=America/New_York:20180309T235500
DTSTAMP:20260420T235959
CREATED:20180226T164610Z
LAST-MODIFIED:20180226T164610Z
UID:11057-1520582400-1520639700@springfieldparkingauthority.com
SUMMARY:NATIONAL ACADEMIC ADVISING ASSOCIATION
DESCRIPTION:Parking is available at the I-91 North and South Garages – On the Clock \n 
URL:https://springfieldparkingauthority.com/event/national-academic-advising-association-3-2/
LOCATION:Downtown Springfield\, Springfield\, MA\, United States
END:VEVENT
BEGIN:VEVENT
DTSTART;TZID=America/New_York:20180309T080000
DTEND;TZID=America/New_York:20180309T235500
DTSTAMP:20260420T235959
CREATED:20180226T164610Z
LAST-MODIFIED:20180226T164610Z
UID:4902-1520582400-1520639700@springfieldparkingauthority.com
SUMMARY:NATIONAL ACADEMIC ADVISING ASSOCIATION
DESCRIPTION:Parking is available at the I-91 North and South Garages – On the Clock \n 
URL:https://springfieldparkingauthority.com/event/national-academic-advising-association-3/
LOCATION:Downtown Springfield\, Springfield\, MA\, United States
END:VEVENT
BEGIN:VEVENT
DTSTART;TZID=America/New_York:20180309T110000
DTEND;TZID=America/New_York:20180309T133000
DTSTAMP:20260420T235959
CREATED:20180220T181310Z
LAST-MODIFIED:20180220T181310Z
UID:4795-1520593200-1520602200@springfieldparkingauthority.com
SUMMARY:OUTLOOK 2018
DESCRIPTION:Parking is available at the Civic Center Garage – $7 Prepay \n 
URL:https://springfieldparkingauthority.com/event/outlook-2018/
LOCATION:MassMutual Center\, 1277 Main Street\, Springfield\, MA\, 01103\, United States
END:VEVENT
BEGIN:VEVENT
DTSTART;TZID=America/New_York:20180309T110000
DTEND;TZID=America/New_York:20180309T133000
DTSTAMP:20260420T235959
CREATED:20180220T181310Z
LAST-MODIFIED:20180220T181310Z
UID:11006-1520593200-1520602200@springfieldparkingauthority.com
SUMMARY:OUTLOOK 2018
DESCRIPTION:Parking is available at the Civic Center Garage – $7 Prepay \n 
URL:https://springfieldparkingauthority.com/event/outlook-2018-2/
LOCATION:MassMutual Center\, 1277 Main Street\, Springfield\, MA\, 01103\, United States
END:VEVENT
BEGIN:VEVENT
DTSTART;TZID=America/New_York:20180309T160000
DTEND;TZID=America/New_York:20180309T230000
DTSTAMP:20260420T235959
CREATED:20180220T181353Z
LAST-MODIFIED:20180220T181353Z
UID:11007-1520611200-1520636400@springfieldparkingauthority.com
SUMMARY:BEYOND THE STARS TALENT COMPETITION
DESCRIPTION:Parking is available at the Civic Center Garage – $7 Prepay \n 
URL:https://springfieldparkingauthority.com/event/beyond-the-stars-talent-competition-3-2/
LOCATION:MassMutual Center\, 1277 Main Street\, Springfield\, MA\, 01103\, United States
END:VEVENT
BEGIN:VEVENT
DTSTART;TZID=America/New_York:20180309T160000
DTEND;TZID=America/New_York:20180309T230000
DTSTAMP:20260420T235959
CREATED:20180220T181353Z
LAST-MODIFIED:20180220T181353Z
UID:4797-1520611200-1520636400@springfieldparkingauthority.com
SUMMARY:BEYOND THE STARS TALENT COMPETITION
DESCRIPTION:Parking is available at the Civic Center Garage – $7 Prepay \n 
URL:https://springfieldparkingauthority.com/event/beyond-the-stars-talent-competition-3/
LOCATION:MassMutual Center\, 1277 Main Street\, Springfield\, MA\, 01103\, United States
END:VEVENT
BEGIN:VEVENT
DTSTART;TZID=America/New_York:20180309T193000
DTEND;TZID=America/New_York:20180309T220000
DTSTAMP:20260420T235959
CREATED:20180220T181436Z
LAST-MODIFIED:20180220T181436Z
UID:11008-1520623800-1520632800@springfieldparkingauthority.com
SUMMARY:YESTERDAY & TODAY
DESCRIPTION:Parking is available at the Columbus Center Garage – Free with Ticket \n 
URL:https://springfieldparkingauthority.com/event/yesterday-today-3-2/
LOCATION:Columbus Center\, 1 Columbus Center\, Springfield\, MA\, 01103\, United States
END:VEVENT
BEGIN:VEVENT
DTSTART;TZID=America/New_York:20180309T193000
DTEND;TZID=America/New_York:20180309T220000
DTSTAMP:20260420T235959
CREATED:20180220T181436Z
LAST-MODIFIED:20180220T181436Z
UID:4799-1520623800-1520632800@springfieldparkingauthority.com
SUMMARY:YESTERDAY & TODAY
DESCRIPTION:Parking is available at the Columbus Center Garage – Free with Ticket \n 
URL:https://springfieldparkingauthority.com/event/yesterday-today-3/
LOCATION:Columbus Center\, 1 Columbus Center\, Springfield\, MA\, 01103\, United States
END:VEVENT
END:VCALENDAR