BEGIN:VCALENDAR
VERSION:2.0
PRODID:-//Springfield Parking Authority - ECPv6.15.20//NONSGML v1.0//EN
CALSCALE:GREGORIAN
METHOD:PUBLISH
X-WR-CALNAME:Springfield Parking Authority
X-ORIGINAL-URL:https://springfieldparkingauthority.com
X-WR-CALDESC:Events for Springfield Parking Authority
REFRESH-INTERVAL;VALUE=DURATION:PT1H
X-Robots-Tag:noindex
X-PUBLISHED-TTL:PT1H
BEGIN:VTIMEZONE
TZID:America/New_York
BEGIN:DAYLIGHT
TZOFFSETFROM:-0500
TZOFFSETTO:-0400
TZNAME:EDT
DTSTART:20170312T070000
END:DAYLIGHT
BEGIN:STANDARD
TZOFFSETFROM:-0400
TZOFFSETTO:-0500
TZNAME:EST
DTSTART:20171105T060000
END:STANDARD
BEGIN:DAYLIGHT
TZOFFSETFROM:-0500
TZOFFSETTO:-0400
TZNAME:EDT
DTSTART:20180311T070000
END:DAYLIGHT
BEGIN:STANDARD
TZOFFSETFROM:-0400
TZOFFSETTO:-0500
TZNAME:EST
DTSTART:20181104T060000
END:STANDARD
BEGIN:DAYLIGHT
TZOFFSETFROM:-0500
TZOFFSETTO:-0400
TZNAME:EDT
DTSTART:20190310T070000
END:DAYLIGHT
BEGIN:STANDARD
TZOFFSETFROM:-0400
TZOFFSETTO:-0500
TZNAME:EST
DTSTART:20191103T060000
END:STANDARD
END:VTIMEZONE
BEGIN:VEVENT
DTSTART;TZID=America/New_York:20180314T070000
DTEND;TZID=America/New_York:20180315T000000
DTSTAMP:20260421T000321
CREATED:20180312T165458Z
LAST-MODIFIED:20180312T165458Z
UID:4949-1521010800-1521072000@springfieldparkingauthority.com
SUMMARY:NEW ENGLAND FATHERING CONFERNCE 2018
DESCRIPTION:Parking is available at the I-91 North and South Garages – On the Clock \n 
URL:https://springfieldparkingauthority.com/event/new-england-fathering-confernce-2018/
LOCATION:Sheraton Hotel\, One Monarch Place\, Springfield\, MA\, 01103\, United States
END:VEVENT
BEGIN:VEVENT
DTSTART;TZID=America/New_York:20180314T070000
DTEND;TZID=America/New_York:20180315T000000
DTSTAMP:20260421T000321
CREATED:20180312T165458Z
LAST-MODIFIED:20180312T165458Z
UID:11073-1521010800-1521072000@springfieldparkingauthority.com
SUMMARY:NEW ENGLAND FATHERING CONFERNCE 2018
DESCRIPTION:Parking is available at the I-91 North and South Garages – On the Clock \n 
URL:https://springfieldparkingauthority.com/event/new-england-fathering-confernce-2018-3/
LOCATION:Sheraton Hotel\, One Monarch Place\, Springfield\, MA\, 01103\, United States
END:VEVENT
BEGIN:VEVENT
DTSTART;TZID=America/New_York:20180314T083000
DTEND;TZID=America/New_York:20180314T170000
DTSTAMP:20260421T000321
CREATED:20180220T182042Z
LAST-MODIFIED:20180220T182042Z
UID:4815-1521016200-1521046800@springfieldparkingauthority.com
SUMMARY:EDUCATIONAL MEDICAL SEMINAR
DESCRIPTION:Parking is available at the Civic Center Garage – $7 Prepay \n 
URL:https://springfieldparkingauthority.com/event/educational-medical-seminar/
LOCATION:MassMutual Center\, 1277 Main Street\, Springfield\, MA\, 01103\, United States
END:VEVENT
BEGIN:VEVENT
DTSTART;TZID=America/New_York:20180314T083000
DTEND;TZID=America/New_York:20180314T170000
DTSTAMP:20260421T000321
CREATED:20180220T182042Z
LAST-MODIFIED:20180220T182042Z
UID:11016-1521016200-1521046800@springfieldparkingauthority.com
SUMMARY:EDUCATIONAL MEDICAL SEMINAR
DESCRIPTION:Parking is available at the Civic Center Garage – $7 Prepay \n 
URL:https://springfieldparkingauthority.com/event/educational-medical-seminar-2/
LOCATION:MassMutual Center\, 1277 Main Street\, Springfield\, MA\, 01103\, United States
END:VEVENT
BEGIN:VEVENT
DTSTART;TZID=America/New_York:20180314T140000
DTEND;TZID=America/New_York:20180314T150000
DTSTAMP:20260421T000321
CREATED:20180220T182210Z
LAST-MODIFIED:20180220T182210Z
UID:11018-1521036000-1521039600@springfieldparkingauthority.com
SUMMARY:LHS CHORALE FEST
DESCRIPTION:Parking is available at the I-91 North and South Garages – On the Clock \n 
URL:https://springfieldparkingauthority.com/event/lhs-chorale-fest-3/
LOCATION:Symphony Hall\, 34 Court St.\, Springfield\, MA\, 01103\, United States
END:VEVENT
BEGIN:VEVENT
DTSTART;TZID=America/New_York:20180314T140000
DTEND;TZID=America/New_York:20180314T150000
DTSTAMP:20260421T000321
CREATED:20180220T182210Z
LAST-MODIFIED:20180220T182210Z
UID:4819-1521036000-1521039600@springfieldparkingauthority.com
SUMMARY:LHS CHORALE FEST
DESCRIPTION:Parking is available at the I-91 North and South Garages – On the Clock \n 
URL:https://springfieldparkingauthority.com/event/lhs-chorale-fest/
LOCATION:Symphony Hall\, 34 Court St.\, Springfield\, MA\, 01103\, United States
END:VEVENT
BEGIN:VEVENT
DTSTART;TZID=America/New_York:20180314T173000
DTEND;TZID=America/New_York:20180314T220000
DTSTAMP:20260421T000321
CREATED:20180220T182120Z
LAST-MODIFIED:20180220T182120Z
UID:4817-1521048600-1521064800@springfieldparkingauthority.com
SUMMARY:WESTERN & CENTRAL MASS HIGH SCHOOL HOCKEY FINALS
DESCRIPTION:Parking is available at the Civic Center Garage – $7 Prepay \n 
URL:https://springfieldparkingauthority.com/event/western-central-mass-high-school-hockey-finals-2/
LOCATION:MassMutual Center\, 1277 Main Street\, Springfield\, MA\, 01103\, United States
END:VEVENT
BEGIN:VEVENT
DTSTART;TZID=America/New_York:20180314T173000
DTEND;TZID=America/New_York:20180314T220000
DTSTAMP:20260421T000321
CREATED:20180220T182120Z
LAST-MODIFIED:20180220T182120Z
UID:11017-1521048600-1521064800@springfieldparkingauthority.com
SUMMARY:WESTERN & CENTRAL MASS HIGH SCHOOL HOCKEY FINALS
DESCRIPTION:Parking is available at the Civic Center Garage – $7 Prepay \n 
URL:https://springfieldparkingauthority.com/event/western-central-mass-high-school-hockey-finals-2-2/
LOCATION:MassMutual Center\, 1277 Main Street\, Springfield\, MA\, 01103\, United States
END:VEVENT
BEGIN:VEVENT
DTSTART;TZID=America/New_York:20180314T190000
DTEND;TZID=America/New_York:20180314T210000
DTSTAMP:20260421T000321
CREATED:20180314T153042Z
LAST-MODIFIED:20180314T153042Z
UID:4964-1521054000-1521061200@springfieldparkingauthority.com
SUMMARY:LHS CHORALE FEST
DESCRIPTION:Parking is available at the I-91 North And South Garage – $7 Prepay \n 
URL:https://springfieldparkingauthority.com/event/lhs-chorale-fest-2/
LOCATION:Symphony Hall\, 34 Court St.\, Springfield\, MA\, 01103\, United States
END:VEVENT
BEGIN:VEVENT
DTSTART;TZID=America/New_York:20180314T190000
DTEND;TZID=America/New_York:20180314T210000
DTSTAMP:20260421T000321
CREATED:20180314T153042Z
LAST-MODIFIED:20180314T153042Z
UID:11078-1521054000-1521061200@springfieldparkingauthority.com
SUMMARY:LHS CHORALE FEST
DESCRIPTION:Parking is available at the I-91 North And South Garage – $7 Prepay \n 
URL:https://springfieldparkingauthority.com/event/lhs-chorale-fest-2-2/
LOCATION:Symphony Hall\, 34 Court St.\, Springfield\, MA\, 01103\, United States
END:VEVENT
BEGIN:VEVENT
DTSTART;TZID=America/New_York:20180314T193000
DTEND;TZID=America/New_York:20180314T220000
DTSTAMP:20260421T000321
CREATED:20180302T154638Z
LAST-MODIFIED:20180302T154638Z
UID:4917-1521055800-1521064800@springfieldparkingauthority.com
SUMMARY:CHEFS- SIZZLING SHOW DOWN
DESCRIPTION:Parking is available at the Columbus Center Garage – Free with Ticket \n 
URL:https://springfieldparkingauthority.com/event/chefs-sizzling-show-down/
LOCATION:Columbus Center\, 1 Columbus Center\, Springfield\, MA\, 01103\, United States
END:VEVENT
BEGIN:VEVENT
DTSTART;TZID=America/New_York:20180314T193000
DTEND;TZID=America/New_York:20180314T220000
DTSTAMP:20260421T000321
CREATED:20180302T154638Z
LAST-MODIFIED:20180302T154638Z
UID:11063-1521055800-1521064800@springfieldparkingauthority.com
SUMMARY:CHEFS- SIZZLING SHOW DOWN
DESCRIPTION:Parking is available at the Columbus Center Garage – Free with Ticket \n 
URL:https://springfieldparkingauthority.com/event/chefs-sizzling-show-down-3/
LOCATION:Columbus Center\, 1 Columbus Center\, Springfield\, MA\, 01103\, United States
END:VEVENT
END:VCALENDAR