BEGIN:VCALENDAR
VERSION:2.0
PRODID:-//Springfield Parking Authority - ECPv6.15.20//NONSGML v1.0//EN
CALSCALE:GREGORIAN
METHOD:PUBLISH
X-ORIGINAL-URL:https://springfieldparkingauthority.com
X-WR-CALDESC:Events for Springfield Parking Authority
REFRESH-INTERVAL;VALUE=DURATION:PT1H
X-Robots-Tag:noindex
X-PUBLISHED-TTL:PT1H
BEGIN:VTIMEZONE
TZID:America/New_York
BEGIN:DAYLIGHT
TZOFFSETFROM:-0500
TZOFFSETTO:-0400
TZNAME:EDT
DTSTART:20170312T070000
END:DAYLIGHT
BEGIN:STANDARD
TZOFFSETFROM:-0400
TZOFFSETTO:-0500
TZNAME:EST
DTSTART:20171105T060000
END:STANDARD
BEGIN:DAYLIGHT
TZOFFSETFROM:-0500
TZOFFSETTO:-0400
TZNAME:EDT
DTSTART:20180311T070000
END:DAYLIGHT
BEGIN:STANDARD
TZOFFSETFROM:-0400
TZOFFSETTO:-0500
TZNAME:EST
DTSTART:20181104T060000
END:STANDARD
BEGIN:DAYLIGHT
TZOFFSETFROM:-0500
TZOFFSETTO:-0400
TZNAME:EDT
DTSTART:20190310T070000
END:DAYLIGHT
BEGIN:STANDARD
TZOFFSETFROM:-0400
TZOFFSETTO:-0500
TZNAME:EST
DTSTART:20191103T060000
END:STANDARD
END:VTIMEZONE
BEGIN:VEVENT
DTSTART;TZID=America/New_York:20180317T070000
DTEND;TZID=America/New_York:20180317T180000
DTSTAMP:20260421T000018
CREATED:20180220T182925Z
LAST-MODIFIED:20180220T182925Z
UID:11024-1521270000-1521309600@springfieldparkingauthority.com
SUMMARY:MARY KAY INC. CAREER CONFERENCE
DESCRIPTION:Parking is available at the Civic Center Garage – $7 & $12 Prepay \n 
URL:https://springfieldparkingauthority.com/event/mary-kay-inc-career-conference-2/
LOCATION:MassMutual Center\, 1277 Main Street\, Springfield\, MA\, 01103\, United States
END:VEVENT
BEGIN:VEVENT
DTSTART;TZID=America/New_York:20180317T070000
DTEND;TZID=America/New_York:20180317T180000
DTSTAMP:20260421T000018
CREATED:20180220T182925Z
LAST-MODIFIED:20180220T182925Z
UID:4831-1521270000-1521309600@springfieldparkingauthority.com
SUMMARY:MARY KAY INC. CAREER CONFERENCE
DESCRIPTION:Parking is available at the Civic Center Garage – $7 & $12 Prepay \n 
URL:https://springfieldparkingauthority.com/event/mary-kay-inc-career-conference/
LOCATION:MassMutual Center\, 1277 Main Street\, Springfield\, MA\, 01103\, United States
END:VEVENT
BEGIN:VEVENT
DTSTART;TZID=America/New_York:20180317T070000
DTEND;TZID=America/New_York:20180317T180000
DTSTAMP:20260421T000018
CREATED:20180220T182955Z
LAST-MODIFIED:20180220T182955Z
UID:11025-1521270000-1521309600@springfieldparkingauthority.com
SUMMARY:SHARODAN BEAUTY SUPPLY
DESCRIPTION:Parking is available at the Civic Center Garage – $7 & $12 Prepay \n 
URL:https://springfieldparkingauthority.com/event/sharodan-beauty-supply-2/
LOCATION:MassMutual Center\, 1277 Main Street\, Springfield\, MA\, 01103\, United States
END:VEVENT
BEGIN:VEVENT
DTSTART;TZID=America/New_York:20180317T070000
DTEND;TZID=America/New_York:20180317T180000
DTSTAMP:20260421T000018
CREATED:20180220T182955Z
LAST-MODIFIED:20180220T182955Z
UID:4833-1521270000-1521309600@springfieldparkingauthority.com
SUMMARY:SHARODAN BEAUTY SUPPLY
DESCRIPTION:Parking is available at the Civic Center Garage – $7 & $12 Prepay \n 
URL:https://springfieldparkingauthority.com/event/sharodan-beauty-supply/
LOCATION:MassMutual Center\, 1277 Main Street\, Springfield\, MA\, 01103\, United States
END:VEVENT
BEGIN:VEVENT
DTSTART;TZID=America/New_York:20180317T083000
DTEND;TZID=America/New_York:20180317T200000
DTSTAMP:20260421T000018
CREATED:20180220T183027Z
LAST-MODIFIED:20180220T183027Z
UID:11026-1521275400-1521316800@springfieldparkingauthority.com
SUMMARY:SPIRIT OF DANCE AWARDS
DESCRIPTION:Parking is available at the Civic Center Garage – $7 & $12 Prepay \n 
URL:https://springfieldparkingauthority.com/event/spirit-of-dance-awards-4-2/
LOCATION:MassMutual Center\, 1277 Main Street\, Springfield\, MA\, 01103\, United States
END:VEVENT
BEGIN:VEVENT
DTSTART;TZID=America/New_York:20180317T083000
DTEND;TZID=America/New_York:20180317T200000
DTSTAMP:20260421T000018
CREATED:20180220T183027Z
LAST-MODIFIED:20180220T183027Z
UID:4835-1521275400-1521316800@springfieldparkingauthority.com
SUMMARY:SPIRIT OF DANCE AWARDS
DESCRIPTION:Parking is available at the Civic Center Garage – $7 & $12 Prepay \n 
URL:https://springfieldparkingauthority.com/event/spirit-of-dance-awards-4/
LOCATION:MassMutual Center\, 1277 Main Street\, Springfield\, MA\, 01103\, United States
END:VEVENT
BEGIN:VEVENT
DTSTART;TZID=America/New_York:20180317T120000
DTEND;TZID=America/New_York:20180317T223000
DTSTAMP:20260421T000018
CREATED:20180312T164946Z
LAST-MODIFIED:20180312T164946Z
UID:4939-1521288000-1521325800@springfieldparkingauthority.com
SUMMARY:MIAA 2018 BANQUET
DESCRIPTION:Parking is available at the I-91 North and South Garages – On the Clock \n 
URL:https://springfieldparkingauthority.com/event/miaa-2018-banquet/
LOCATION:Sheraton Hotel\, One Monarch Place\, Springfield\, MA\, 01103\, United States
END:VEVENT
BEGIN:VEVENT
DTSTART;TZID=America/New_York:20180317T120000
DTEND;TZID=America/New_York:20180317T223000
DTSTAMP:20260421T000018
CREATED:20180312T164946Z
LAST-MODIFIED:20180312T164946Z
UID:11068-1521288000-1521325800@springfieldparkingauthority.com
SUMMARY:MIAA 2018 BANQUET
DESCRIPTION:Parking is available at the I-91 North and South Garages – On the Clock \n 
URL:https://springfieldparkingauthority.com/event/miaa-2018-banquet-2/
LOCATION:Sheraton Hotel\, One Monarch Place\, Springfield\, MA\, 01103\, United States
END:VEVENT
BEGIN:VEVENT
DTSTART;TZID=America/New_York:20180317T140000
DTEND;TZID=America/New_York:20180317T210000
DTSTAMP:20260421T000018
CREATED:20180220T183058Z
LAST-MODIFIED:20180220T183058Z
UID:11027-1521295200-1521320400@springfieldparkingauthority.com
SUMMARY:MIAA BASKETBALL TOURNAMENT
DESCRIPTION:Parking is available at the Civic Center Garage – $7 & $12 Prepay \n 
URL:https://springfieldparkingauthority.com/event/miaa-basketball-tournament-4-2/
LOCATION:MassMutual Center\, 1277 Main Street\, Springfield\, MA\, 01103\, United States
END:VEVENT
BEGIN:VEVENT
DTSTART;TZID=America/New_York:20180317T140000
DTEND;TZID=America/New_York:20180317T210000
DTSTAMP:20260421T000018
CREATED:20180220T183058Z
LAST-MODIFIED:20180220T183058Z
UID:4837-1521295200-1521320400@springfieldparkingauthority.com
SUMMARY:MIAA BASKETBALL TOURNAMENT
DESCRIPTION:Parking is available at the Civic Center Garage – $7 & $12 Prepay \n 
URL:https://springfieldparkingauthority.com/event/miaa-basketball-tournament-4/
LOCATION:MassMutual Center\, 1277 Main Street\, Springfield\, MA\, 01103\, United States
END:VEVENT
END:VCALENDAR