BEGIN:VCALENDAR
VERSION:2.0
PRODID:-//Springfield Parking Authority - ECPv6.15.20//NONSGML v1.0//EN
CALSCALE:GREGORIAN
METHOD:PUBLISH
X-WR-CALNAME:Springfield Parking Authority
X-ORIGINAL-URL:https://springfieldparkingauthority.com
X-WR-CALDESC:Events for Springfield Parking Authority
REFRESH-INTERVAL;VALUE=DURATION:PT1H
X-Robots-Tag:noindex
X-PUBLISHED-TTL:PT1H
BEGIN:VTIMEZONE
TZID:America/New_York
BEGIN:DAYLIGHT
TZOFFSETFROM:-0500
TZOFFSETTO:-0400
TZNAME:EDT
DTSTART:20170312T070000
END:DAYLIGHT
BEGIN:STANDARD
TZOFFSETFROM:-0400
TZOFFSETTO:-0500
TZNAME:EST
DTSTART:20171105T060000
END:STANDARD
BEGIN:DAYLIGHT
TZOFFSETFROM:-0500
TZOFFSETTO:-0400
TZNAME:EDT
DTSTART:20180311T070000
END:DAYLIGHT
BEGIN:STANDARD
TZOFFSETFROM:-0400
TZOFFSETTO:-0500
TZNAME:EST
DTSTART:20181104T060000
END:STANDARD
BEGIN:DAYLIGHT
TZOFFSETFROM:-0500
TZOFFSETTO:-0400
TZNAME:EDT
DTSTART:20190310T070000
END:DAYLIGHT
BEGIN:STANDARD
TZOFFSETFROM:-0400
TZOFFSETTO:-0500
TZNAME:EST
DTSTART:20191103T060000
END:STANDARD
END:VTIMEZONE
BEGIN:VEVENT
DTSTART;TZID=America/New_York:20180321T050000
DTEND;TZID=America/New_York:20180321T235900
DTSTAMP:20260421T071410
CREATED:20180316T140008Z
LAST-MODIFIED:20180316T140008Z
UID:4966-1521608400-1521676740@springfieldparkingauthority.com
SUMMARY:HOMETOWN HERO BREAKFAST
DESCRIPTION:Parking is available at the I-91 North and South Garages – On the Clock \n 
URL:https://springfieldparkingauthority.com/event/hometown-hero-breakfast/
LOCATION:Sheraton Hotel\, One Monarch Place\, Springfield\, MA\, 01103\, United States
END:VEVENT
BEGIN:VEVENT
DTSTART;TZID=America/New_York:20180321T050000
DTEND;TZID=America/New_York:20180321T235900
DTSTAMP:20260421T071410
CREATED:20180316T140008Z
LAST-MODIFIED:20180316T140008Z
UID:11079-1521608400-1521676740@springfieldparkingauthority.com
SUMMARY:HOMETOWN HERO BREAKFAST
DESCRIPTION:Parking is available at the I-91 North and South Garages – On the Clock \n 
URL:https://springfieldparkingauthority.com/event/hometown-hero-breakfast-2/
LOCATION:Sheraton Hotel\, One Monarch Place\, Springfield\, MA\, 01103\, United States
END:VEVENT
BEGIN:VEVENT
DTSTART;TZID=America/New_York:20180321T180000
DTEND;TZID=America/New_York:20180321T230000
DTSTAMP:20260421T071410
CREATED:20180220T183212Z
LAST-MODIFIED:20180220T183212Z
UID:11029-1521655200-1521673200@springfieldparkingauthority.com
SUMMARY:7TH CELEBRATE SPRINGFIELD ANNUAL DINNER
DESCRIPTION:Parking is available at the Civic Center Garage – $7 & $12 Prepay \n 
URL:https://springfieldparkingauthority.com/event/7th-celebrate-springfield-annual-dinner-2/
LOCATION:MassMutual Center\, 1277 Main Street\, Springfield\, MA\, 01103\, United States
END:VEVENT
BEGIN:VEVENT
DTSTART;TZID=America/New_York:20180321T180000
DTEND;TZID=America/New_York:20180321T230000
DTSTAMP:20260421T071410
CREATED:20180220T183212Z
LAST-MODIFIED:20180220T183212Z
UID:4841-1521655200-1521673200@springfieldparkingauthority.com
SUMMARY:7TH CELEBRATE SPRINGFIELD ANNUAL DINNER
DESCRIPTION:Parking is available at the Civic Center Garage – $7 & $12 Prepay \n 
URL:https://springfieldparkingauthority.com/event/7th-celebrate-springfield-annual-dinner/
LOCATION:MassMutual Center\, 1277 Main Street\, Springfield\, MA\, 01103\, United States
END:VEVENT
END:VCALENDAR