BEGIN:VCALENDAR
VERSION:2.0
PRODID:-//Springfield Parking Authority - ECPv6.15.20//NONSGML v1.0//EN
CALSCALE:GREGORIAN
METHOD:PUBLISH
X-ORIGINAL-URL:https://springfieldparkingauthority.com
X-WR-CALDESC:Events for Springfield Parking Authority
REFRESH-INTERVAL;VALUE=DURATION:PT1H
X-Robots-Tag:noindex
X-PUBLISHED-TTL:PT1H
BEGIN:VTIMEZONE
TZID:America/New_York
BEGIN:DAYLIGHT
TZOFFSETFROM:-0500
TZOFFSETTO:-0400
TZNAME:EDT
DTSTART:20170312T070000
END:DAYLIGHT
BEGIN:STANDARD
TZOFFSETFROM:-0400
TZOFFSETTO:-0500
TZNAME:EST
DTSTART:20171105T060000
END:STANDARD
BEGIN:DAYLIGHT
TZOFFSETFROM:-0500
TZOFFSETTO:-0400
TZNAME:EDT
DTSTART:20180311T070000
END:DAYLIGHT
BEGIN:STANDARD
TZOFFSETFROM:-0400
TZOFFSETTO:-0500
TZNAME:EST
DTSTART:20181104T060000
END:STANDARD
BEGIN:DAYLIGHT
TZOFFSETFROM:-0500
TZOFFSETTO:-0400
TZNAME:EDT
DTSTART:20190310T070000
END:DAYLIGHT
BEGIN:STANDARD
TZOFFSETFROM:-0400
TZOFFSETTO:-0500
TZNAME:EST
DTSTART:20191103T060000
END:STANDARD
END:VTIMEZONE
BEGIN:VEVENT
DTSTART;TZID=America/New_York:20180322T060000
DTEND;TZID=America/New_York:20180322T090000
DTSTAMP:20260420T184710
CREATED:20180320T143120Z
LAST-MODIFIED:20180320T143120Z
UID:4974-1521698400-1521709200@springfieldparkingauthority.com
SUMMARY:HOMETOWN HERO BREAKFAST
DESCRIPTION:Parking is available at the I-91 North And South Garage – $7 Prepay \n 
URL:https://springfieldparkingauthority.com/event/hometown-hero-breakfast-3/
LOCATION:Sheraton Hotel\, One Monarch Place\, Springfield\, MA\, 01103\, United States
END:VEVENT
BEGIN:VEVENT
DTSTART;TZID=America/New_York:20180322T060000
DTEND;TZID=America/New_York:20180322T090000
DTSTAMP:20260420T184710
CREATED:20180320T143120Z
LAST-MODIFIED:20180320T143120Z
UID:11082-1521698400-1521709200@springfieldparkingauthority.com
SUMMARY:HOMETOWN HERO BREAKFAST
DESCRIPTION:Parking is available at the I-91 North And South Garage – $7 Prepay \n 
URL:https://springfieldparkingauthority.com/event/hometown-hero-breakfast-3-2/
LOCATION:Sheraton Hotel\, One Monarch Place\, Springfield\, MA\, 01103\, United States
END:VEVENT
BEGIN:VEVENT
DTSTART;TZID=America/New_York:20180322T190000
DTEND;TZID=America/New_York:20180322T210000
DTSTAMP:20260420T184710
CREATED:20180220T183331Z
LAST-MODIFIED:20180220T183331Z
UID:11031-1521745200-1521752400@springfieldparkingauthority.com
SUMMARY:DISNEY ON ICE- DREAM BIG
DESCRIPTION:Parking is available at the Civic Center Garage – $7 & $12 Prepay \n 
URL:https://springfieldparkingauthority.com/event/disney-on-ice-dream-big-8/
LOCATION:MassMutual Center\, 1277 Main Street\, Springfield\, MA\, 01103\, United States
END:VEVENT
BEGIN:VEVENT
DTSTART;TZID=America/New_York:20180322T190000
DTEND;TZID=America/New_York:20180322T210000
DTSTAMP:20260420T184710
CREATED:20180220T183331Z
LAST-MODIFIED:20180220T183331Z
UID:4845-1521745200-1521752400@springfieldparkingauthority.com
SUMMARY:DISNEY ON ICE- DREAM BIG
DESCRIPTION:Parking is available at the Civic Center Garage – $7 & $12 Prepay \n 
URL:https://springfieldparkingauthority.com/event/disney-on-ice-dream-big/
LOCATION:MassMutual Center\, 1277 Main Street\, Springfield\, MA\, 01103\, United States
END:VEVENT
BEGIN:VEVENT
DTSTART;TZID=America/New_York:20180322T193000
DTEND;TZID=America/New_York:20180322T220000
DTSTAMP:20260420T184710
CREATED:20180220T183253Z
LAST-MODIFIED:20180220T183253Z
UID:11030-1521747000-1521756000@springfieldparkingauthority.com
SUMMARY:POST SECRET
DESCRIPTION:Parking is available at the Columbus Center Garage – Free with Ticket \n 
URL:https://springfieldparkingauthority.com/event/post-secret-3/
LOCATION:Columbus Center\, 1 Columbus Center\, Springfield\, MA\, 01103\, United States
END:VEVENT
BEGIN:VEVENT
DTSTART;TZID=America/New_York:20180322T193000
DTEND;TZID=America/New_York:20180322T220000
DTSTAMP:20260420T184710
CREATED:20180220T183253Z
LAST-MODIFIED:20180220T183253Z
UID:4843-1521747000-1521756000@springfieldparkingauthority.com
SUMMARY:POST SECRET
DESCRIPTION:Parking is available at the Columbus Center Garage – Free with Ticket \n 
URL:https://springfieldparkingauthority.com/event/post-secret/
LOCATION:Columbus Center\, 1 Columbus Center\, Springfield\, MA\, 01103\, United States
END:VEVENT
END:VCALENDAR