BEGIN:VCALENDAR
VERSION:2.0
PRODID:-//Springfield Parking Authority - ECPv6.15.20//NONSGML v1.0//EN
CALSCALE:GREGORIAN
METHOD:PUBLISH
X-ORIGINAL-URL:https://springfieldparkingauthority.com
X-WR-CALDESC:Events for Springfield Parking Authority
REFRESH-INTERVAL;VALUE=DURATION:PT1H
X-Robots-Tag:noindex
X-PUBLISHED-TTL:PT1H
BEGIN:VTIMEZONE
TZID:America/New_York
BEGIN:DAYLIGHT
TZOFFSETFROM:-0500
TZOFFSETTO:-0400
TZNAME:EDT
DTSTART:20170312T070000
END:DAYLIGHT
BEGIN:STANDARD
TZOFFSETFROM:-0400
TZOFFSETTO:-0500
TZNAME:EST
DTSTART:20171105T060000
END:STANDARD
BEGIN:DAYLIGHT
TZOFFSETFROM:-0500
TZOFFSETTO:-0400
TZNAME:EDT
DTSTART:20180311T070000
END:DAYLIGHT
BEGIN:STANDARD
TZOFFSETFROM:-0400
TZOFFSETTO:-0500
TZNAME:EST
DTSTART:20181104T060000
END:STANDARD
BEGIN:DAYLIGHT
TZOFFSETFROM:-0500
TZOFFSETTO:-0400
TZNAME:EDT
DTSTART:20190310T070000
END:DAYLIGHT
BEGIN:STANDARD
TZOFFSETFROM:-0400
TZOFFSETTO:-0500
TZNAME:EST
DTSTART:20191103T060000
END:STANDARD
END:VTIMEZONE
BEGIN:VEVENT
DTSTART;TZID=America/New_York:20180323T080000
DTEND;TZID=America/New_York:20180323T230000
DTSTAMP:20260420T112859
CREATED:20180316T140159Z
LAST-MODIFIED:20180316T140159Z
UID:11080-1521792000-1521846000@springfieldparkingauthority.com
SUMMARY:SHEER ELITE INTERNATIONAL
DESCRIPTION:Parking is available at the I-91 North and South Garages – On the Clock \n 
URL:https://springfieldparkingauthority.com/event/sheer-elite-international-3/
LOCATION:Sheraton Hotel\, One Monarch Place\, Springfield\, MA\, 01103\, United States
END:VEVENT
BEGIN:VEVENT
DTSTART;TZID=America/New_York:20180323T080000
DTEND;TZID=America/New_York:20180323T230000
DTSTAMP:20260420T112859
CREATED:20180316T140159Z
LAST-MODIFIED:20180316T140159Z
UID:4970-1521792000-1521846000@springfieldparkingauthority.com
SUMMARY:SHEER ELITE INTERNATIONAL
DESCRIPTION:Parking is available at the I-91 North and South Garages – On the Clock \n 
URL:https://springfieldparkingauthority.com/event/sheer-elite-international/
LOCATION:Sheraton Hotel\, One Monarch Place\, Springfield\, MA\, 01103\, United States
END:VEVENT
BEGIN:VEVENT
DTSTART;TZID=America/New_York:20180323T170000
DTEND;TZID=America/New_York:20180323T193000
DTSTAMP:20260420T112859
CREATED:20180302T155305Z
LAST-MODIFIED:20180302T155305Z
UID:11067-1521824400-1521833400@springfieldparkingauthority.com
SUMMARY:Springfield Symphony Orchestra BACKSTAGE TOUR
DESCRIPTION:Parking is available at the Columbus Center Garage – $7 Prepay \n 
URL:https://springfieldparkingauthority.com/event/springfield-symphony-orchestra-backstage-tour-2-2/
LOCATION:Symphony Hall\, 34 Court St.\, Springfield\, MA\, 01103\, United States
END:VEVENT
BEGIN:VEVENT
DTSTART;TZID=America/New_York:20180323T170000
DTEND;TZID=America/New_York:20180323T193000
DTSTAMP:20260420T112859
CREATED:20180302T155305Z
LAST-MODIFIED:20180302T155305Z
UID:4925-1521824400-1521833400@springfieldparkingauthority.com
SUMMARY:Springfield Symphony Orchestra BACKSTAGE TOUR
DESCRIPTION:Parking is available at the Columbus Center Garage – $7 Prepay \n 
URL:https://springfieldparkingauthority.com/event/springfield-symphony-orchestra-backstage-tour-2/
LOCATION:Symphony Hall\, 34 Court St.\, Springfield\, MA\, 01103\, United States
END:VEVENT
BEGIN:VEVENT
DTSTART;TZID=America/New_York:20180323T170000
DTEND;TZID=America/New_York:20180323T220000
DTSTAMP:20260420T112859
CREATED:20180314T151157Z
LAST-MODIFIED:20180314T151157Z
UID:4958-1521824400-1521842400@springfieldparkingauthority.com
SUMMARY:STARSTRUCK DANCE COMPETITION
DESCRIPTION:Parking is available at the Civic Center Garage – $7 & $12 Prepay \n 
URL:https://springfieldparkingauthority.com/event/starstruck-dance-competition-3/
LOCATION:MassMutual Center\, 1277 Main Street\, Springfield\, MA\, 01103\, United States
END:VEVENT
BEGIN:VEVENT
DTSTART;TZID=America/New_York:20180323T170000
DTEND;TZID=America/New_York:20180323T220000
DTSTAMP:20260420T112859
CREATED:20180314T151157Z
LAST-MODIFIED:20180314T151157Z
UID:11076-1521824400-1521842400@springfieldparkingauthority.com
SUMMARY:STARSTRUCK DANCE COMPETITION
DESCRIPTION:Parking is available at the Civic Center Garage – $7 & $12 Prepay \n 
URL:https://springfieldparkingauthority.com/event/starstruck-dance-competition-3-2/
LOCATION:MassMutual Center\, 1277 Main Street\, Springfield\, MA\, 01103\, United States
END:VEVENT
BEGIN:VEVENT
DTSTART;TZID=America/New_York:20180323T190000
DTEND;TZID=America/New_York:20180323T210000
DTSTAMP:20260420T112859
CREATED:20180220T183412Z
LAST-MODIFIED:20180220T183412Z
UID:11032-1521831600-1521838800@springfieldparkingauthority.com
SUMMARY:DISNEY ON ICE- DREAM BIG
DESCRIPTION:Parking is available at the Civic Center Garage – $7 & $12 Prepay \n 
URL:https://springfieldparkingauthority.com/event/disney-on-ice-dream-big-2-2/
LOCATION:MassMutual Center\, 1277 Main Street\, Springfield\, MA\, 01103\, United States
END:VEVENT
BEGIN:VEVENT
DTSTART;TZID=America/New_York:20180323T190000
DTEND;TZID=America/New_York:20180323T210000
DTSTAMP:20260420T112859
CREATED:20180220T183412Z
LAST-MODIFIED:20180220T183412Z
UID:4847-1521831600-1521838800@springfieldparkingauthority.com
SUMMARY:DISNEY ON ICE- DREAM BIG
DESCRIPTION:Parking is available at the Civic Center Garage – $7 & $12 Prepay \n 
URL:https://springfieldparkingauthority.com/event/disney-on-ice-dream-big-2/
LOCATION:MassMutual Center\, 1277 Main Street\, Springfield\, MA\, 01103\, United States
END:VEVENT
BEGIN:VEVENT
DTSTART;TZID=America/New_York:20180323T193000
DTEND;TZID=America/New_York:20180323T220000
DTSTAMP:20260420T112859
CREATED:20180220T183451Z
LAST-MODIFIED:20180220T183451Z
UID:11033-1521833400-1521842400@springfieldparkingauthority.com
SUMMARY:POST SECRET
DESCRIPTION:Parking is available at the Columbus Center Garage – Free with Ticket \n 
URL:https://springfieldparkingauthority.com/event/post-secret-2-2/
LOCATION:Columbus Center\, 1 Columbus Center\, Springfield\, MA\, 01103\, United States
END:VEVENT
BEGIN:VEVENT
DTSTART;TZID=America/New_York:20180323T193000
DTEND;TZID=America/New_York:20180323T220000
DTSTAMP:20260420T112859
CREATED:20180220T183451Z
LAST-MODIFIED:20180220T183451Z
UID:4849-1521833400-1521842400@springfieldparkingauthority.com
SUMMARY:POST SECRET
DESCRIPTION:Parking is available at the Columbus Center Garage – Free with Ticket \n 
URL:https://springfieldparkingauthority.com/event/post-secret-2/
LOCATION:Columbus Center\, 1 Columbus Center\, Springfield\, MA\, 01103\, United States
END:VEVENT
END:VCALENDAR