BEGIN:VCALENDAR
VERSION:2.0
PRODID:-//Springfield Parking Authority - ECPv6.15.20//NONSGML v1.0//EN
CALSCALE:GREGORIAN
METHOD:PUBLISH
X-WR-CALNAME:Springfield Parking Authority
X-ORIGINAL-URL:https://springfieldparkingauthority.com
X-WR-CALDESC:Events for Springfield Parking Authority
REFRESH-INTERVAL;VALUE=DURATION:PT1H
X-Robots-Tag:noindex
X-PUBLISHED-TTL:PT1H
BEGIN:VTIMEZONE
TZID:America/New_York
BEGIN:DAYLIGHT
TZOFFSETFROM:-0500
TZOFFSETTO:-0400
TZNAME:EDT
DTSTART:20170312T070000
END:DAYLIGHT
BEGIN:STANDARD
TZOFFSETFROM:-0400
TZOFFSETTO:-0500
TZNAME:EST
DTSTART:20171105T060000
END:STANDARD
BEGIN:DAYLIGHT
TZOFFSETFROM:-0500
TZOFFSETTO:-0400
TZNAME:EDT
DTSTART:20180311T070000
END:DAYLIGHT
BEGIN:STANDARD
TZOFFSETFROM:-0400
TZOFFSETTO:-0500
TZNAME:EST
DTSTART:20181104T060000
END:STANDARD
BEGIN:DAYLIGHT
TZOFFSETFROM:-0500
TZOFFSETTO:-0400
TZNAME:EDT
DTSTART:20190310T070000
END:DAYLIGHT
BEGIN:STANDARD
TZOFFSETFROM:-0400
TZOFFSETTO:-0500
TZNAME:EST
DTSTART:20191103T060000
END:STANDARD
END:VTIMEZONE
BEGIN:VEVENT
DTSTART;TZID=America/New_York:20180330T070000
DTEND;TZID=America/New_York:20180330T120000
DTSTAMP:20260419T122347
CREATED:20180328T171940Z
LAST-MODIFIED:20180328T171940Z
UID:11133-1522393200-1522411200@springfieldparkingauthority.com
SUMMARY:CHURCH OF PENTENCOST EASTER CONVENTION 2018
DESCRIPTION:Parking is available at the I-91 North and South Garages – On the Clock \n 
URL:https://springfieldparkingauthority.com/event/church-of-pentencost-easter-convention-2018-3/
LOCATION:Sheraton Hotel\, One Monarch Place\, Springfield\, MA\, 01103\, United States
END:VEVENT
BEGIN:VEVENT
DTSTART;TZID=America/New_York:20180330T070000
DTEND;TZID=America/New_York:20180330T120000
DTSTAMP:20260419T122347
CREATED:20180328T171940Z
LAST-MODIFIED:20180328T171940Z
UID:5089-1522393200-1522411200@springfieldparkingauthority.com
SUMMARY:CHURCH OF PENTENCOST EASTER CONVENTION 2018
DESCRIPTION:Parking is available at the I-91 North and South Garages – On the Clock \n 
URL:https://springfieldparkingauthority.com/event/church-of-pentencost-easter-convention-2018/
LOCATION:Sheraton Hotel\, One Monarch Place\, Springfield\, MA\, 01103\, United States
END:VEVENT
BEGIN:VEVENT
DTSTART;TZID=America/New_York:20180330T170000
DTEND;TZID=America/New_York:20180330T180000
DTSTAMP:20260419T122347
CREATED:20180220T184438Z
LAST-MODIFIED:20180220T184438Z
UID:11043-1522429200-1522432800@springfieldparkingauthority.com
SUMMARY:THUNDERBIRDS PRELIMS GAME
DESCRIPTION:Parking is available at the Civic Center Garage – Free with Ticket \n 
URL:https://springfieldparkingauthority.com/event/thunderbirds-prelims-game-9-2/
LOCATION:MA
END:VEVENT
BEGIN:VEVENT
DTSTART;TZID=America/New_York:20180330T170000
DTEND;TZID=America/New_York:20180330T180000
DTSTAMP:20260419T122347
CREATED:20180220T184438Z
LAST-MODIFIED:20180220T184438Z
UID:4871-1522429200-1522432800@springfieldparkingauthority.com
SUMMARY:THUNDERBIRDS PRELIMS GAME
DESCRIPTION:Parking is available at the Civic Center Garage – Free with Ticket \n 
URL:https://springfieldparkingauthority.com/event/thunderbirds-prelims-game-9/
LOCATION:MA
END:VEVENT
BEGIN:VEVENT
DTSTART;TZID=America/New_York:20180330T180000
DTEND;TZID=America/New_York:20180330T220000
DTSTAMP:20260419T122347
CREATED:20180220T184520Z
LAST-MODIFIED:20180220T184520Z
UID:11044-1522432800-1522447200@springfieldparkingauthority.com
SUMMARY:EASTER CONVENTION
DESCRIPTION:Parking is available at the Civic Center Garage – $7 & $12 Prepay \n 
URL:https://springfieldparkingauthority.com/event/easter-convention-4-2/
LOCATION:MassMutual Center\, 1277 Main Street\, Springfield\, MA\, 01103\, United States
END:VEVENT
BEGIN:VEVENT
DTSTART;TZID=America/New_York:20180330T180000
DTEND;TZID=America/New_York:20180330T220000
DTSTAMP:20260419T122347
CREATED:20180220T184520Z
LAST-MODIFIED:20180220T184520Z
UID:4873-1522432800-1522447200@springfieldparkingauthority.com
SUMMARY:EASTER CONVENTION
DESCRIPTION:Parking is available at the Civic Center Garage – $7 & $12 Prepay \n 
URL:https://springfieldparkingauthority.com/event/easter-convention-4/
LOCATION:MassMutual Center\, 1277 Main Street\, Springfield\, MA\, 01103\, United States
END:VEVENT
BEGIN:VEVENT
DTSTART;TZID=America/New_York:20180330T190000
DTEND;TZID=America/New_York:20180330T210000
DTSTAMP:20260419T122347
CREATED:20180220T191227Z
LAST-MODIFIED:20180220T191227Z
UID:4882-1522436400-1522443600@springfieldparkingauthority.com
SUMMARY:THUNDERBIRDS VS BRIDGEPORT
DESCRIPTION:Parking is available at the Civic Center Garage – Free with Ticket \n 
URL:https://springfieldparkingauthority.com/event/thunderbirds-vs-bridgeport-11/
LOCATION:MassMutual Center\, 1277 Main Street\, Springfield\, MA\, 01103\, United States
END:VEVENT
BEGIN:VEVENT
DTSTART;TZID=America/New_York:20180330T190000
DTEND;TZID=America/New_York:20180330T210000
DTSTAMP:20260419T122347
CREATED:20180220T191227Z
LAST-MODIFIED:20180220T191227Z
UID:11048-1522436400-1522443600@springfieldparkingauthority.com
SUMMARY:THUNDERBIRDS VS BRIDGEPORT
DESCRIPTION:Parking is available at the Civic Center Garage – Free with Ticket \n 
URL:https://springfieldparkingauthority.com/event/thunderbirds-vs-bridgeport-11-2/
LOCATION:MassMutual Center\, 1277 Main Street\, Springfield\, MA\, 01103\, United States
END:VEVENT
END:VCALENDAR