BEGIN:VCALENDAR
VERSION:2.0
PRODID:-//Springfield Parking Authority - ECPv6.15.20//NONSGML v1.0//EN
CALSCALE:GREGORIAN
METHOD:PUBLISH
X-ORIGINAL-URL:https://springfieldparkingauthority.com
X-WR-CALDESC:Events for Springfield Parking Authority
REFRESH-INTERVAL;VALUE=DURATION:PT1H
X-Robots-Tag:noindex
X-PUBLISHED-TTL:PT1H
BEGIN:VTIMEZONE
TZID:America/New_York
BEGIN:DAYLIGHT
TZOFFSETFROM:-0500
TZOFFSETTO:-0400
TZNAME:EDT
DTSTART:20170312T070000
END:DAYLIGHT
BEGIN:STANDARD
TZOFFSETFROM:-0400
TZOFFSETTO:-0500
TZNAME:EST
DTSTART:20171105T060000
END:STANDARD
BEGIN:DAYLIGHT
TZOFFSETFROM:-0500
TZOFFSETTO:-0400
TZNAME:EDT
DTSTART:20180311T070000
END:DAYLIGHT
BEGIN:STANDARD
TZOFFSETFROM:-0400
TZOFFSETTO:-0500
TZNAME:EST
DTSTART:20181104T060000
END:STANDARD
BEGIN:DAYLIGHT
TZOFFSETFROM:-0500
TZOFFSETTO:-0400
TZNAME:EDT
DTSTART:20190310T070000
END:DAYLIGHT
BEGIN:STANDARD
TZOFFSETFROM:-0400
TZOFFSETTO:-0500
TZNAME:EST
DTSTART:20191103T060000
END:STANDARD
END:VTIMEZONE
BEGIN:VEVENT
DTSTART;TZID=America/New_York:20180403T070000
DTEND;TZID=America/New_York:20180403T180000
DTSTAMP:20260419T234904
CREATED:20180326T172118Z
LAST-MODIFIED:20180326T172118Z
UID:11093-1522738800-1522778400@springfieldparkingauthority.com
SUMMARY:REALTOR ASSOCIATION OF PIONEER VALLEY EDUCATION EVENT
DESCRIPTION:Parking is available at the Civic Center Garage – $7 Postpay \n 
URL:https://springfieldparkingauthority.com/event/realtor-association-of-pioneer-valley-education-event-2-2/
LOCATION:MassMutual Center\, 1277 Main Street\, Springfield\, MA\, 01103\, United States
END:VEVENT
BEGIN:VEVENT
DTSTART;TZID=America/New_York:20180403T070000
DTEND;TZID=America/New_York:20180403T180000
DTSTAMP:20260419T234904
CREATED:20180326T172118Z
LAST-MODIFIED:20180326T172118Z
UID:4998-1522738800-1522778400@springfieldparkingauthority.com
SUMMARY:REALTOR ASSOCIATION OF PIONEER VALLEY EDUCATION EVENT
DESCRIPTION:Parking is available at the Civic Center Garage – $7 Postpay \n 
URL:https://springfieldparkingauthority.com/event/realtor-association-of-pioneer-valley-education-event-2/
LOCATION:MassMutual Center\, 1277 Main Street\, Springfield\, MA\, 01103\, United States
END:VEVENT
BEGIN:VEVENT
DTSTART;TZID=America/New_York:20180403T080000
DTEND;TZID=America/New_York:20180403T160000
DTSTAMP:20260419T234904
CREATED:20180328T171025Z
LAST-MODIFIED:20180328T171025Z
UID:11122-1522742400-1522771200@springfieldparkingauthority.com
SUMMARY:TECCA MEETING APR 2-3 2018
DESCRIPTION:Parking is available at the I-91 North and South Garages – On the Clock \n 
URL:https://springfieldparkingauthority.com/event/tecca-meeting-apr-2-3-2018-2-2/
LOCATION:Sheraton Hotel\, One Monarch Place\, Springfield\, MA\, 01103\, United States
END:VEVENT
BEGIN:VEVENT
DTSTART;TZID=America/New_York:20180403T080000
DTEND;TZID=America/New_York:20180403T160000
DTSTAMP:20260419T234904
CREATED:20180328T171025Z
LAST-MODIFIED:20180328T171025Z
UID:5067-1522742400-1522771200@springfieldparkingauthority.com
SUMMARY:TECCA MEETING APR 2-3 2018
DESCRIPTION:Parking is available at the I-91 North and South Garages – On the Clock \n 
URL:https://springfieldparkingauthority.com/event/tecca-meeting-apr-2-3-2018-2/
LOCATION:Sheraton Hotel\, One Monarch Place\, Springfield\, MA\, 01103\, United States
END:VEVENT
BEGIN:VEVENT
DTSTART;TZID=America/New_York:20180403T193000
DTEND;TZID=America/New_York:20180403T220000
DTSTAMP:20260419T234904
CREATED:20180328T170941Z
LAST-MODIFIED:20180328T170941Z
UID:11121-1522783800-1522792800@springfieldparkingauthority.com
SUMMARY:ONE NIGHT OF QUEEN
DESCRIPTION:Parking is available at the I-91 North and South Garages – Free with Ticket
URL:https://springfieldparkingauthority.com/event/one-night-of-queen-2-2/
LOCATION:Symphony Hall\, 34 Court St.\, Springfield\, MA\, 01103\, United States
END:VEVENT
BEGIN:VEVENT
DTSTART;TZID=America/New_York:20180403T193000
DTEND;TZID=America/New_York:20180403T220000
DTSTAMP:20260419T234904
CREATED:20180328T170941Z
LAST-MODIFIED:20180328T170941Z
UID:5065-1522783800-1522792800@springfieldparkingauthority.com
SUMMARY:ONE NIGHT OF QUEEN
DESCRIPTION:Parking is available at the I-91 North and South Garages – Free with Ticket
URL:https://springfieldparkingauthority.com/event/one-night-of-queen-2/
LOCATION:Symphony Hall\, 34 Court St.\, Springfield\, MA\, 01103\, United States
END:VEVENT
END:VCALENDAR