BEGIN:VCALENDAR
VERSION:2.0
PRODID:-//Springfield Parking Authority - ECPv6.15.20//NONSGML v1.0//EN
CALSCALE:GREGORIAN
METHOD:PUBLISH
X-ORIGINAL-URL:https://springfieldparkingauthority.com
X-WR-CALDESC:Events for Springfield Parking Authority
REFRESH-INTERVAL;VALUE=DURATION:PT1H
X-Robots-Tag:noindex
X-PUBLISHED-TTL:PT1H
BEGIN:VTIMEZONE
TZID:America/New_York
BEGIN:DAYLIGHT
TZOFFSETFROM:-0500
TZOFFSETTO:-0400
TZNAME:EDT
DTSTART:20170312T070000
END:DAYLIGHT
BEGIN:STANDARD
TZOFFSETFROM:-0400
TZOFFSETTO:-0500
TZNAME:EST
DTSTART:20171105T060000
END:STANDARD
BEGIN:DAYLIGHT
TZOFFSETFROM:-0500
TZOFFSETTO:-0400
TZNAME:EDT
DTSTART:20180311T070000
END:DAYLIGHT
BEGIN:STANDARD
TZOFFSETFROM:-0400
TZOFFSETTO:-0500
TZNAME:EST
DTSTART:20181104T060000
END:STANDARD
BEGIN:DAYLIGHT
TZOFFSETFROM:-0500
TZOFFSETTO:-0400
TZNAME:EDT
DTSTART:20190310T070000
END:DAYLIGHT
BEGIN:STANDARD
TZOFFSETFROM:-0400
TZOFFSETTO:-0500
TZNAME:EST
DTSTART:20191103T060000
END:STANDARD
END:VTIMEZONE
BEGIN:VEVENT
DTSTART;TZID=America/New_York:20180407T080000
DTEND;TZID=America/New_York:20180407T120000
DTSTAMP:20260419T234807
CREATED:20180328T171537Z
LAST-MODIFIED:20180328T171537Z
UID:11129-1523088000-1523102400@springfieldparkingauthority.com
SUMMARY:THE NEW ENGLAND DISTRICT KEY CLUB-2018
DESCRIPTION:Parking is available at the I-91 North and South Garages – On the Clock \n 
URL:https://springfieldparkingauthority.com/event/the-new-england-district-key-club-2018-2-2/
LOCATION:Sheraton Hotel\, One Monarch Place\, Springfield\, MA\, 01103\, United States
END:VEVENT
BEGIN:VEVENT
DTSTART;TZID=America/New_York:20180407T080000
DTEND;TZID=America/New_York:20180407T120000
DTSTAMP:20260419T234807
CREATED:20180328T171537Z
LAST-MODIFIED:20180328T171537Z
UID:5081-1523088000-1523102400@springfieldparkingauthority.com
SUMMARY:THE NEW ENGLAND DISTRICT KEY CLUB-2018
DESCRIPTION:Parking is available at the I-91 North and South Garages – On the Clock \n 
URL:https://springfieldparkingauthority.com/event/the-new-england-district-key-club-2018-2/
LOCATION:Sheraton Hotel\, One Monarch Place\, Springfield\, MA\, 01103\, United States
END:VEVENT
BEGIN:VEVENT
DTSTART;TZID=America/New_York:20180407T080000
DTEND;TZID=America/New_York:20180407T220000
DTSTAMP:20260419T234807
CREATED:20180326T172238Z
LAST-MODIFIED:20180326T172238Z
UID:11095-1523088000-1523138400@springfieldparkingauthority.com
SUMMARY:ENCORE CHAMPIONSHIPS
DESCRIPTION:Parking is available at the Civic Center Garage – $7 & $12 Prepay \n 
URL:https://springfieldparkingauthority.com/event/encore-championships-4-2/
LOCATION:MassMutual Center\, 1277 Main Street\, Springfield\, MA\, 01103\, United States
END:VEVENT
BEGIN:VEVENT
DTSTART;TZID=America/New_York:20180407T080000
DTEND;TZID=America/New_York:20180407T220000
DTSTAMP:20260419T234807
CREATED:20180326T172238Z
LAST-MODIFIED:20180326T172238Z
UID:5002-1523088000-1523138400@springfieldparkingauthority.com
SUMMARY:ENCORE CHAMPIONSHIPS
DESCRIPTION:Parking is available at the Civic Center Garage – $7 & $12 Prepay \n 
URL:https://springfieldparkingauthority.com/event/encore-championships-4/
LOCATION:MassMutual Center\, 1277 Main Street\, Springfield\, MA\, 01103\, United States
END:VEVENT
BEGIN:VEVENT
DTSTART;TZID=America/New_York:20180407T150000
DTEND;TZID=America/New_York:20180407T170000
DTSTAMP:20260419T234807
CREATED:20180326T150045Z
LAST-MODIFIED:20180326T150045Z
UID:4983-1523113200-1523120400@springfieldparkingauthority.com
SUMMARY:SPRINGFIELD PUBLIC FORUM
DESCRIPTION:Parking is available at the I-91 North and South Garages – $7 Prepay
URL:https://springfieldparkingauthority.com/event/springfield-public-forum-4/
LOCATION:Symphony Hall\, 34 Court St.\, Springfield\, MA\, 01103\, United States
END:VEVENT
BEGIN:VEVENT
DTSTART;TZID=America/New_York:20180407T150000
DTEND;TZID=America/New_York:20180407T170000
DTSTAMP:20260419T234807
CREATED:20180326T150045Z
LAST-MODIFIED:20180326T150045Z
UID:11086-1523113200-1523120400@springfieldparkingauthority.com
SUMMARY:SPRINGFIELD PUBLIC FORUM
DESCRIPTION:Parking is available at the I-91 North and South Garages – $7 Prepay
URL:https://springfieldparkingauthority.com/event/springfield-public-forum-4-2/
LOCATION:Symphony Hall\, 34 Court St.\, Springfield\, MA\, 01103\, United States
END:VEVENT
BEGIN:VEVENT
DTSTART;TZID=America/New_York:20180407T193000
DTEND;TZID=America/New_York:20180407T220000
DTSTAMP:20260419T234807
CREATED:20180328T171428Z
LAST-MODIFIED:20180328T171428Z
UID:11128-1523129400-1523138400@springfieldparkingauthority.com
SUMMARY:LIVE FROM NASHVILLE
DESCRIPTION:Parking is available at the Columbus Center Garage – Free with Ticket \n 
URL:https://springfieldparkingauthority.com/event/live-from-nashville-2-2/
LOCATION:Columbus Center\, 1 Columbus Center\, Springfield\, MA\, 01103\, United States
END:VEVENT
BEGIN:VEVENT
DTSTART;TZID=America/New_York:20180407T193000
DTEND;TZID=America/New_York:20180407T220000
DTSTAMP:20260419T234807
CREATED:20180328T171428Z
LAST-MODIFIED:20180328T171428Z
UID:5079-1523129400-1523138400@springfieldparkingauthority.com
SUMMARY:LIVE FROM NASHVILLE
DESCRIPTION:Parking is available at the Columbus Center Garage – Free with Ticket \n 
URL:https://springfieldparkingauthority.com/event/live-from-nashville-2/
LOCATION:Columbus Center\, 1 Columbus Center\, Springfield\, MA\, 01103\, United States
END:VEVENT
END:VCALENDAR