BEGIN:VCALENDAR
VERSION:2.0
PRODID:-//Springfield Parking Authority - ECPv6.15.20//NONSGML v1.0//EN
CALSCALE:GREGORIAN
METHOD:PUBLISH
X-ORIGINAL-URL:https://springfieldparkingauthority.com
X-WR-CALDESC:Events for Springfield Parking Authority
REFRESH-INTERVAL;VALUE=DURATION:PT1H
X-Robots-Tag:noindex
X-PUBLISHED-TTL:PT1H
BEGIN:VTIMEZONE
TZID:America/New_York
BEGIN:DAYLIGHT
TZOFFSETFROM:-0500
TZOFFSETTO:-0400
TZNAME:EDT
DTSTART:20170312T070000
END:DAYLIGHT
BEGIN:STANDARD
TZOFFSETFROM:-0400
TZOFFSETTO:-0500
TZNAME:EST
DTSTART:20171105T060000
END:STANDARD
BEGIN:DAYLIGHT
TZOFFSETFROM:-0500
TZOFFSETTO:-0400
TZNAME:EDT
DTSTART:20180311T070000
END:DAYLIGHT
BEGIN:STANDARD
TZOFFSETFROM:-0400
TZOFFSETTO:-0500
TZNAME:EST
DTSTART:20181104T060000
END:STANDARD
BEGIN:DAYLIGHT
TZOFFSETFROM:-0500
TZOFFSETTO:-0400
TZNAME:EDT
DTSTART:20190310T070000
END:DAYLIGHT
BEGIN:STANDARD
TZOFFSETFROM:-0400
TZOFFSETTO:-0500
TZNAME:EST
DTSTART:20191103T060000
END:STANDARD
END:VTIMEZONE
BEGIN:VEVENT
DTSTART;TZID=America/New_York:20180414T070000
DTEND;TZID=America/New_York:20180415T000000
DTSTAMP:20260419T234802
CREATED:20180327T160527Z
LAST-MODIFIED:20180327T160527Z
UID:11115-1523689200-1523750400@springfieldparkingauthority.com
SUMMARY:DANCE XPLOSION
DESCRIPTION:Parking is available at the Civic Center Garage – $7 & $12 Prepay \n 
URL:https://springfieldparkingauthority.com/event/dance-xplosion-9-2/
LOCATION:MassMutual Center\, 1277 Main Street\, Springfield\, MA\, 01103\, United States
END:VEVENT
BEGIN:VEVENT
DTSTART;TZID=America/New_York:20180414T070000
DTEND;TZID=America/New_York:20180415T000000
DTSTAMP:20260419T234802
CREATED:20180327T160527Z
LAST-MODIFIED:20180327T160527Z
UID:5046-1523689200-1523750400@springfieldparkingauthority.com
SUMMARY:DANCE XPLOSION
DESCRIPTION:Parking is available at the Civic Center Garage – $7 & $12 Prepay \n 
URL:https://springfieldparkingauthority.com/event/dance-xplosion-9/
LOCATION:MassMutual Center\, 1277 Main Street\, Springfield\, MA\, 01103\, United States
END:VEVENT
BEGIN:VEVENT
DTSTART;TZID=America/New_York:20180414T080000
DTEND;TZID=America/New_York:20180414T220000
DTSTAMP:20260419T234802
CREATED:20180326T172802Z
LAST-MODIFIED:20180326T172802Z
UID:11103-1523692800-1523743200@springfieldparkingauthority.com
SUMMARY:USA GYMNASTICS REGION 6- LEVEL 9/10 REGIONAL CHAMPIONSHIPS
DESCRIPTION:Parking is available at the Civic Center Garage – $7 & $12 Prepay \n 
URL:https://springfieldparkingauthority.com/event/usa-gymnastics-region-6-level-910-regional-championships-2-2/
LOCATION:MassMutual Center\, 1277 Main Street\, Springfield\, MA\, 01103\, United States
END:VEVENT
BEGIN:VEVENT
DTSTART;TZID=America/New_York:20180414T080000
DTEND;TZID=America/New_York:20180414T220000
DTSTAMP:20260419T234802
CREATED:20180326T172802Z
LAST-MODIFIED:20180326T172802Z
UID:5018-1523692800-1523743200@springfieldparkingauthority.com
SUMMARY:USA GYMNASTICS REGION 6- LEVEL 9/10 REGIONAL CHAMPIONSHIPS
DESCRIPTION:Parking is available at the Civic Center Garage – $7 & $12 Prepay \n 
URL:https://springfieldparkingauthority.com/event/usa-gymnastics-region-6-level-910-regional-championships-2/
LOCATION:MassMutual Center\, 1277 Main Street\, Springfield\, MA\, 01103\, United States
END:VEVENT
BEGIN:VEVENT
DTSTART;TZID=America/New_York:20180414T170000
DTEND;TZID=America/New_York:20180414T180000
DTSTAMP:20260419T234802
CREATED:20180326T174524Z
LAST-MODIFIED:20180326T174524Z
UID:11114-1523725200-1523728800@springfieldparkingauthority.com
SUMMARY:Thunderbirds Prelims Game
DESCRIPTION:Parking is available at the Civic Center Garage – Free with Ticket \n 
URL:https://springfieldparkingauthority.com/event/thunderbirds-prelims-game-12-2/
LOCATION:MassMutual Center\, 1277 Main Street\, Springfield\, MA\, 01103\, United States
END:VEVENT
BEGIN:VEVENT
DTSTART;TZID=America/New_York:20180414T170000
DTEND;TZID=America/New_York:20180414T180000
DTSTAMP:20260419T234802
CREATED:20180326T174524Z
LAST-MODIFIED:20180326T174524Z
UID:5044-1523725200-1523728800@springfieldparkingauthority.com
SUMMARY:Thunderbirds Prelims Game
DESCRIPTION:Parking is available at the Civic Center Garage – Free with Ticket \n 
URL:https://springfieldparkingauthority.com/event/thunderbirds-prelims-game-12/
LOCATION:MassMutual Center\, 1277 Main Street\, Springfield\, MA\, 01103\, United States
END:VEVENT
BEGIN:VEVENT
DTSTART;TZID=America/New_York:20180414T173000
DTEND;TZID=America/New_York:20180414T193000
DTSTAMP:20260419T234802
CREATED:20180406T160812Z
LAST-MODIFIED:20180406T160812Z
UID:11139-1523727000-1523734200@springfieldparkingauthority.com
SUMMARY:SWEET ADELINE'S
DESCRIPTION:Parking is available at the I-91 North and South Garages – On the Clock \n 
URL:https://springfieldparkingauthority.com/event/sweet-adelines-7-2/
LOCATION:Sheraton Hotel\, One Monarch Place\, Springfield\, MA\, 01103\, United States
END:VEVENT
BEGIN:VEVENT
DTSTART;TZID=America/New_York:20180414T173000
DTEND;TZID=America/New_York:20180414T193000
DTSTAMP:20260419T234802
CREATED:20180406T160812Z
LAST-MODIFIED:20180406T160812Z
UID:5106-1523727000-1523734200@springfieldparkingauthority.com
SUMMARY:SWEET ADELINE'S
DESCRIPTION:Parking is available at the I-91 North and South Garages – On the Clock \n 
URL:https://springfieldparkingauthority.com/event/sweet-adelines-7/
LOCATION:Sheraton Hotel\, One Monarch Place\, Springfield\, MA\, 01103\, United States
END:VEVENT
BEGIN:VEVENT
DTSTART;TZID=America/New_York:20180414T190000
DTEND;TZID=America/New_York:20180414T210000
DTSTAMP:20260419T234802
CREATED:20180326T172728Z
LAST-MODIFIED:20180326T172728Z
UID:11102-1523732400-1523739600@springfieldparkingauthority.com
SUMMARY:THUNDERBIRDS VS PROVIDENCE
DESCRIPTION:Parking is available at the Civic Center Garage – Free with Ticket \n 
URL:https://springfieldparkingauthority.com/event/thunderbirds-vs-providence-11-2/
LOCATION:MassMutual Center\, 1277 Main Street\, Springfield\, MA\, 01103\, United States
END:VEVENT
BEGIN:VEVENT
DTSTART;TZID=America/New_York:20180414T190000
DTEND;TZID=America/New_York:20180414T210000
DTSTAMP:20260419T234802
CREATED:20180326T172728Z
LAST-MODIFIED:20180326T172728Z
UID:5016-1523732400-1523739600@springfieldparkingauthority.com
SUMMARY:THUNDERBIRDS VS PROVIDENCE
DESCRIPTION:Parking is available at the Civic Center Garage – Free with Ticket \n 
URL:https://springfieldparkingauthority.com/event/thunderbirds-vs-providence-11/
LOCATION:MassMutual Center\, 1277 Main Street\, Springfield\, MA\, 01103\, United States
END:VEVENT
END:VCALENDAR