BEGIN:VCALENDAR
VERSION:2.0
PRODID:-//Springfield Parking Authority - ECPv6.15.20//NONSGML v1.0//EN
CALSCALE:GREGORIAN
METHOD:PUBLISH
X-WR-CALNAME:Springfield Parking Authority
X-ORIGINAL-URL:https://springfieldparkingauthority.com
X-WR-CALDESC:Events for Springfield Parking Authority
REFRESH-INTERVAL;VALUE=DURATION:PT1H
X-Robots-Tag:noindex
X-PUBLISHED-TTL:PT1H
BEGIN:VTIMEZONE
TZID:America/New_York
BEGIN:DAYLIGHT
TZOFFSETFROM:-0500
TZOFFSETTO:-0400
TZNAME:EDT
DTSTART:20170312T070000
END:DAYLIGHT
BEGIN:STANDARD
TZOFFSETFROM:-0400
TZOFFSETTO:-0500
TZNAME:EST
DTSTART:20171105T060000
END:STANDARD
BEGIN:DAYLIGHT
TZOFFSETFROM:-0500
TZOFFSETTO:-0400
TZNAME:EDT
DTSTART:20180311T070000
END:DAYLIGHT
BEGIN:STANDARD
TZOFFSETFROM:-0400
TZOFFSETTO:-0500
TZNAME:EST
DTSTART:20181104T060000
END:STANDARD
BEGIN:DAYLIGHT
TZOFFSETFROM:-0500
TZOFFSETTO:-0400
TZNAME:EDT
DTSTART:20190310T070000
END:DAYLIGHT
BEGIN:STANDARD
TZOFFSETFROM:-0400
TZOFFSETTO:-0500
TZNAME:EST
DTSTART:20191103T060000
END:STANDARD
END:VTIMEZONE
BEGIN:VEVENT
DTSTART;TZID=America/New_York:20181208T070000
DTEND;TZID=America/New_York:20181208T140000
DTSTAMP:20260420T023951
CREATED:20181128T183208Z
LAST-MODIFIED:20181128T183208Z
UID:6168-1544252400-1544277600@springfieldparkingauthority.com
SUMMARY:HERBALIFE
DESCRIPTION:Parking is available at the I-91 North and South Garages – On the Clock \n 
URL:https://springfieldparkingauthority.com/event/herbalife-3/
LOCATION:Sheraton Hotel\, One Monarch Place\, Springfield\, MA\, 01103\, United States
END:VEVENT
BEGIN:VEVENT
DTSTART;TZID=America/New_York:20181208T070000
DTEND;TZID=America/New_York:20181208T140000
DTSTAMP:20260420T023951
CREATED:20181128T183208Z
LAST-MODIFIED:20181128T183208Z
UID:11535-1544252400-1544277600@springfieldparkingauthority.com
SUMMARY:HERBALIFE
DESCRIPTION:Parking is available at the I-91 North and South Garages – On the Clock \n 
URL:https://springfieldparkingauthority.com/event/herbalife-3-2/
LOCATION:Sheraton Hotel\, One Monarch Place\, Springfield\, MA\, 01103\, United States
END:VEVENT
BEGIN:VEVENT
DTSTART;TZID=America/New_York:20181208T083000
DTEND;TZID=America/New_York:20181208T100000
DTSTAMP:20260420T023951
CREATED:20181126T143054Z
LAST-MODIFIED:20181126T143054Z
UID:11517-1544257800-1544263200@springfieldparkingauthority.com
SUMMARY:BREAKFAST WITH SANTA
DESCRIPTION:Parking is available at the Civic Center Garage – $8 & $13 Prepay \n 
URL:https://springfieldparkingauthority.com/event/breakfast-with-santa-5-2/
LOCATION:MassMutual Center\, 1277 Main Street\, Springfield\, MA\, 01103\, United States
END:VEVENT
BEGIN:VEVENT
DTSTART;TZID=America/New_York:20181208T083000
DTEND;TZID=America/New_York:20181208T100000
DTSTAMP:20260420T023951
CREATED:20181126T143054Z
LAST-MODIFIED:20181126T143054Z
UID:6125-1544257800-1544263200@springfieldparkingauthority.com
SUMMARY:BREAKFAST WITH SANTA
DESCRIPTION:Parking is available at the Civic Center Garage – $8 & $13 Prepay \n 
URL:https://springfieldparkingauthority.com/event/breakfast-with-santa-5/
LOCATION:MassMutual Center\, 1277 Main Street\, Springfield\, MA\, 01103\, United States
END:VEVENT
BEGIN:VEVENT
DTSTART;TZID=America/New_York:20181208T100000
DTEND;TZID=America/New_York:20181208T180000
DTSTAMP:20260420T023951
CREATED:20181126T143212Z
LAST-MODIFIED:20181126T143212Z
UID:6129-1544263200-1544292000@springfieldparkingauthority.com
SUMMARY:WONDERLAND WORKSHOP
DESCRIPTION:Parking is available at the Civic Center Garage – $8 & $13 Prepay \n 
URL:https://springfieldparkingauthority.com/event/wonderland-workshop/
LOCATION:MassMutual Center\, 1277 Main Street\, Springfield\, MA\, 01103\, United States
END:VEVENT
BEGIN:VEVENT
DTSTART;TZID=America/New_York:20181208T100000
DTEND;TZID=America/New_York:20181208T180000
DTSTAMP:20260420T023951
CREATED:20181126T143212Z
LAST-MODIFIED:20181126T143212Z
UID:11518-1544263200-1544292000@springfieldparkingauthority.com
SUMMARY:WONDERLAND WORKSHOP
DESCRIPTION:Parking is available at the Civic Center Garage – $8 & $13 Prepay \n 
URL:https://springfieldparkingauthority.com/event/wonderland-workshop-3/
LOCATION:MassMutual Center\, 1277 Main Street\, Springfield\, MA\, 01103\, United States
END:VEVENT
BEGIN:VEVENT
DTSTART;TZID=America/New_York:20181208T150000
DTEND;TZID=America/New_York:20181208T180000
DTSTAMP:20260420T023951
CREATED:20181126T142938Z
LAST-MODIFIED:20181126T142938Z
UID:11516-1544281200-1544292000@springfieldparkingauthority.com
SUMMARY:THUNDERBIRDS VS CHARLOTTE
DESCRIPTION:Parking is available at the Civic Center Garage – Free with Ticket \n 
URL:https://springfieldparkingauthority.com/event/thunderbirds-vs-charlotte-4-2/
LOCATION:MassMutual Center\, 1277 Main Street\, Springfield\, MA\, 01103\, United States
END:VEVENT
BEGIN:VEVENT
DTSTART;TZID=America/New_York:20181208T150000
DTEND;TZID=America/New_York:20181208T180000
DTSTAMP:20260420T023951
CREATED:20181126T142938Z
LAST-MODIFIED:20181126T142938Z
UID:6123-1544281200-1544292000@springfieldparkingauthority.com
SUMMARY:THUNDERBIRDS VS CHARLOTTE
DESCRIPTION:Parking is available at the Civic Center Garage – Free with Ticket \n 
URL:https://springfieldparkingauthority.com/event/thunderbirds-vs-charlotte-4/
LOCATION:MassMutual Center\, 1277 Main Street\, Springfield\, MA\, 01103\, United States
END:VEVENT
BEGIN:VEVENT
DTSTART;TZID=America/New_York:20181208T173000
DTEND;TZID=America/New_York:20181209T000000
DTSTAMP:20260420T023951
CREATED:20181128T183245Z
LAST-MODIFIED:20181128T183245Z
UID:6170-1544290200-1544313600@springfieldparkingauthority.com
SUMMARY:BAYANHAN HOLIDAY PARTY 2018
DESCRIPTION:Parking is available at the I-91 North and South Garages – On the Clock
URL:https://springfieldparkingauthority.com/event/bayanhan-holiday-party-2018/
LOCATION:Sheraton Hotel\, One Monarch Place\, Springfield\, MA\, 01103\, United States
END:VEVENT
BEGIN:VEVENT
DTSTART;TZID=America/New_York:20181208T173000
DTEND;TZID=America/New_York:20181209T000000
DTSTAMP:20260420T023951
CREATED:20181128T183245Z
LAST-MODIFIED:20181128T183245Z
UID:11536-1544290200-1544313600@springfieldparkingauthority.com
SUMMARY:BAYANHAN HOLIDAY PARTY 2018
DESCRIPTION:Parking is available at the I-91 North and South Garages – On the Clock
URL:https://springfieldparkingauthority.com/event/bayanhan-holiday-party-2018-2/
LOCATION:Sheraton Hotel\, One Monarch Place\, Springfield\, MA\, 01103\, United States
END:VEVENT
BEGIN:VEVENT
DTSTART;TZID=America/New_York:20181208T180000
DTEND;TZID=America/New_York:20181208T220000
DTSTAMP:20260420T023951
CREATED:20181031T175538Z
LAST-MODIFIED:20181031T175538Z
UID:6064-1544292000-1544306400@springfieldparkingauthority.com
SUMMARY:Springfield Symphony Orchestra POPS
DESCRIPTION:Parking is available at the I-91  South Garage – Free with Ticket \n 
URL:https://springfieldparkingauthority.com/event/springfield-symphony-orchestra-pops/
LOCATION:Symphony Hall\, 34 Court St.\, Springfield\, MA\, 01103\, United States
END:VEVENT
BEGIN:VEVENT
DTSTART;TZID=America/New_York:20181208T180000
DTEND;TZID=America/New_York:20181208T220000
DTSTAMP:20260420T023951
CREATED:20181031T175538Z
LAST-MODIFIED:20181031T175538Z
UID:11494-1544292000-1544306400@springfieldparkingauthority.com
SUMMARY:Springfield Symphony Orchestra POPS
DESCRIPTION:Parking is available at the I-91  South Garage – Free with Ticket \n 
URL:https://springfieldparkingauthority.com/event/springfield-symphony-orchestra-pops-2/
LOCATION:Symphony Hall\, 34 Court St.\, Springfield\, MA\, 01103\, United States
END:VEVENT
BEGIN:VEVENT
DTSTART;TZID=America/New_York:20181208T180000
DTEND;TZID=America/New_York:20181209T000000
DTSTAMP:20260420T023951
CREATED:20181128T183326Z
LAST-MODIFIED:20181128T183326Z
UID:11537-1544292000-1544313600@springfieldparkingauthority.com
SUMMARY:BAYSTATE HEALTH 2010
DESCRIPTION:Parking is available at the I-91 North and South Garages – On the Clock \n 
URL:https://springfieldparkingauthority.com/event/baystate-health-2010-2/
LOCATION:Sheraton Hotel\, One Monarch Place\, Springfield\, MA\, 01103\, United States
END:VEVENT
BEGIN:VEVENT
DTSTART;TZID=America/New_York:20181208T180000
DTEND;TZID=America/New_York:20181209T000000
DTSTAMP:20260420T023951
CREATED:20181128T183326Z
LAST-MODIFIED:20181128T183326Z
UID:6172-1544292000-1544313600@springfieldparkingauthority.com
SUMMARY:BAYSTATE HEALTH 2010
DESCRIPTION:Parking is available at the I-91 North and South Garages – On the Clock \n 
URL:https://springfieldparkingauthority.com/event/baystate-health-2010/
LOCATION:Sheraton Hotel\, One Monarch Place\, Springfield\, MA\, 01103\, United States
END:VEVENT
END:VCALENDAR