BEGIN:VCALENDAR
VERSION:2.0
PRODID:-//Springfield Parking Authority - ECPv6.15.20//NONSGML v1.0//EN
CALSCALE:GREGORIAN
METHOD:PUBLISH
X-ORIGINAL-URL:https://springfieldparkingauthority.com
X-WR-CALDESC:Events for Springfield Parking Authority
REFRESH-INTERVAL;VALUE=DURATION:PT1H
X-Robots-Tag:noindex
X-PUBLISHED-TTL:PT1H
BEGIN:VTIMEZONE
TZID:America/New_York
BEGIN:DAYLIGHT
TZOFFSETFROM:-0500
TZOFFSETTO:-0400
TZNAME:EDT
DTSTART:20170312T070000
END:DAYLIGHT
BEGIN:STANDARD
TZOFFSETFROM:-0400
TZOFFSETTO:-0500
TZNAME:EST
DTSTART:20171105T060000
END:STANDARD
BEGIN:DAYLIGHT
TZOFFSETFROM:-0500
TZOFFSETTO:-0400
TZNAME:EDT
DTSTART:20180311T070000
END:DAYLIGHT
BEGIN:STANDARD
TZOFFSETFROM:-0400
TZOFFSETTO:-0500
TZNAME:EST
DTSTART:20181104T060000
END:STANDARD
BEGIN:DAYLIGHT
TZOFFSETFROM:-0500
TZOFFSETTO:-0400
TZNAME:EDT
DTSTART:20190310T070000
END:DAYLIGHT
BEGIN:STANDARD
TZOFFSETFROM:-0400
TZOFFSETTO:-0500
TZNAME:EST
DTSTART:20191103T060000
END:STANDARD
END:VTIMEZONE
BEGIN:VEVENT
DTSTART;TZID=America/New_York:20181209T083000
DTEND;TZID=America/New_York:20181209T123000
DTSTAMP:20260419T092432
CREATED:20181128T183404Z
LAST-MODIFIED:20181128T183404Z
UID:11538-1544344200-1544358600@springfieldparkingauthority.com
SUMMARY:BREAKFAST WITH SANTA 2018
DESCRIPTION:Parking is available at the I-91 North and South Garages – On the Clock \n 
URL:https://springfieldparkingauthority.com/event/breakfast-with-santa-2018-2/
LOCATION:Sheraton Hotel\, One Monarch Place\, Springfield\, MA\, 01103\, United States
END:VEVENT
BEGIN:VEVENT
DTSTART;TZID=America/New_York:20181209T083000
DTEND;TZID=America/New_York:20181209T123000
DTSTAMP:20260419T092432
CREATED:20181128T183404Z
LAST-MODIFIED:20181128T183404Z
UID:6174-1544344200-1544358600@springfieldparkingauthority.com
SUMMARY:BREAKFAST WITH SANTA 2018
DESCRIPTION:Parking is available at the I-91 North and South Garages – On the Clock \n 
URL:https://springfieldparkingauthority.com/event/breakfast-with-santa-2018/
LOCATION:Sheraton Hotel\, One Monarch Place\, Springfield\, MA\, 01103\, United States
END:VEVENT
BEGIN:VEVENT
DTSTART;TZID=America/New_York:20181209T100000
DTEND;TZID=America/New_York:20181209T170000
DTSTAMP:20260419T092432
CREATED:20181126T143323Z
LAST-MODIFIED:20181126T143323Z
UID:11520-1544349600-1544374800@springfieldparkingauthority.com
SUMMARY:VOX CHURCH MEETING
DESCRIPTION:Parking is available at the Civic Center Garage – $8 & $13 Prepay \n 
URL:https://springfieldparkingauthority.com/event/vox-church-meeting-8-2/
LOCATION:MassMutual Center\, 1277 Main Street\, Springfield\, MA\, 01103\, United States
END:VEVENT
BEGIN:VEVENT
DTSTART;TZID=America/New_York:20181209T100000
DTEND;TZID=America/New_York:20181209T170000
DTSTAMP:20260419T092432
CREATED:20181126T143323Z
LAST-MODIFIED:20181126T143323Z
UID:6133-1544349600-1544374800@springfieldparkingauthority.com
SUMMARY:VOX CHURCH MEETING
DESCRIPTION:Parking is available at the Civic Center Garage – $8 & $13 Prepay \n 
URL:https://springfieldparkingauthority.com/event/vox-church-meeting-8/
LOCATION:MassMutual Center\, 1277 Main Street\, Springfield\, MA\, 01103\, United States
END:VEVENT
BEGIN:VEVENT
DTSTART;TZID=America/New_York:20181209T120000
DTEND;TZID=America/New_York:20181209T160000
DTSTAMP:20260419T092432
CREATED:20181128T183445Z
LAST-MODIFIED:20181128T183445Z
UID:11539-1544356800-1544371200@springfieldparkingauthority.com
SUMMARY:TEMPLE OF PRAISE MINISTRIES
DESCRIPTION:Parking is available at the I-91 North and South Garages – On the Clock
URL:https://springfieldparkingauthority.com/event/temple-of-praise-ministries-5-2/
LOCATION:Sheraton Hotel\, One Monarch Place\, Springfield\, MA\, 01103\, United States
END:VEVENT
BEGIN:VEVENT
DTSTART;TZID=America/New_York:20181209T120000
DTEND;TZID=America/New_York:20181209T160000
DTSTAMP:20260419T092432
CREATED:20181128T183445Z
LAST-MODIFIED:20181128T183445Z
UID:6176-1544356800-1544371200@springfieldparkingauthority.com
SUMMARY:TEMPLE OF PRAISE MINISTRIES
DESCRIPTION:Parking is available at the I-91 North and South Garages – On the Clock
URL:https://springfieldparkingauthority.com/event/temple-of-praise-ministries-5/
LOCATION:Sheraton Hotel\, One Monarch Place\, Springfield\, MA\, 01103\, United States
END:VEVENT
BEGIN:VEVENT
DTSTART;TZID=America/New_York:20181209T130000
DTEND;TZID=America/New_York:20181209T160000
DTSTAMP:20260419T092432
CREATED:20181031T175230Z
LAST-MODIFIED:20181031T175230Z
UID:6058-1544360400-1544371200@springfieldparkingauthority.com
SUMMARY:SPIRIT OF SPRINGFIELD
DESCRIPTION:Parking is available at the I-91  South Garage – $8 Prepay \n 
URL:https://springfieldparkingauthority.com/event/spirit-of-springfield-3/
LOCATION:Symphony Hall\, 34 Court St.\, Springfield\, MA\, 01103\, United States
END:VEVENT
BEGIN:VEVENT
DTSTART;TZID=America/New_York:20181209T130000
DTEND;TZID=America/New_York:20181209T160000
DTSTAMP:20260419T092432
CREATED:20181031T175230Z
LAST-MODIFIED:20181031T175230Z
UID:11491-1544360400-1544371200@springfieldparkingauthority.com
SUMMARY:SPIRIT OF SPRINGFIELD
DESCRIPTION:Parking is available at the I-91  South Garage – $8 Prepay \n 
URL:https://springfieldparkingauthority.com/event/spirit-of-springfield-3-2/
LOCATION:Symphony Hall\, 34 Court St.\, Springfield\, MA\, 01103\, United States
END:VEVENT
BEGIN:VEVENT
DTSTART;TZID=America/New_York:20181209T150500
DTEND;TZID=America/New_York:20181209T180000
DTSTAMP:20260419T092432
CREATED:20181126T143252Z
LAST-MODIFIED:20181126T143252Z
UID:11519-1544367900-1544378400@springfieldparkingauthority.com
SUMMARY:THUNDERBIRDS VS BINGHAMTON
DESCRIPTION:Parking is available at the Civic Center Garage – Free with Ticket \n 
URL:https://springfieldparkingauthority.com/event/thunderbirds-vs-binghamton-4-2/
LOCATION:MassMutual Center\, 1277 Main Street\, Springfield\, MA\, 01103\, United States
END:VEVENT
BEGIN:VEVENT
DTSTART;TZID=America/New_York:20181209T150500
DTEND;TZID=America/New_York:20181209T180000
DTSTAMP:20260419T092432
CREATED:20181126T143252Z
LAST-MODIFIED:20181126T143252Z
UID:6131-1544367900-1544378400@springfieldparkingauthority.com
SUMMARY:THUNDERBIRDS VS BINGHAMTON
DESCRIPTION:Parking is available at the Civic Center Garage – Free with Ticket \n 
URL:https://springfieldparkingauthority.com/event/thunderbirds-vs-binghamton-4/
LOCATION:MassMutual Center\, 1277 Main Street\, Springfield\, MA\, 01103\, United States
END:VEVENT
END:VCALENDAR