BEGIN:VCALENDAR
VERSION:2.0
PRODID:-//Springfield Parking Authority - ECPv6.15.20//NONSGML v1.0//EN
CALSCALE:GREGORIAN
METHOD:PUBLISH
X-WR-CALNAME:Springfield Parking Authority
X-ORIGINAL-URL:https://springfieldparkingauthority.com
X-WR-CALDESC:Events for Springfield Parking Authority
REFRESH-INTERVAL;VALUE=DURATION:PT1H
X-Robots-Tag:noindex
X-PUBLISHED-TTL:PT1H
BEGIN:VTIMEZONE
TZID:America/New_York
BEGIN:DAYLIGHT
TZOFFSETFROM:-0500
TZOFFSETTO:-0400
TZNAME:EDT
DTSTART:20180311T070000
END:DAYLIGHT
BEGIN:STANDARD
TZOFFSETFROM:-0400
TZOFFSETTO:-0500
TZNAME:EST
DTSTART:20181104T060000
END:STANDARD
BEGIN:DAYLIGHT
TZOFFSETFROM:-0500
TZOFFSETTO:-0400
TZNAME:EDT
DTSTART:20190310T070000
END:DAYLIGHT
BEGIN:STANDARD
TZOFFSETFROM:-0400
TZOFFSETTO:-0500
TZNAME:EST
DTSTART:20191103T060000
END:STANDARD
BEGIN:DAYLIGHT
TZOFFSETFROM:-0500
TZOFFSETTO:-0400
TZNAME:EDT
DTSTART:20200308T070000
END:DAYLIGHT
BEGIN:STANDARD
TZOFFSETFROM:-0400
TZOFFSETTO:-0500
TZNAME:EST
DTSTART:20201101T060000
END:STANDARD
END:VTIMEZONE
BEGIN:VEVENT
DTSTART;TZID=America/New_York:20190309T070000
DTEND;TZID=America/New_York:20190309T230000
DTSTAMP:20260422T122622
CREATED:20190220T200310Z
LAST-MODIFIED:20190220T200310Z
UID:11659-1552114800-1552172400@springfieldparkingauthority.com
SUMMARY:BEYOND THE STARS TALENT COMPETITION
DESCRIPTION:Parking is available at the Civic Center Garage – $10 & $15 Prepay  \n 
URL:https://springfieldparkingauthority.com/event/beyond-the-stars-talent-competition-8-2/
LOCATION:MassMutual Center\, 1277 Main Street\, Springfield\, MA\, 01103\, United States
END:VEVENT
BEGIN:VEVENT
DTSTART;TZID=America/New_York:20190309T070000
DTEND;TZID=America/New_York:20190309T230000
DTSTAMP:20260422T122622
CREATED:20190220T200310Z
LAST-MODIFIED:20190220T200310Z
UID:6487-1552114800-1552172400@springfieldparkingauthority.com
SUMMARY:BEYOND THE STARS TALENT COMPETITION
DESCRIPTION:Parking is available at the Civic Center Garage – $10 & $15 Prepay  \n 
URL:https://springfieldparkingauthority.com/event/beyond-the-stars-talent-competition-8/
LOCATION:MassMutual Center\, 1277 Main Street\, Springfield\, MA\, 01103\, United States
END:VEVENT
BEGIN:VEVENT
DTSTART;TZID=America/New_York:20190309T080000
DTEND;TZID=America/New_York:20190309T200000
DTSTAMP:20260422T122622
CREATED:20190220T200336Z
LAST-MODIFIED:20190220T200336Z
UID:11660-1552118400-1552161600@springfieldparkingauthority.com
SUMMARY:SHADOW REALMS
DESCRIPTION:Parking is available at the Civic Center Garage – $10 & $15 Prepay  \n 
URL:https://springfieldparkingauthority.com/event/shadow-realms-2/
LOCATION:MassMutual Center\, 1277 Main Street\, Springfield\, MA\, 01103\, United States
END:VEVENT
BEGIN:VEVENT
DTSTART;TZID=America/New_York:20190309T080000
DTEND;TZID=America/New_York:20190309T200000
DTSTAMP:20260422T122622
CREATED:20190220T200336Z
LAST-MODIFIED:20190220T200336Z
UID:6489-1552118400-1552161600@springfieldparkingauthority.com
SUMMARY:SHADOW REALMS
DESCRIPTION:Parking is available at the Civic Center Garage – $10 & $15 Prepay  \n 
URL:https://springfieldparkingauthority.com/event/shadow-realms/
LOCATION:MassMutual Center\, 1277 Main Street\, Springfield\, MA\, 01103\, United States
END:VEVENT
BEGIN:VEVENT
DTSTART;TZID=America/New_York:20190309T190000
DTEND;TZID=America/New_York:20190309T220000
DTSTAMP:20260422T122622
CREATED:20190220T200234Z
LAST-MODIFIED:20190220T200234Z
UID:11658-1552158000-1552168800@springfieldparkingauthority.com
SUMMARY:THUNDERBIRDS VS HARTFORD
DESCRIPTION:Parking is available at the Civic Center Garage – Free with Ticket \n 
URL:https://springfieldparkingauthority.com/event/thunderbirds-vs-hartford-17-2/
LOCATION:MassMutual Center\, 1277 Main Street\, Springfield\, MA\, 01103\, United States
END:VEVENT
BEGIN:VEVENT
DTSTART;TZID=America/New_York:20190309T190000
DTEND;TZID=America/New_York:20190309T220000
DTSTAMP:20260422T122622
CREATED:20190220T200234Z
LAST-MODIFIED:20190220T200234Z
UID:6485-1552158000-1552168800@springfieldparkingauthority.com
SUMMARY:THUNDERBIRDS VS HARTFORD
DESCRIPTION:Parking is available at the Civic Center Garage – Free with Ticket \n 
URL:https://springfieldparkingauthority.com/event/thunderbirds-vs-hartford-17/
LOCATION:MassMutual Center\, 1277 Main Street\, Springfield\, MA\, 01103\, United States
END:VEVENT
BEGIN:VEVENT
DTSTART;TZID=America/New_York:20190309T193000
DTEND;TZID=America/New_York:20190309T220000
DTSTAMP:20260422T122622
CREATED:20190220T200412Z
LAST-MODIFIED:20190220T200412Z
UID:6491-1552159800-1552168800@springfieldparkingauthority.com
SUMMARY:ON BROADWAY
DESCRIPTION:Parking is available at the Civic Center Garage – Free with Pass \n 
URL:https://springfieldparkingauthority.com/event/on-broadway/
LOCATION:Symphony Hall\, 34 Court St.\, Springfield\, MA\, 01103\, United States
END:VEVENT
BEGIN:VEVENT
DTSTART;TZID=America/New_York:20190309T193000
DTEND;TZID=America/New_York:20190309T220000
DTSTAMP:20260422T122622
CREATED:20190220T200412Z
LAST-MODIFIED:20190220T200412Z
UID:11661-1552159800-1552168800@springfieldparkingauthority.com
SUMMARY:ON BROADWAY
DESCRIPTION:Parking is available at the Civic Center Garage – Free with Pass \n 
URL:https://springfieldparkingauthority.com/event/on-broadway-2/
LOCATION:Symphony Hall\, 34 Court St.\, Springfield\, MA\, 01103\, United States
END:VEVENT
END:VCALENDAR