BEGIN:VCALENDAR
VERSION:2.0
PRODID:-//Springfield Parking Authority - ECPv6.15.20//NONSGML v1.0//EN
CALSCALE:GREGORIAN
METHOD:PUBLISH
X-ORIGINAL-URL:https://springfieldparkingauthority.com
X-WR-CALDESC:Events for Springfield Parking Authority
REFRESH-INTERVAL;VALUE=DURATION:PT1H
X-Robots-Tag:noindex
X-PUBLISHED-TTL:PT1H
BEGIN:VTIMEZONE
TZID:America/New_York
BEGIN:DAYLIGHT
TZOFFSETFROM:-0500
TZOFFSETTO:-0400
TZNAME:EDT
DTSTART:20180311T070000
END:DAYLIGHT
BEGIN:STANDARD
TZOFFSETFROM:-0400
TZOFFSETTO:-0500
TZNAME:EST
DTSTART:20181104T060000
END:STANDARD
BEGIN:DAYLIGHT
TZOFFSETFROM:-0500
TZOFFSETTO:-0400
TZNAME:EDT
DTSTART:20190310T070000
END:DAYLIGHT
BEGIN:STANDARD
TZOFFSETFROM:-0400
TZOFFSETTO:-0500
TZNAME:EST
DTSTART:20191103T060000
END:STANDARD
BEGIN:DAYLIGHT
TZOFFSETFROM:-0500
TZOFFSETTO:-0400
TZNAME:EDT
DTSTART:20200308T070000
END:DAYLIGHT
BEGIN:STANDARD
TZOFFSETFROM:-0400
TZOFFSETTO:-0500
TZNAME:EST
DTSTART:20201101T060000
END:STANDARD
END:VTIMEZONE
BEGIN:VEVENT
DTSTART;TZID=America/New_York:20190914T070000
DTEND;TZID=America/New_York:20190914T200000
DTSTAMP:20260419T134434
CREATED:20190823T153347Z
LAST-MODIFIED:20190823T153347Z
UID:7106-1568444400-1568491200@springfieldparkingauthority.com
SUMMARY:MASSACHUSETTS DEMOCRATIC ISSUES CONVENTION
DESCRIPTION:Parking is available at the Civic Center Garage – $10 & $15 Prepay  \n 
URL:https://springfieldparkingauthority.com/event/massachusetts-democratic-issues-convention/
LOCATION:MassMutual Center\, 1277 Main Street\, Springfield\, MA\, 01103\, United States
END:VEVENT
BEGIN:VEVENT
DTSTART;TZID=America/New_York:20190914T070000
DTEND;TZID=America/New_York:20190914T200000
DTSTAMP:20260419T134434
CREATED:20190823T153347Z
LAST-MODIFIED:20190823T153347Z
UID:11920-1568444400-1568491200@springfieldparkingauthority.com
SUMMARY:MASSACHUSETTS DEMOCRATIC ISSUES CONVENTION
DESCRIPTION:Parking is available at the Civic Center Garage – $10 & $15 Prepay  \n 
URL:https://springfieldparkingauthority.com/event/massachusetts-democratic-issues-convention-2/
LOCATION:MassMutual Center\, 1277 Main Street\, Springfield\, MA\, 01103\, United States
END:VEVENT
BEGIN:VEVENT
DTSTART;TZID=America/New_York:20190914T080000
DTEND;TZID=America/New_York:20190914T093000
DTSTAMP:20260419T134434
CREATED:20190829T165328Z
LAST-MODIFIED:20190829T165328Z
UID:11928-1568448000-1568453400@springfieldparkingauthority.com
SUMMARY:Ed Markey For Senate Breakfast
DESCRIPTION:Parking is available at the Civic Center Garage – $10 & $15 Prepay  \n 
URL:https://springfieldparkingauthority.com/event/ed-markey-for-senate-breakfast-2/
LOCATION:MassMutual Center\, 1277 Main Street\, Springfield\, MA\, 01103\, United States
END:VEVENT
BEGIN:VEVENT
DTSTART;TZID=America/New_York:20190914T080000
DTEND;TZID=America/New_York:20190914T093000
DTSTAMP:20260419T134434
CREATED:20190829T165328Z
LAST-MODIFIED:20190829T165328Z
UID:7128-1568448000-1568453400@springfieldparkingauthority.com
SUMMARY:Ed Markey For Senate Breakfast
DESCRIPTION:Parking is available at the Civic Center Garage – $10 & $15 Prepay  \n 
URL:https://springfieldparkingauthority.com/event/ed-markey-for-senate-breakfast/
LOCATION:MassMutual Center\, 1277 Main Street\, Springfield\, MA\, 01103\, United States
END:VEVENT
BEGIN:VEVENT
DTSTART;TZID=America/New_York:20190914T181500
DTEND;TZID=America/New_York:20190914T220000
DTSTAMP:20260419T134434
CREATED:20190904T181115Z
LAST-MODIFIED:20190904T181115Z
UID:11934-1568484900-1568498400@springfieldparkingauthority.com
SUMMARY:FFA BANQUET 2019
DESCRIPTION:Parking is available at the I-91 South Garage – On the Clock \n 
URL:https://springfieldparkingauthority.com/event/ffa-banquet-2019-2/
LOCATION:Sheraton Hotel\, One Monarch Place\, Springfield\, MA\, 01103\, United States
END:VEVENT
BEGIN:VEVENT
DTSTART;TZID=America/New_York:20190914T181500
DTEND;TZID=America/New_York:20190914T220000
DTSTAMP:20260419T134434
CREATED:20190904T181115Z
LAST-MODIFIED:20190904T181115Z
UID:7141-1568484900-1568498400@springfieldparkingauthority.com
SUMMARY:FFA BANQUET 2019
DESCRIPTION:Parking is available at the I-91 South Garage – On the Clock \n 
URL:https://springfieldparkingauthority.com/event/ffa-banquet-2019/
LOCATION:Sheraton Hotel\, One Monarch Place\, Springfield\, MA\, 01103\, United States
END:VEVENT
BEGIN:VEVENT
DTSTART;TZID=America/New_York:20190914T190000
DTEND;TZID=America/New_York:20190914T220000
DTSTAMP:20260419T134434
CREATED:20190910T183016Z
LAST-MODIFIED:20190910T183016Z
UID:11936-1568487600-1568498400@springfieldparkingauthority.com
SUMMARY:GATOR JAZZ PRESENTS WALTER BEASLEY LIVE
DESCRIPTION:Parking is available at the Columbus Center Garage
URL:https://springfieldparkingauthority.com/event/gator-jazz-presents-walter-beasley-live-2/
LOCATION:Columbus Center\, 1 Columbus Center\, Springfield\, MA\, 01103\, United States
END:VEVENT
BEGIN:VEVENT
DTSTART;TZID=America/New_York:20190914T190000
DTEND;TZID=America/New_York:20190914T220000
DTSTAMP:20260419T134434
CREATED:20190910T183016Z
LAST-MODIFIED:20190910T183016Z
UID:7145-1568487600-1568498400@springfieldparkingauthority.com
SUMMARY:GATOR JAZZ PRESENTS WALTER BEASLEY LIVE
DESCRIPTION:Parking is available at the Columbus Center Garage
URL:https://springfieldparkingauthority.com/event/gator-jazz-presents-walter-beasley-live/
LOCATION:Columbus Center\, 1 Columbus Center\, Springfield\, MA\, 01103\, United States
END:VEVENT
END:VCALENDAR