BEGIN:VCALENDAR
VERSION:2.0
PRODID:-//Springfield Parking Authority - ECPv6.15.20//NONSGML v1.0//EN
CALSCALE:GREGORIAN
METHOD:PUBLISH
X-ORIGINAL-URL:https://springfieldparkingauthority.com
X-WR-CALDESC:Events for Springfield Parking Authority
REFRESH-INTERVAL;VALUE=DURATION:PT1H
X-Robots-Tag:noindex
X-PUBLISHED-TTL:PT1H
BEGIN:VTIMEZONE
TZID:America/New_York
BEGIN:DAYLIGHT
TZOFFSETFROM:-0500
TZOFFSETTO:-0400
TZNAME:EDT
DTSTART:20180311T070000
END:DAYLIGHT
BEGIN:STANDARD
TZOFFSETFROM:-0400
TZOFFSETTO:-0500
TZNAME:EST
DTSTART:20181104T060000
END:STANDARD
BEGIN:DAYLIGHT
TZOFFSETFROM:-0500
TZOFFSETTO:-0400
TZNAME:EDT
DTSTART:20190310T070000
END:DAYLIGHT
BEGIN:STANDARD
TZOFFSETFROM:-0400
TZOFFSETTO:-0500
TZNAME:EST
DTSTART:20191103T060000
END:STANDARD
BEGIN:DAYLIGHT
TZOFFSETFROM:-0500
TZOFFSETTO:-0400
TZNAME:EDT
DTSTART:20200308T070000
END:DAYLIGHT
BEGIN:STANDARD
TZOFFSETFROM:-0400
TZOFFSETTO:-0500
TZNAME:EST
DTSTART:20201101T060000
END:STANDARD
END:VTIMEZONE
BEGIN:VEVENT
DTSTART;TZID=America/New_York:20190919T073000
DTEND;TZID=America/New_York:20190919T173000
DTSTAMP:20260420T024742
CREATED:20190910T184011Z
LAST-MODIFIED:20190910T184011Z
UID:11938-1568878200-1568914200@springfieldparkingauthority.com
SUMMARY:MASSACHUSETTS TOWN CLERKS' ASSOCIATION
DESCRIPTION:Parking is available at the I-91  South Garage – On the Clock \n 
URL:https://springfieldparkingauthority.com/event/massachusetts-town-clerks-association-5-2/
LOCATION:Sheraton Hotel\, One Monarch Place\, Springfield\, MA\, 01103\, United States
END:VEVENT
BEGIN:VEVENT
DTSTART;TZID=America/New_York:20190919T073000
DTEND;TZID=America/New_York:20190919T173000
DTSTAMP:20260420T024742
CREATED:20190910T184011Z
LAST-MODIFIED:20190910T184011Z
UID:7151-1568878200-1568914200@springfieldparkingauthority.com
SUMMARY:MASSACHUSETTS TOWN CLERKS' ASSOCIATION
DESCRIPTION:Parking is available at the I-91  South Garage – On the Clock \n 
URL:https://springfieldparkingauthority.com/event/massachusetts-town-clerks-association-5/
LOCATION:Sheraton Hotel\, One Monarch Place\, Springfield\, MA\, 01103\, United States
END:VEVENT
BEGIN:VEVENT
DTSTART;TZID=America/New_York:20190919T080000
DTEND;TZID=America/New_York:20190919T170000
DTSTAMP:20260420T024742
CREATED:20190823T153424Z
LAST-MODIFIED:20190823T153424Z
UID:11921-1568880000-1568912400@springfieldparkingauthority.com
SUMMARY:J. POLEP SHOW 2019
DESCRIPTION:Parking is available at the Civic Center Garage – $10 Prepay \n 
URL:https://springfieldparkingauthority.com/event/j-polep-show-2019-2/
LOCATION:MassMutual Center\, 1277 Main Street\, Springfield\, MA\, 01103\, United States
END:VEVENT
BEGIN:VEVENT
DTSTART;TZID=America/New_York:20190919T080000
DTEND;TZID=America/New_York:20190919T170000
DTSTAMP:20260420T024742
CREATED:20190823T153424Z
LAST-MODIFIED:20190823T153424Z
UID:7108-1568880000-1568912400@springfieldparkingauthority.com
SUMMARY:J. POLEP SHOW 2019
DESCRIPTION:Parking is available at the Civic Center Garage – $10 Prepay \n 
URL:https://springfieldparkingauthority.com/event/j-polep-show-2019/
LOCATION:MassMutual Center\, 1277 Main Street\, Springfield\, MA\, 01103\, United States
END:VEVENT
END:VCALENDAR