BEGIN:VCALENDAR
VERSION:2.0
PRODID:-//Springfield Parking Authority - ECPv6.15.20//NONSGML v1.0//EN
CALSCALE:GREGORIAN
METHOD:PUBLISH
X-ORIGINAL-URL:https://springfieldparkingauthority.com
X-WR-CALDESC:Events for Springfield Parking Authority
REFRESH-INTERVAL;VALUE=DURATION:PT1H
X-Robots-Tag:noindex
X-PUBLISHED-TTL:PT1H
BEGIN:VTIMEZONE
TZID:America/New_York
BEGIN:DAYLIGHT
TZOFFSETFROM:-0500
TZOFFSETTO:-0400
TZNAME:EDT
DTSTART:20180311T070000
END:DAYLIGHT
BEGIN:STANDARD
TZOFFSETFROM:-0400
TZOFFSETTO:-0500
TZNAME:EST
DTSTART:20181104T060000
END:STANDARD
BEGIN:DAYLIGHT
TZOFFSETFROM:-0500
TZOFFSETTO:-0400
TZNAME:EDT
DTSTART:20190310T070000
END:DAYLIGHT
BEGIN:STANDARD
TZOFFSETFROM:-0400
TZOFFSETTO:-0500
TZNAME:EST
DTSTART:20191103T060000
END:STANDARD
BEGIN:DAYLIGHT
TZOFFSETFROM:-0500
TZOFFSETTO:-0400
TZNAME:EDT
DTSTART:20200308T070000
END:DAYLIGHT
BEGIN:STANDARD
TZOFFSETFROM:-0400
TZOFFSETTO:-0500
TZNAME:EST
DTSTART:20201101T060000
END:STANDARD
END:VTIMEZONE
BEGIN:VEVENT
DTSTART;TZID=America/New_York:20190920T070000
DTEND;TZID=America/New_York:20190920T123000
DTSTAMP:20260419T134437
CREATED:20190910T184052Z
LAST-MODIFIED:20190910T184052Z
UID:7153-1568962800-1568982600@springfieldparkingauthority.com
SUMMARY:MASSACHUSETTS TOWN CLERKS' ASSOCIATION
DESCRIPTION:Parking is available at the I-91  South Garage – On the Clock \n 
URL:https://springfieldparkingauthority.com/event/massachusetts-town-clerks-association-6/
LOCATION:Sheraton Hotel\, One Monarch Place\, Springfield\, MA\, 01103\, United States
END:VEVENT
BEGIN:VEVENT
DTSTART;TZID=America/New_York:20190920T070000
DTEND;TZID=America/New_York:20190920T123000
DTSTAMP:20260419T134437
CREATED:20190910T184052Z
LAST-MODIFIED:20190910T184052Z
UID:11939-1568962800-1568982600@springfieldparkingauthority.com
SUMMARY:MASSACHUSETTS TOWN CLERKS' ASSOCIATION
DESCRIPTION:Parking is available at the I-91  South Garage – On the Clock \n 
URL:https://springfieldparkingauthority.com/event/massachusetts-town-clerks-association-6-2/
LOCATION:Sheraton Hotel\, One Monarch Place\, Springfield\, MA\, 01103\, United States
END:VEVENT
BEGIN:VEVENT
DTSTART;TZID=America/New_York:20190920T150000
DTEND;TZID=America/New_York:20190920T170000
DTSTAMP:20260419T134437
CREATED:20190910T184133Z
LAST-MODIFIED:20190910T184133Z
UID:11940-1568991600-1568998800@springfieldparkingauthority.com
SUMMARY:UNIVERSITY OF MASSACHUSETTS
DESCRIPTION:Parking is available at the I-91  South Garage – On the Clock \n 
URL:https://springfieldparkingauthority.com/event/university-of-massachusetts-3/
LOCATION:Sheraton Hotel\, One Monarch Place\, Springfield\, MA\, 01103\, United States
END:VEVENT
BEGIN:VEVENT
DTSTART;TZID=America/New_York:20190920T150000
DTEND;TZID=America/New_York:20190920T170000
DTSTAMP:20260419T134437
CREATED:20190910T184133Z
LAST-MODIFIED:20190910T184133Z
UID:7155-1568991600-1568998800@springfieldparkingauthority.com
SUMMARY:UNIVERSITY OF MASSACHUSETTS
DESCRIPTION:Parking is available at the I-91  South Garage – On the Clock \n 
URL:https://springfieldparkingauthority.com/event/university-of-massachusetts/
LOCATION:Sheraton Hotel\, One Monarch Place\, Springfield\, MA\, 01103\, United States
END:VEVENT
BEGIN:VEVENT
DTSTART;TZID=America/New_York:20190920T173000
DTEND;TZID=America/New_York:20190920T234500
DTSTAMP:20260419T134437
CREATED:20190823T153520Z
LAST-MODIFIED:20190823T153520Z
UID:7110-1569000600-1569023100@springfieldparkingauthority.com
SUMMARY:DROPKICK MURPHYS & CLUTCH
DESCRIPTION:Parking is available at the Civic Center Garage – $10 & $15 Prepay  \n 
URL:https://springfieldparkingauthority.com/event/dropkick-murphys-clutch/
LOCATION:MA
END:VEVENT
BEGIN:VEVENT
DTSTART;TZID=America/New_York:20190920T173000
DTEND;TZID=America/New_York:20190920T234500
DTSTAMP:20260419T134437
CREATED:20190823T153520Z
LAST-MODIFIED:20190823T153520Z
UID:11922-1569000600-1569023100@springfieldparkingauthority.com
SUMMARY:DROPKICK MURPHYS & CLUTCH
DESCRIPTION:Parking is available at the Civic Center Garage – $10 & $15 Prepay  \n 
URL:https://springfieldparkingauthority.com/event/dropkick-murphys-clutch-2/
LOCATION:MA
END:VEVENT
END:VCALENDAR